Data-Nested v3.12 Perl 5 v5.8.9 x86_64-linux

Status
Pass
From
Serguei Trouchelle (STRO)
Dist
Data-Nested v3.12
Platform
Perl 5 v5.8.9 x86_64-linux
Date
2011-08-05 03:28:37
ID
01f73c34-bf13-11e0-94a1-a00712b74e2c
This distribution has been tested as part of the CPAN Testers
project, supporting the Perl programming language.  See
http://wiki.cpantesters.org/ for more information or email
questions to cpan-testers-discuss@perl.org


--
Dear Sullivan Beck,

This is a computer-generated report for Data-Nested-3.12
on perl 5.8.9, created by CPAN-Reporter-1.1902.

Thank you for uploading your work to CPAN.  Congratulations!
All tests were successful.

Sections of this report:

    * Tester comments
    * Program output
    * Prerequisites
    * Environment and other context

------------------------------
TESTER COMMENTS
------------------------------

Additional comments from tester:

this report is from an automated smoke testing program
and was not reviewed by a human for accuracy

------------------------------
PROGRAM OUTPUT
------------------------------

Output from './Build test':

t/dn_check_structure.t ......... ok
t/dn_check_value.t ............. ok
t/dn_delim.t ................... ok
t/dn_empty_1.t ................. ok
t/dn_empty_2.t ................. ok
t/dn_erase_1.t ................. ok
t/dn_erase_2.t ................. ok
t/dn_erase_3.t ................. ok
t/dn_get_merge.t ............... ok
t/dn_get_structure.t ........... ok
t/dn_identical.t ............... ok
t/dn_keys.t .................... ok
t/dn_merge_1.t ................. ok
t/dn_merge_2.t ................. ok
t/dn_merge_path_1.t ............ ok
t/dn_merge_path_2.t ............ ok
t/dn_merge_path_3.t ............ ok
t/dn_nds_1.t ................... ok
t/dn_nds_2.t ................... ok
t/dn_nds_3.t ................... ok
t/dn_path_1.t .................. ok
t/dn_path_2.t .................. ok
t/dn_paths.t ................... ok
t/dn_ruleset.t ................. ok
t/dn_ruleset_valid.t ........... ok
t/dn_set_merge.t ............... ok
t/dn_set_structure.t ........... ok
t/dn_test_conditions.hash.t .... ok
t/dn_test_conditions.list.t .... ok
t/dn_test_conditions.scalar.t .. ok
t/dn_value.t ................... ok
t/dn_values.t .................. ok
t/dn_which_1.t ................. ok
t/dn_which_2.t ................. ok
t/me.add_ele.hash.t ............ ok
t/me.add_ele.list.t ............ ok
t/me.add_ele.olist.t ........... ok
t/me.copy_hash.t ............... ok
t/me.copy_list.t ............... ok
t/me.default_element.hash.t .... ok
t/me.default_element.list.t .... ok
t/me.default_element.olist.t ... ok
t/me.delete_ele.hash.t ......... ok
t/me.delete_ele.list.t ......... ok
t/me.ele.hash.t ................ ok
t/me.ele.list.t ................ ok
t/me.eles.hash.t ............... ok
t/me.eles.list.t ............... ok
t/me.file.hash.error.t ......... ok
t/me.file.hash.t ............... ok
t/me.file.list.error.t ......... ok
t/me.file.list.t ............... ok
t/me.is_default_value.hash.t ... ok
t/me.keys.t .................... ok
t/me.path_in_use.t ............. ok
t/me.path_valid.t .............. ok
t/me.path_values.hash.t ........ ok
t/me.path_values.list.t ........ ok
t/me.rename_ele.hash.t ......... ok
t/me.rename_ele.olist.t ........ ok
t/me.update_ele.t .............. ok
t/me.value.t ................... ok
t/me.values.t .................. ok
t/me.which.hash.t .............. ok
t/me.which.list.t .............. ok
t/mf.add_ele.hash.t ............ ok
t/mf.add_ele.list.t ............ ok
t/mf.copy_hash.t ............... ok
t/mf.copy_list.t ............... ok
t/mf.default_element.hash.t .... ok
t/mf.default_element.list.t .... ok
t/mf.delete_ele.hash.t ......... ok
t/mf.delete_ele.list.t ......... ok
t/mf.ele.hash.t ................ ok
t/mf.ele.list.t ................ ok
t/mf.eles.hash.t ............... ok
t/mf.eles.list.t ............... ok
t/mf.file.hash.error.t ......... ok
t/mf.file.hash.t ............... ok
t/mf.file.list.error.t ......... ok
t/mf.file.list.t ............... ok
t/mf.is_default_value.hash.t ... ok
t/mf.keys.t .................... ok
t/mf.path_in_use.t ............. ok
t/mf.path_valid.t .............. ok
t/mf.path_values.hash.t ........ ok
t/mf.path_values.list.t ........ ok
t/mf.rename_ele.hash.t ......... ok
t/mf.update_ele.t .............. ok
t/mf.value.t ................... ok
t/mf.values.t .................. ok
t/mf.which.hash.t .............. ok
t/mf.which.list.t .............. ok
t/pod.t ........................ ok
t/pod_coverage.t ............... ok
All tests successful.
Files=95, Tests=850, 15 wallclock secs ( 0.36 usr  0.14 sys +  4.29 cusr  0.82 csys =  5.61 CPU)
Result: PASS

------------------------------
PREREQUISITES
------------------------------

Prerequisite modules loaded:

requires:

    Module             Need  Have    
    ------------------ ----- --------
    Algorithm::Permute 0     0.12    
    IO::File           0     1.14    
    perl               5.001 5.008009
    Storable           0     2.30    
    YAML::Syck         0     1.17    

configure_requires:

    Module             Need  Have    
    ------------------ ----- --------
    Module::Build      0.36  0.3800  


------------------------------
ENVIRONMENT AND OTHER CONTEXT
------------------------------

Environment variables:

    AUTOMATED_TESTING = 1
    LANG = en_US.UTF-8
    LANGUAGE = en
    LC_COLLATE = C
    LC_MONETARY = C
    LC_NUMERIC = C
    LC_TIME = C
    PATH = /usr/local/sbin:/usr/local/bin:/usr/sbin:/usr/bin:/sbin:/bin
    PERL5LIB = 
    PERL5OPT = 
    PERL5_CPANPLUS_IS_RUNNING = 27873
    PERL5_CPAN_IS_RUNNING = 27873
    PERL5_CPAN_IS_RUNNING_IN_RECURSION = 2687,27873
    PERL_CR_SMOKER_CURRENT = Data-Nested-3.12
    PERL_EXTUTILS_AUTOINSTALL = --defaultdeps
    PERL_MM_USE_DEFAULT = 1
    SHELL = /bin/bash
    TERM = xterm

Perl special variables (and OS-specific diagnostics, for MSWin32):

    $^X = /home/trushel/perl/perl589m/bin/perl
    $UID/$EUID = 138375 / 138375
    $GID = 5762 4 20 21 24 25 26 30 44 46 104 105 119 122 431 5762
    $EGID = 5762 4 20 21 24 25 26 30 44 46 104 105 119 122 431 5762

Perl module toolchain versions installed:

    Module              Have    
    ------------------- --------
    CPAN                1.97_51 
    Cwd                 3.33    
    ExtUtils::CBuilder  0.280202
    ExtUtils::Command   1.16    
    ExtUtils::Install   1.54    
    ExtUtils::MakeMaker 6.58    
    ExtUtils::Manifest  1.58    
    ExtUtils::ParseXS   2.2206  
    File::Spec          3.33    
    Module::Build       0.3800  
    Module::Signature   n/a     
    Test::Harness       3.23    
    Test::More          0.98    
    YAML                0.73    
    YAML::Syck          1.17    
    version             0.93    


--

Summary of my perl5 (revision 5 version 8 subversion 9) configuration:
  Platform:
    osname=linux, osvers=2.6.32-33-generic, archname=x86_64-linux-multi
    uname='linux trushel-glaptop 2.6.32-33-generic #70-ubuntu smp thu jul 7 21:13:52 utc 2011 x86_64 gnulinux '
    config_args=''
    hint=recommended, useposix=true, d_sigaction=define
    usethreads=undef use5005threads=undef useithreads=undef usemultiplicity=define
    useperlio=define d_sfio=undef uselargefiles=define usesocks=undef
    use64bitint=define use64bitall=define uselongdouble=undef
    usemymalloc=n, bincompat5005=undef
  Compiler:
    cc='cc', ccflags ='-fno-strict-aliasing -pipe -I/usr/local/include -D_LARGEFILE_SOURCE -D_FILE_OFFSET_BITS=64',
    optimize='-O2',
    cppflags='-fno-strict-aliasing -pipe -I/usr/local/include'
    ccversion='', gccversion='4.4.3', gccosandvers=''
    intsize=4, longsize=8, ptrsize=8, doublesize=8, byteorder=12345678
    d_longlong=define, longlongsize=8, d_longdbl=define, longdblsize=16
    ivtype='long', ivsize=8, nvtype='double', nvsize=8, Off_t='off_t', lseeksize=8
    alignbytes=8, prototype=define
  Linker and Libraries:
    ld='cc', ldflags =' -L/usr/local/lib'
    libpth=/usr/local/lib /lib /usr/lib /lib64 /usr/lib64
    libs=-lnsl -ldb -ldl -lm -lcrypt -lutil -lc
    perllibs=-lnsl -ldl -lm -lcrypt -lutil -lc
    libc=/lib/libc-2.11.1.so, so=so, useshrplib=false, libperl=libperl.a
    gnulibc_version='2.11.1'
  Dynamic Linking:
    dlsrc=dl_dlopen.xs, dlext=so, d_dlsymun=undef, ccdlflags='-Wl,-E'
    cccdlflags='-fPIC', lddlflags='-shared -O2 -L/usr/local/lib'


Characteristics of this binary (from libperl): 
  Compile-time options: MULTIPLICITY PERL_IMPLICIT_CONTEXT PERL_MALLOC_WRAP
                        USE_64_BIT_ALL USE_64_BIT_INT USE_FAST_STDIO
                        USE_LARGE_FILES USE_PERLIO
  Built under linux
  Compiled at Aug  1 2011 06:32:31
  %ENV:
    PERL5LIB=""
    PERL5OPT=""
    PERL5_CPANPLUS_IS_RUNNING="27873"
    PERL5_CPAN_IS_RUNNING="27873"
    PERL5_CPAN_IS_RUNNING_IN_RECURSION="2687,27873"
    PERL_CR_SMOKER_CURRENT="Data-Nested-3.12"
    PERL_EXTUTILS_AUTOINSTALL="--defaultdeps"
    PERL_MM_USE_DEFAULT="1"
  @INC:
    /home/trushel/perl/perl589m/lib/5.8.9/x86_64-linux-multi
    /home/trushel/perl/perl589m/lib/5.8.9
    /home/trushel/perl/perl589m/lib/site_perl/5.8.9/x86_64-linux-multi
    /home/trushel/perl/perl589m/lib/site_perl/5.8.9
    .