Algorithm-Huffman v0.09 Perl 5 v5.8.9 i686-linux

Status
Fail
From
Daniel Bosold (DEVOGON)
Dist
Algorithm-Huffman v0.09
Platform
Perl 5 v5.8.9 i686-linux
Date
2010-11-10 22:51:08
ID
02207a72-ed1d-11df-afd9-9ea84e0b5c54
This distribution has been tested as part of the CPAN Testers
project, supporting the Perl programming language.  See
http://wiki.cpantesters.org/ for more information or email
questions to cpan-testers-discuss@perl.org


--
Dear Janek Schleicher,

This is a computer-generated report for Algorithm-Huffman-0.09
on perl 5.8.9, created by CPAN-Reporter-1.1803.

Thank you for uploading your work to CPAN.  However, there was a problem
testing your distribution.

If you think this report is invalid, please consult the CPAN Testers Wiki
for suggestions on how to avoid getting FAIL reports for missing library
or binary dependencies, unsupported operating systems, and so on:

http://wiki.cpantesters.org/wiki/CPANAuthorNotes

Sections of this report:

    * Tester comments
    * Program output
    * Prerequisites
    * Environment and other context

------------------------------
TESTER COMMENTS
------------------------------

Additional comments from tester:

this report is from an automated smoke testing program
and was not reviewed by a human for accuracy

------------------------------
PROGRAM OUTPUT
------------------------------

Output from '/usr/bin/make test':

PERL_DL_NONLAZY=1 /home/cpt3/testing/perl-5.8.9/bin/perl "-MExtUtils::Command::MM" "-e" "test_harness(0, 'blib/lib', 'blib/arch')" t/*.t
t/1......................ok
t/create_huffman_tree....Can't coerce array into hash at /home/cpt3/.cpan/build/Algorithm-Huffman-0.09-tTYch3/blib/lib/Algorithm/Huffman.pm line 198.
# Looks like your test died before it could output anything.
dubious
	Test returned status 255 (wstat 65280, 0xff00)
DIED. FAILED tests 1-13
	Failed 13/13 tests, 0.00% okay
t/encode_bitstring.......Can't coerce array into hash at /home/cpt3/.cpan/build/Algorithm-Huffman-0.09-tTYch3/blib/lib/Algorithm/Huffman.pm line 198.
# Looks like your test died before it could output anything.
dubious
	Test returned status 255 (wstat 65280, 0xff00)
DIED. FAILED tests 1-102
	Failed 102/102 tests, 0.00% okay
t/wrong_parameter........
#   Failed test '->new({a => 1, b => 1})'
#   at t/wrong_parameter.t line 42.
# died: Can't coerce array into hash at /home/cpt3/.cpan/build/Algorithm-Huffman-0.09-tTYch3/blib/lib/Algorithm/Huffman.pm line 198.

#   Failed test '->new({a => 1, b => 1, c => 0})'
#   at t/wrong_parameter.t line 51.
# died: Can't coerce array into hash at /home/cpt3/.cpan/build/Algorithm-Huffman-0.09-tTYch3/blib/lib/Algorithm/Huffman.pm line 198.
# Looks like you failed 2 tests of 10.
dubious
	Test returned status 2 (wstat 512, 0x200)
DIED. FAILED tests 7, 9
	Failed 2/10 tests, 80.00% okay
Failed Test             Stat Wstat Total Fail  List of Failed
-------------------------------------------------------------------------------
t/create_huffman_tree.t  255 65280    13   26  1-13
t/encode_bitstring.t     255 65280   102  204  1-102
t/wrong_parameter.t        2   512    10    2  7 9
Failed 3/4 test scripts. 117/126 subtests failed.
Files=4, Tests=126,  0 wallclock secs ( 0.19 cusr +  0.01 csys =  0.20 CPU)
Failed 3/4 test programs. 117/126 subtests failed.
make: *** [test_dynamic] Error 2

------------------------------
PREREQUISITES
------------------------------

Prerequisite modules loaded:

requires:

    Module           Need Have    
    ---------------- ---- --------
    Carp             0    1.10    
    Data::Dumper     0    2.121_17
    Heap             0    0.80    
    Heap::Elem       0    0.80    
    Heap::Fibonacci  0    0.80    
    List::Util       0    1.19    
    String::Random   0    0.22    
    Test::Exception  0    0.31    
    Test::ManyParams 0.04 0.10    
    Test::More       0    0.80    
    Tree::DAG_Node   0    1.06    


------------------------------
ENVIRONMENT AND OTHER CONTEXT
------------------------------

Environment variables:

    AUTOMATED_TESTING = 1
    LANG = en_US.utf8
    PATH = /usr/local/bin:/usr/bin:/bin:/usr/local/games:/usr/games
    PERL5LIB = /home/cpt3/.cpan/build/Tree-DAG_Node-1.06-2d_hr4/blib/arch:/home/cpt3/.cpan/build/Tree-DAG_Node-1.06-2d_hr4/blib/lib:/home/cpt3/.cpan/build/String-Random-0.22-3OVbCb/blib/arch:/home/cpt3/.cpan/build/String-Random-0.22-3OVbCb/blib/lib:/home/cpt3/.cpan/build/Test-ManyParams-0.10-0nDAwk/blib/arch:/home/cpt3/.cpan/build/Test-ManyParams-0.10-0nDAwk/blib/lib:/home/cpt3/.cpan/build/Set-CrossProduct-1.94-w5SQnI/blib/arch:/home/cpt3/.cpan/build/Set-CrossProduct-1.94-w5SQnI/blib/lib:/home/cpt3/.cpan/build/Test-Differences-0.500-u3Q15p/blib/arch:/home/cpt3/.cpan/build/Test-Differences-0.500-u3Q15p/blib/lib:/home/cpt3/.cpan/build/Text-Diff-1.37-MqBvNf/blib/arch:/home/cpt3/.cpan/build/Text-Diff-1.37-MqBvNf/blib/lib:/home/cpt3/.cpan/build/Algorithm-Diff-1.1902-zmdYEA/blib/arch:/home/cpt3/.cpan/build/Algorithm-Diff-1.1902-zmdYEA/blib/lib:/home/cpt3/.cpan/build/Heap-0.80-VzZD1r/blib/arch:/home/cpt3/.cpan/build/Heap-0.80-VzZD1r/blib/lib
    PERL5OPT = 
    PERL5_CPANPLUS_IS_RUNNING = 32735
    PERL5_CPAN_IS_RUNNING = 32735
    PERL5_CPAN_IS_RUNNING_IN_RECURSION = 10474,32735
    PERL_CR_SMOKER_CURRENT = Algorithm-Huffman-0.09
    PERL_EXTUTILS_AUTOINSTALL = --defaultdeps
    PERL_MM_USE_DEFAULT = 1
    SHELL = /bin/bash
    TERM = screen

Perl special variables (and OS-specific diagnostics, for MSWin32):

    $^X = /home/cpt3/testing/perl-5.8.9/bin/perl
    $UID/$EUID = 1004 / 1004
    $GID = 1004 20 24 25 27 29 30 44 46 100 103 111 113 114 1004
    $EGID = 1004 20 24 25 27 29 30 44 46 100 103 111 113 114 1004

Perl module toolchain versions installed:

    Module              Have   
    ------------------- -------
    CPAN                1.9301 
    Cwd                 3.29   
    ExtUtils::CBuilder  0.2703 
    ExtUtils::Command   1.15   
    ExtUtils::Install   1.50_01
    ExtUtils::MakeMaker 6.48   
    ExtUtils::Manifest  1.55   
    ExtUtils::ParseXS   2.19   
    File::Spec          3.29   
    Module::Build       0.3607 
    Module::Signature   n/a    
    Test::Harness       2.64   
    Test::More          0.80   
    YAML                0.72   
    YAML::Syck          n/a    
    version             n/a    


--

Summary of my perl5 (revision 5 version 8 subversion 9) configuration:
  Platform:
    osname=linux, osvers=2.6.35-4.slh.9-aptosid-686, archname=i686-linux
    uname='linux firenze 2.6.35-4.slh.9-aptosid-686 #1 smp preempt mon sep 13 16:40:35 utc 2010 i686 gnulinux '
    config_args='-Dprefix=/home/cpt3/testing/perl-5.8.9'
    hint=recommended, useposix=true, d_sigaction=define
    usethreads=undef use5005threads=undef useithreads=undef usemultiplicity=undef
    useperlio=define d_sfio=undef uselargefiles=define usesocks=undef
    use64bitint=undef use64bitall=undef uselongdouble=undef
    usemymalloc=n, bincompat5005=undef
  Compiler:
    cc='cc', ccflags ='-fno-strict-aliasing -pipe -I/usr/local/include -D_LARGEFILE_SOURCE -D_FILE_OFFSET_BITS=64',
    optimize='-O2',
    cppflags='-fno-strict-aliasing -pipe -I/usr/local/include'
    ccversion='', gccversion='4.4.5', gccosandvers=''
    intsize=4, longsize=4, ptrsize=4, doublesize=8, byteorder=1234
    d_longlong=define, longlongsize=8, d_longdbl=define, longdblsize=12
    ivtype='long', ivsize=4, nvtype='double', nvsize=8, Off_t='off_t', lseeksize=8
    alignbytes=4, prototype=define
  Linker and Libraries:
    ld='cc', ldflags =' -L/usr/local/lib'
    libpth=/usr/local/lib /lib /usr/lib
    libs=-lnsl -lgdbm -ldb -ldl -lm -lcrypt -lutil -lc
    perllibs=-lnsl -ldl -lm -lcrypt -lutil -lc
    libc=/lib/libc-2.11.2.so, so=so, useshrplib=false, libperl=libperl.a
    gnulibc_version='2.11.2'
  Dynamic Linking:
    dlsrc=dl_dlopen.xs, dlext=so, d_dlsymun=undef, ccdlflags='-Wl,-E'
    cccdlflags='-fPIC', lddlflags='-shared -O2 -L/usr/local/lib'


Characteristics of this binary (from libperl): 
  Compile-time options: PERL_MALLOC_WRAP USE_FAST_STDIO USE_LARGE_FILES
                        USE_PERLIO
  Built under linux
  Compiled at Oct 11 2010 12:18:13
  %ENV:
    PERL5LIB="/home/cpt3/.cpan/build/Tree-DAG_Node-1.06-2d_hr4/blib/arch:/home/cpt3/.cpan/build/Tree-DAG_Node-1.06-2d_hr4/blib/lib:/home/cpt3/.cpan/build/String-Random-0.22-3OVbCb/blib/arch:/home/cpt3/.cpan/build/String-Random-0.22-3OVbCb/blib/lib:/home/cpt3/.cpan/build/Test-ManyParams-0.10-0nDAwk/blib/arch:/home/cpt3/.cpan/build/Test-ManyParams-0.10-0nDAwk/blib/lib:/home/cpt3/.cpan/build/Set-CrossProduct-1.94-w5SQnI/blib/arch:/home/cpt3/.cpan/build/Set-CrossProduct-1.94-w5SQnI/blib/lib:/home/cpt3/.cpan/build/Test-Differences-0.500-u3Q15p/blib/arch:/home/cpt3/.cpan/build/Test-Differences-0.500-u3Q15p/blib/lib:/home/cpt3/.cpan/build/Text-Diff-1.37-MqBvNf/blib/arch:/home/cpt3/.cpan/build/Text-Diff-1.37-MqBvNf/blib/lib:/home/cpt3/.cpan/build/Algorithm-Diff-1.1902-zmdYEA/blib/arch:/home/cpt3/.cpan/build/Algorithm-Diff-1.1902-zmdYEA/blib/lib:/home/cpt3/.cpan/build/Heap-0.80-VzZD1r/blib/arch:/home/cpt3/.cpan/build/Heap-0.80-VzZD1r/blib/lib"
    PERL5OPT=""
    PERL5_CPANPLUS_IS_RUNNING="32735"
    PERL5_CPAN_IS_RUNNING="32735"
    PERL5_CPAN_IS_RUNNING_IN_RECURSION="10474,32735"
    PERL_CR_SMOKER_CURRENT="Algorithm-Huffman-0.09"
    PERL_EXTUTILS_AUTOINSTALL="--defaultdeps"
    PERL_MM_USE_DEFAULT="1"
  @INC:
    /home/cpt3/.cpan/build/Tree-DAG_Node-1.06-2d_hr4/blib/arch
    /home/cpt3/.cpan/build/Tree-DAG_Node-1.06-2d_hr4/blib/lib
    /home/cpt3/.cpan/build/String-Random-0.22-3OVbCb/blib/arch
    /home/cpt3/.cpan/build/String-Random-0.22-3OVbCb/blib/lib
    /home/cpt3/.cpan/build/Test-ManyParams-0.10-0nDAwk/blib/arch
    /home/cpt3/.cpan/build/Test-ManyParams-0.10-0nDAwk/blib/lib
    /home/cpt3/.cpan/build/Set-CrossProduct-1.94-w5SQnI/blib/arch
    /home/cpt3/.cpan/build/Set-CrossProduct-1.94-w5SQnI/blib/lib
    /home/cpt3/.cpan/build/Test-Differences-0.500-u3Q15p/blib/arch
    /home/cpt3/.cpan/build/Test-Differences-0.500-u3Q15p/blib/lib
    /home/cpt3/.cpan/build/Text-Diff-1.37-MqBvNf/blib/arch
    /home/cpt3/.cpan/build/Text-Diff-1.37-MqBvNf/blib/lib
    /home/cpt3/.cpan/build/Algorithm-Diff-1.1902-zmdYEA/blib/arch
    /home/cpt3/.cpan/build/Algorithm-Diff-1.1902-zmdYEA/blib/lib
    /home/cpt3/.cpan/build/Heap-0.80-VzZD1r/blib/arch
    /home/cpt3/.cpan/build/Heap-0.80-VzZD1r/blib/lib
    /home/cpt3/testing/perl-5.8.9/lib/5.8.9/i686-linux
    /home/cpt3/testing/perl-5.8.9/lib/5.8.9
    /home/cpt3/testing/perl-5.8.9/lib/site_perl/5.8.9/i686-linux
    /home/cpt3/testing/perl-5.8.9/lib/site_perl/5.8.9
    .