Mail-ListDetector v1.04 Perl 5 v5.15.4 i86pc-solaris-64int

Status
Pass
From
Jost Krieger
Dist
Mail-ListDetector v1.04
Platform
Perl 5 v5.15.4 i86pc-solaris-64int
Date
2011-11-07 05:33:23
ID
024739da-0902-11e1-ac54-3ddb4d35b10c
This distribution has been tested as part of the CPAN Testers
project, supporting the Perl programming language.  See
http://wiki.cpantesters.org/ for more information or email
questions to cpan-testers-discuss@perl.org


--
Dear Michael Stevens,

This is a computer-generated report for Mail-ListDetector-1.04
on perl 5.15.4, created by CPAN-Reporter-1.2002.

Thank you for uploading your work to CPAN.  Congratulations!
All tests were successful.

Sections of this report:

    * Tester comments
    * Program output
    * Prerequisites
    * Environment and other context

------------------------------
TESTER COMMENTS
------------------------------

Additional comments from tester:

this report is from an automated smoke testing program
and was not reviewed by a human for accuracy

------------------------------
PROGRAM OUTPUT
------------------------------

Output from '/usr/local/bin/make test':

PERL_DL_NONLAZY=1 /export/home/cpant4/perl5/bin/perl5.15.4 "-MExtUtils::Command::MM" "-e" "test_harness(0, 'blib/lib', 'blib/arch')" t/*.t
t/01_require.t ............... ok
t/02_regular_mail.t .......... ok
t/03_mailman.t ............... ok
t/04_ezmlm.t ................. ok
t/05_smartlist.t ............. ok
t/06_majordomo.t ............. ok
t/07_sympa.t ................. ok
t/08_listar.t ................ ok
t/09_yahoogroups.t ........... ok
t/10_mailman_dot.t ........... ok
t/12_ecartis.t ............... ok
t/13_fml.t ................... ok
t/14_communigatepro.t ........ ok
t/15_listbox.t ............... ok
t/16_fml_announce.t .......... ok
t/17_listserv.t .............. ok
t/18_listserv.t .............. ok
t/19_communigate.t ........... ok
t/20_communigatepro.t ........ ok
t/21_rfc2919.t ............... ok
t/22_listserv.t .............. ok
t/23_autoshare.t ............. ok
t/24_autoshare.t ............. ok
t/25_letterrip.t ............. ok
t/26_letterrip.t ............. ok
t/27_liststar.t .............. ok
t/28_liststar.t .............. ok
t/29_liststar.t .............. ok
t/30_liststar.t .............. ok
t/31_lyris.t ................. ok
t/32_lyris.t ................. ok
t/33_lyris.t ................. ok
t/34_lyris.t ................. ok
t/35_lyris.t ................. ok
t/36_lyris.t ................. ok
t/37_impossible_majordomo.t .. ok
t/38_majordomo.t ............. ok
t/39_googlegroups.t .......... ok
t/40_onelist.t ............... ok
t/41_pod.t ................... ok
t/42_pod_coverage.t .......... ok
All tests successful.
Files=41, Tests=240,  8 wallclock secs ( 0.17 usr  0.08 sys +  6.72 cusr  0.80 csys =  7.77 CPU)
Result: PASS

------------------------------
PREREQUISITES
------------------------------

Prerequisite modules loaded:

requires:

    Module              Need  Have 
    ------------------- ----- -----
    Carp                0     1.23 
    Email::Abstract     3.001 3.004
    Email::Valid        0.182 0.185
    Mail::Internet      2.04  2.08 
    Test::More          0.08  0.98 
    URI                 1.1   1.59 

build_requires:

    Module              Need  Have 
    ------------------- ----- -----
    ExtUtils::MakeMaker 0     6.62 

configure_requires:

    Module              Need  Have 
    ------------------- ----- -----
    ExtUtils::MakeMaker 0     6.62 


------------------------------
ENVIRONMENT AND OTHER CONTEXT
------------------------------

Environment variables:

    AUTOMATED_TESTING = 1
    LANG = C
    LD_LIBRARY_PATH = /usr/local/lib:
    PATH = /export/home/cpant4/perl5/bin:/usr/local/bin:/usr/bin
    PERL5LIB = /export/home/cpant4/.cpan/build/Email-Valid-0.185-H5m9GJ/blib/arch:/export/home/cpant4/.cpan/build/Email-Valid-0.185-H5m9GJ/blib/lib:/export/home/cpant4/.cpan/build/Email-Abstract-3.004-AQ4Xbj/blib/arch:/export/home/cpant4/.cpan/build/Email-Abstract-3.004-AQ4Xbj/blib/lib
    PERL5OPT = 
    PERL5_CPANPLUS_IS_RUNNING = 26747
    PERL5_CPAN_IS_RUNNING = 26747
    PERL5_CPAN_IS_RUNNING_IN_RECURSION = 8306,26747
    PERL_CR_SMOKER_CURRENT = Mail-ListDetector-1.04
    PERL_EXTUTILS_AUTOINSTALL = --defaultdeps
    PERL_MM_USE_DEFAULT = 1
    SHELL = /bin/bash
    TERM = xterm

Perl special variables (and OS-specific diagnostics, for MSWin32):

    $^X = /export/home/cpant4/perl5/bin/perl5.15.4
    $UID/$EUID = 104 / 104
    $GID = 1 1
    $EGID = 1 1

Perl module toolchain versions installed:

    Module              Have    
    ------------------- --------
    CPAN                1.9800  
    CPAN::Meta          2.112621
    Cwd                 3.37    
    ExtUtils::CBuilder  0.280204
    ExtUtils::Command   1.17    
    ExtUtils::Install   1.57    
    ExtUtils::MakeMaker 6.62    
    ExtUtils::Manifest  1.60    
    ExtUtils::ParseXS   3.05    
    File::Spec          3.34    
    JSON                2.53    
    JSON::PP            2.27200 
    Module::Build       0.39_01 
    Module::Signature   n/a     
    Parse::CPAN::Meta   1.4401  
    Test::Harness       3.23    
    Test::More          0.98    
    YAML                0.77    
    YAML::Syck          n/a     
    version             0.94    


--

Summary of my perl5 (revision 5 version 15 subversion 4) configuration:
   
  Platform:
    osname=solaris, osvers=2.10, archname=i86pc-solaris-64int
    uname='sunos vmrz0046 5.10 generic_141445-09 i86pc i386 i86pc solaris '
    config_args='-Dcc=gcc -Dprefix=~/perl5 -Duse64bitint -Dusedevel -d'
    hint=recommended, useposix=true, d_sigaction=define
    useithreads=undef, usemultiplicity=undef
    useperlio=define, d_sfio=undef, uselargefiles=define, usesocks=undef
    use64bitint=define, use64bitall=undef, uselongdouble=undef
    usemymalloc=n, bincompat5005=undef
  Compiler:
    cc='gcc', ccflags ='-DPTR_IS_LONG -fno-strict-aliasing -pipe -I/usr/local/include -D_LARGEFILE_SOURCE -D_FILE_OFFSET_BITS=64 -DPERL_USE_SAFE_PUTENV',
    optimize='-O',
    cppflags='-DPTR_IS_LONG -fno-strict-aliasing -pipe -I/usr/local/include'
    ccversion='', gccversion='3.4.6', gccosandvers='solaris2.10'
    intsize=4, longsize=4, ptrsize=4, doublesize=8, byteorder=12345678
    d_longlong=define, longlongsize=8, d_longdbl=define, longdblsize=12
    ivtype='long long', ivsize=8, nvtype='double', nvsize=8, Off_t='off_t', lseeksize=8
    alignbytes=4, prototype=define
  Linker and Libraries:
    ld='gcc', ldflags =' -L/usr/local/lib '
    libpth=/usr/local/lib /usr/lib /usr/ccs/lib
    libs=-lsocket -lnsl -lgdbm -ldl -lm -lc
    perllibs=-lsocket -lnsl -ldl -lm -lc
    libc=/lib/libc.so, so=so, useshrplib=false, libperl=libperl.a
    gnulibc_version=''
  Dynamic Linking:
    dlsrc=dl_dlopen.xs, dlext=so, d_dlsymun=undef, ccdlflags=' '
    cccdlflags='-fPIC', lddlflags='-G -L/usr/local/lib'


Characteristics of this binary (from libperl): 
  Compile-time options: HAS_TIMES PERLIO_LAYERS PERL_DONT_CREATE_GVSV
                        PERL_MALLOC_WRAP PERL_PRESERVE_IVUV PERL_USE_DEVEL
                        PERL_USE_SAFE_PUTENV USE_64_BIT_INT USE_LARGE_FILES
                        USE_LOCALE USE_LOCALE_COLLATE USE_LOCALE_CTYPE
                        USE_LOCALE_NUMERIC USE_PERLIO USE_PERL_ATOF
  Built under solaris
  Compiled at Oct 24 2011 11:26:38
  %ENV:
    PERL5LIB="/export/home/cpant4/.cpan/build/Email-Valid-0.185-H5m9GJ/blib/arch:/export/home/cpant4/.cpan/build/Email-Valid-0.185-H5m9GJ/blib/lib:/export/home/cpant4/.cpan/build/Email-Abstract-3.004-AQ4Xbj/blib/arch:/export/home/cpant4/.cpan/build/Email-Abstract-3.004-AQ4Xbj/blib/lib"
    PERL5OPT=""
    PERL5_CPANPLUS_IS_RUNNING="26747"
    PERL5_CPAN_IS_RUNNING="26747"
    PERL5_CPAN_IS_RUNNING_IN_RECURSION="8306,26747"
    PERL_CR_SMOKER_CURRENT="Mail-ListDetector-1.04"
    PERL_EXTUTILS_AUTOINSTALL="--defaultdeps"
    PERL_MM_USE_DEFAULT="1"
  @INC:
    /export/home/cpant4/.cpan/build/Email-Valid-0.185-H5m9GJ/blib/arch
    /export/home/cpant4/.cpan/build/Email-Valid-0.185-H5m9GJ/blib/lib
    /export/home/cpant4/.cpan/build/Email-Abstract-3.004-AQ4Xbj/blib/arch
    /export/home/cpant4/.cpan/build/Email-Abstract-3.004-AQ4Xbj/blib/lib
    /export/home/cpant4/perl5/lib/site_perl/5.15.4/i86pc-solaris-64int
    /export/home/cpant4/perl5/lib/site_perl/5.15.4
    /export/home/cpant4/perl5/lib/5.15.4/i86pc-solaris-64int
    /export/home/cpant4/perl5/lib/5.15.4
    /export/home/cpant4/perl5/lib/site_perl
    .