Math-Expression-Evaluator vv0.3.2 Perl 5 v5.17.6 x86_64-linux-ld
- Status
- Pass
- From
- Andreas J. König (ANDK)
- Dist
-
Math-Expression-Evaluator vv0.3.2
- Platform
- Perl 5 v5.17.6 x86_64-linux-ld
- Date
- 2012-10-21 12:37:00
- ID
- 024a0b6e-1b7c-11e2-aeaf-8eab1ab6a4a6
This distribution has been tested as part of the CPAN Testers
project, supporting the Perl programming language. See
http://wiki.cpantesters.org/ for more information or email
questions to cpan-testers-discuss@perl.org
--
Dear Moritz Lenz,
This is a computer-generated report for Math-Expression-Evaluator-v0.3.2
on perl 5.17.6, created by CPAN-Reporter-1.2006.
Thank you for uploading your work to CPAN. Congratulations!
All tests were successful.
Sections of this report:
* Tester comments
* Program output
* Prerequisites
* Environment and other context
------------------------------
TESTER COMMENTS
------------------------------
Additional comments from tester:
this report is from an automated smoke testing program
and was not reviewed by a human for accuracy
------------------------------
PROGRAM OUTPUT
------------------------------
Output from './Build test':
t/00-use.t ................ ok
t/01-pod.t ................ ok
t/02-pod-coverage.t ....... ok
t/03-basic-usage.t ........ ok
t/builtins.t .............. ok
t/exec-fails.t ............ ok
t/infix.t ................. ok
t/lex.t ................... ok
t/multiple-expressions.t .. ok
t/null.t .................. ok
t/numbers.t ............... ok
t/optimize-effect.t ....... ok
t/optimize.t .............. ok
t/parsefails.t ............ ok
t/precedence.t ............ ok
t/prefix.t ................ ok
t/user_function.t ......... ok
t/variable_list.t ......... ok
t/variables.t ............. ok
All tests successful.
Files=19, Tests=336, 2 wallclock secs ( 0.09 usr 0.02 sys + 0.96 cusr 0.12 csys = 1.19 CPU)
Result: PASS
------------------------------
PREREQUISITES
------------------------------
Prerequisite modules loaded:
requires:
Module Need Have
------------- -------- --------
Carp 0 1.27
Data::Dumper 0 2.136
Math::Trig 0 1.23
perl 5.006001 5.017006
configure_requires:
Module Need Have
------------- -------- --------
Module::Build 0.36 0.4003
------------------------------
ENVIRONMENT AND OTHER CONTEXT
------------------------------
Environment variables:
AUTOMATED_TESTING = 1
LANG = en_US.UTF-8
LANGUAGE = en_US:en
PATH = /home/sand/bin:/usr/local/bin:/usr/bin:/bin:/usr/bin/X11:/usr/games:/usr/local/perl/bin:/usr/X11/bin:/sbin:/usr/sbin
PERL5LIB = /tmp/loop_over_bdir-yuBvAm/Mail-SpamAssassin-2.43-McTlnq/blib/arch:/tmp/loop_over_bdir-yuBvAm/Mail-SpamAssassin-2.43-McTlnq/blib/lib
PERL5OPT =
PERL5_CPANPLUS_IS_RUNNING = 14727
PERL5_CPAN_IS_RUNNING = 14727
PERL_MM_USE_DEFAULT = 1
SHELL = /usr/bin/zsh
TERM = screen
Perl special variables (and OS-specific diagnostics, for MSWin32):
$^X = /tmp/basesmoker-reloperl-M75v/bin/perl
$UID/$EUID = 1005 / 1005
$GID = 1005 1005
$EGID = 1005 1005
Perl module toolchain versions installed:
Module Have
------------------- --------
CPAN 1.99_51
CPAN::Meta 2.120921
Cwd 3.39_02
ExtUtils::CBuilder 0.280209
ExtUtils::Command 1.17
ExtUtils::Install 1.58
ExtUtils::MakeMaker 6.63_02
ExtUtils::Manifest 1.61
ExtUtils::ParseXS 3.18
File::Spec 3.39_02
JSON 2.53
JSON::PP 2.27200
Module::Build 0.4003
Module::Signature 0.68
Parse::CPAN::Meta 1.4404
Test::Harness 3.25_01
Test::More 0.98
YAML 0.84
YAML::Syck 1.21
version 0.9901
--
Summary of my perl5 (revision 5 version 17 subversion 6) configuration:
Commit id: e2a80cb510d52963a6daffd5dec140417f3b625e
Platform:
osname=linux, osvers=3.2.0-4-amd64, archname=x86_64-linux-ld
uname='linux k83 3.2.0-4-amd64 #1 smp debian 3.2.30-1 x86_64 gnulinux '
config_args='-Dprefix=/home/src/perl/repoperls/installed-perls/perl/v5.17.5-19-ge2a80cb/127e -Dmyhostname=k83 -Dinstallusrbinperl=n -Uversiononly -Dusedevel -des -Ui_db -Uuseithreads -Duselongdouble -DDEBUGGING=-g'
hint=recommended, useposix=true, d_sigaction=define
useithreads=undef, usemultiplicity=undef
useperlio=define, d_sfio=undef, uselargefiles=define, usesocks=undef
use64bitint=define, use64bitall=define, uselongdouble=define
usemymalloc=n, bincompat5005=undef
Compiler:
cc='cc', ccflags ='-fno-strict-aliasing -pipe -fstack-protector -I/usr/local/include -D_LARGEFILE_SOURCE -D_FILE_OFFSET_BITS=64',
optimize='-O2 -g',
cppflags='-fno-strict-aliasing -pipe -fstack-protector -I/usr/local/include'
ccversion='', gccversion='4.7.2', gccosandvers=''
intsize=4, longsize=8, ptrsize=8, doublesize=8, byteorder=12345678
d_longlong=define, longlongsize=8, d_longdbl=define, longdblsize=16
ivtype='long', ivsize=8, nvtype='long double', nvsize=16, Off_t='off_t', lseeksize=8
alignbytes=16, prototype=define
Linker and Libraries:
ld='cc', ldflags =' -fstack-protector -L/usr/local/lib'
libpth=/usr/local/lib /lib/x86_64-linux-gnu /lib/../lib /usr/lib/x86_64-linux-gnu /usr/lib/../lib /lib /usr/lib
libs=-lnsl -ldb -ldl -lm -lcrypt -lutil -lc
perllibs=-lnsl -ldl -lm -lcrypt -lutil -lc
libc=, so=so, useshrplib=false, libperl=libperl.a
gnulibc_version='2.13'
Dynamic Linking:
dlsrc=dl_dlopen.xs, dlext=so, d_dlsymun=undef, ccdlflags='-Wl,-E'
cccdlflags='-fPIC', lddlflags='-shared -O2 -g -L/usr/local/lib -fstack-protector'
Characteristics of this binary (from libperl):
Compile-time options: HAS_TIMES PERLIO_LAYERS PERL_DONT_CREATE_GVSV
PERL_MALLOC_WRAP PERL_PRESERVE_IVUV PERL_USE_DEVEL
USE_64_BIT_ALL USE_64_BIT_INT USE_LARGE_FILES
USE_LOCALE USE_LOCALE_COLLATE USE_LOCALE_CTYPE
USE_LOCALE_NUMERIC USE_LONG_DOUBLE USE_PERLIO
USE_PERL_ATOF
Built under linux
Compiled at Oct 20 2012 22:16:06
%ENV:
PERL5LIB="/tmp/loop_over_bdir-yuBvAm/Mail-SpamAssassin-2.43-McTlnq/blib/arch:/tmp/loop_over_bdir-yuBvAm/Mail-SpamAssassin-2.43-McTlnq/blib/lib"
PERL5OPT=""
PERL5_CPANPLUS_IS_RUNNING="14727"
PERL5_CPAN_IS_RUNNING="14727"
PERL_MM_USE_DEFAULT="1"
@INC:
/tmp/loop_over_bdir-yuBvAm/Mail-SpamAssassin-2.43-McTlnq/blib/arch
/tmp/loop_over_bdir-yuBvAm/Mail-SpamAssassin-2.43-McTlnq/blib/lib
/home/src/perl/repoperls/installed-perls/perl/v5.17.5-19-ge2a80cb/127e/lib/site_perl/5.17.6/x86_64-linux-ld
/home/src/perl/repoperls/installed-perls/perl/v5.17.5-19-ge2a80cb/127e/lib/site_perl/5.17.6
/home/src/perl/repoperls/installed-perls/perl/v5.17.5-19-ge2a80cb/127e/lib/5.17.6/x86_64-linux-ld
/home/src/perl/repoperls/installed-perls/perl/v5.17.5-19-ge2a80cb/127e/lib/5.17.6
.