Data-ModeMerge v0.360 Perl 5 v5.40.1 x86_64-linux-multi-ld
- Status
- Pass
- From
- Andreas J. König (ANDK)
- Dist
-
Data-ModeMerge v0.360
- Platform
- Perl 5 v5.40.1 x86_64-linux-multi-ld
- Date
- 2025-01-31 09:51:57
- ID
- 024fff42-dfb9-11ef-802f-db945f25380c
This distribution has been tested as part of the CPAN Testers
project, supporting the Perl programming language. See
http://wiki.cpantesters.org/ for more information or email
questions to cpan-testers-discuss@perl.org
--
Dear perlancar,
This is a computer-generated report for Data-ModeMerge-0.360
on perl 5.40.1, created by CPAN-Reporter-1.2020.
Thank you for uploading your work to CPAN. Congratulations!
All tests were successful.
Sections of this report:
* Tester comments
* Program output
* Prerequisites
* Environment and other context
------------------------------
TESTER COMMENTS
------------------------------
Additional comments from tester:
this report is from an automated smoke testing program
and was not reviewed by a human for accuracy
------------------------------
PROGRAM OUTPUT
------------------------------
Output from '/usr/bin/make test':
PERL_DL_NONLAZY=1 "/home/sand/src/perl/repoperls/installed-perls/host/k93msid/v5.40.1/1d53/bin/perl" "-MExtUtils::Command::MM" "-MTest::Harness" "-e" "undef *Test::Harness::Switches; test_harness(0, 'blib/lib', 'blib/arch')" t/*.t
t/00-compile.t ............................... ok
t/01-mode-add.t .............................. ok
t/01-mode-concat.t ........................... ok
t/01-mode-delete.t ........................... ok
t/01-mode-keep.t ............................. ok
t/01-mode-normal.t ........................... ok
t/01-mode-subtract.t ......................... ok
t/02-backup.t ................................ ok
t/03-method-_in.t ............................ ok
t/03-method-add_prefix.t ..................... ok
t/03-method-check_prefix.t ................... ok
t/03-method-remove_prefix.t .................. ok
t/04-mh-change_prefix.t ...................... ok
t/10-merge-add.t ............................. ok
t/10-merge-concat.t .......................... ok
t/10-merge-delete.t .......................... ok
t/10-merge-keep.t ............................ ok
t/10-merge-normal.t .......................... ok
t/10-merge-subtract.t ........................ ok
t/11-combine_rules.t ......................... ok
t/50-config-allow_createdestroy_hasharray.t .. ok
t/50-config-default_mode.t ................... ok
t/50-config-disable_modes.t .................. ok
t/50-config-excludeinclude_merge.t ........... ok
t/50-config-excludeinclude_parse.t ........... ok
t/50-config-options_key.t .................... ok
t/50-config-parse_prefix.t ................... ok
t/50-config-premerge_pair_filter.t ........... ok
t/50-config-readd_prefix.t ................... ok
t/50-config-set_prefix.t ..................... ok
t/50-config-wanted_path.t .................... ok
t/99-misc-circular.t ......................... ok
t/author-critic.t ............................ skipped: these tests are for testing by the author
t/author-pod-coverage.t ...................... skipped: these tests are for testing by the author
t/author-pod-syntax.t ........................ skipped: these tests are for testing by the author
All tests successful.
Files=35, Tests=463, 7 wallclock secs ( 0.19 usr 0.11 sys + 3.35 cusr 0.88 csys = 4.53 CPU)
Result: PASS
------------------------------
PREREQUISITES
------------------------------
Prerequisite modules loaded:
requires:
Module Need Have
------------------- -------- --------
Data::Dmp 0.241 0.242
Exporter 5.57 5.78
Mo 0 0.40
perl 5.010001 5.040001
strict 0 1.13
warnings 0 1.70
build_requires:
Module Need Have
------------------- -------- --------
ExtUtils::MakeMaker 0 7.70
File::Spec 0 3.91
IO::Handle 0 1.55
IPC::Open3 0 1.22
lib 0 0.65
Test::Exception 0 0.43
Test::More 0.98 1.302207
configure_requires:
Module Need Have
------------------- -------- --------
ExtUtils::MakeMaker 0 7.70
------------------------------
ENVIRONMENT AND OTHER CONTEXT
------------------------------
Environment variables:
AUTOMATED_TESTING = 1
LANG = en_US.UTF-8
LANGUAGE = en_US:en
PATH = /home/sand/bin:/usr/local/bin:/usr/bin:/bin:/usr/games:/usr/local/perl/bin:/usr/X11/bin:/sbin:/usr/sbin
PERL5LIB =
PERL5OPT =
PERL5_CPANPLUS_IS_RUNNING = 977814
PERL5_CPAN_IS_RUNNING = 977814
PERL_CANARY_STABILITY_NOPROMPT = 1
PERL_MM_USE_DEFAULT = 1
PERL_USE_UNSAFE_INC = 1
SHELL = /usr/bin/zsh
TERM = screen
Perl special variables (and OS-specific diagnostics, for MSWin32):
$^X = /home/sand/src/perl/repoperls/installed-perls/host/k93msid/v5.40.1/1d53/bin/perl
$UID/$EUID = 1005 / 1005
$GID = 1005 1005
$EGID = 1005 1005
Perl module toolchain versions installed:
Module Have
------------------- --------
CPAN 2.38
CPAN::Meta 2.150010
Cwd 3.91
ExtUtils::CBuilder 0.280240
ExtUtils::Command 7.70
ExtUtils::Install 2.22
ExtUtils::MakeMaker 7.70
ExtUtils::Manifest 1.75
ExtUtils::ParseXS 3.51
File::Spec 3.91
JSON 4.10
JSON::PP 4.16
Module::Build 0.4234
Module::Signature 0.89
Parse::CPAN::Meta 2.150010
Test2 1.302207
Test::Harness 3.50
Test::More 1.302207
YAML 1.31
YAML::Syck 1.34
version 0.9933
--
Summary of my perl5 (revision 5 version 40 subversion 1) configuration:
Commit id: f722f11a2b1a34e28743e331bad6dd7da41e2086
Platform:
osname=linux
osvers=6.8.12-amd64
archname=x86_64-linux-multi-ld
uname='linux k93msid 6.8.12-amd64 #1 smp preempt_dynamic debian 6.8.12-1 (2024-05-31) x86_64 gnulinux '
config_args='-Dprefix=/home/sand/src/perl/repoperls/installed-perls/host/k93msid/v5.40.1/1d53 -Dmyhostname=k93msid -Dinstallusrbinperl=n -Uversiononly -Dusedevel -des -Ui_db -Dlibswanted=cl pthread socket inet nsl gdbm dbm malloc dl ld sun m crypt sec util c cposix posix ucb BSD gdbm_compat -Uuseithreads -Duselongdouble -DEBUGGING=both -Dusemultiplicity'
hint=recommended
useposix=true
d_sigaction=define
useithreads=undef
usemultiplicity=define
use64bitint=define
use64bitall=define
uselongdouble=define
usemymalloc=n
default_inc_excludes_dot=define
Compiler:
cc='cc'
ccflags ='-fwrapv -DDEBUGGING -fno-strict-aliasing -pipe -fstack-protector-strong -I/usr/local/include -D_LARGEFILE_SOURCE -D_FILE_OFFSET_BITS=64 -D_FORTIFY_SOURCE=2'
optimize='-O2 -g'
cppflags='-fwrapv -DDEBUGGING -fno-strict-aliasing -pipe -fstack-protector-strong -I/usr/local/include'
ccversion=''
gccversion='13.3.0'
gccosandvers=''
intsize=4
longsize=8
ptrsize=8
doublesize=8
byteorder=12345678
doublekind=3
d_longlong=define
longlongsize=8
d_longdbl=define
longdblsize=16
longdblkind=3
ivtype='long'
ivsize=8
nvtype='long double'
nvsize=16
Off_t='off_t'
lseeksize=8
alignbytes=16
prototype=define
Linker and Libraries:
ld='cc'
ldflags =' -fstack-protector-strong -L/usr/local/lib'
libpth=/usr/local/lib /usr/lib/x86_64-linux-gnu /usr/lib /usr/lib64
libs=-lpthread -ldl -lm -lcrypt -lutil -lc
perllibs=-lpthread -ldl -lm -lcrypt -lutil -lc
libc=/lib/x86_64-linux-gnu/libc.so.6
so=so
useshrplib=false
libperl=libperl.a
gnulibc_version='2.38'
Dynamic Linking:
dlsrc=dl_dlopen.xs
dlext=so
d_dlsymun=undef
ccdlflags='-Wl,-E'
cccdlflags='-fPIC'
lddlflags='-shared -O2 -g -L/usr/local/lib -fstack-protector-strong'
Characteristics of this binary (from libperl):
Compile-time options:
DEBUGGING
HAS_LONG_DOUBLE
HAS_STRTOLD
HAS_TIMES
MULTIPLICITY
PERLIO_LAYERS
PERL_COPY_ON_WRITE
PERL_DONT_CREATE_GVSV
PERL_HASH_FUNC_SIPHASH13
PERL_HASH_USE_SBOX32
PERL_MALLOC_WRAP
PERL_OP_PARENT
PERL_PRESERVE_IVUV
PERL_TRACK_MEMPOOL
PERL_USE_DEVEL
PERL_USE_SAFE_PUTENV
USE_64_BIT_ALL
USE_64_BIT_INT
USE_LARGE_FILES
USE_LOCALE
USE_LOCALE_COLLATE
USE_LOCALE_CTYPE
USE_LOCALE_NUMERIC
USE_LOCALE_TIME
USE_LONG_DOUBLE
USE_PERLIO
USE_PERL_ATOF
USE_REENTRANT_API
Built under linux
Compiled at Jan 20 2025 18:52:37
%ENV:
PERL5LIB=""
PERL5OPT=""
PERL5_CPANPLUS_IS_RUNNING="977814"
PERL5_CPAN_IS_RUNNING="977814"
PERL_CANARY_STABILITY_NOPROMPT="1"
PERL_MM_USE_DEFAULT="1"
PERL_USE_UNSAFE_INC="1"
@INC:
/home/sand/src/perl/repoperls/installed-perls/host/k93msid/v5.40.1/1d53/lib/site_perl/5.40.1/x86_64-linux-multi-ld
/home/sand/src/perl/repoperls/installed-perls/host/k93msid/v5.40.1/1d53/lib/site_perl/5.40.1
/home/sand/src/perl/repoperls/installed-perls/host/k93msid/v5.40.1/1d53/lib/5.40.1/x86_64-linux-multi-ld
/home/sand/src/perl/repoperls/installed-perls/host/k93msid/v5.40.1/1d53/lib/5.40.1
.