MAD-Loader v3.001001 Perl 5 v5.21.4 amd64-freebsd

Status
Pass
From
Slaven Rezić (SREZIC)
Dist
MAD-Loader v3.001001
Platform
Perl 5 v5.21.4 amd64-freebsd
Date
2014-10-01 23:59:41
ID
026bfcda-49c7-11e4-9899-1bf5dfbfc7aa
This distribution has been tested as part of the CPAN Testers
project, supporting the Perl programming language.  See
http://wiki.cpantesters.org/ for more information or email
questions to cpan-testers-discuss@perl.org


--
Dear Blabos de Blebe,

This is a computer-generated report for MAD-Loader-3.001001
on perl 5.21.4, created by CPAN-Reporter-1.2011.

Thank you for uploading your work to CPAN.  Congratulations!
All tests were successful.

Sections of this report:

    * Tester comments
    * Program output
    * Prerequisites
    * Environment and other context

------------------------------
TESTER COMMENTS
------------------------------

Additional comments from tester:

none provided

------------------------------
PROGRAM OUTPUT
------------------------------

Output from '/usr/bin/make test':

PERL_DL_NONLAZY=1 /usr/perl5.21.4/bin/perl5.21.4 "-MExtUtils::Command::MM" "-MTest::Harness" "-e" "undef *Test::Harness::Switches; test_harness(0, 'blib/lib', 'blib/arch')" t/*.t t/01-functions/*.t t/01-functions/01-fqn/*.t t/01-functions/02-load-module/01-core-modules/*.t t/01-functions/02-load-module/02-non-core-modules/*.t t/01-functions/03-build-object/*.t t/02-methods/01-new/*.t t/02-methods/02-load/*.t t/02-methods/03-build/*.t t/02-methods/04-load-and-build/*.t
t/01-functions/01-fqn/01-fqn.t ......................................... ok
t/01-functions/02-load-module/01-core-modules/01-without-prefix.t ...... ok
t/01-functions/02-load-module/01-core-modules/02-with-prefix.t ......... ok
t/01-functions/02-load-module/02-non-core-modules/01-without-prefix.t .. ok
t/01-functions/02-load-module/02-non-core-modules/02-with-prefix.t ..... ok
t/01-functions/03-build-object/01-build.t .............................. ok
t/01-functions/03-build-object/02-fail.t ............................... ok
t/01-functions/04-load-and-new.t ....................................... ok
t/02-methods/01-new/01-new.t ........................................... ok
t/02-methods/02-load/01-add-inc.t ...................................... ok
t/02-methods/02-load/02-set-inc.t ...................................... ok
t/02-methods/03-build/01-without-args.t ................................ ok
t/02-methods/03-build/02-with-args.t ................................... ok
t/02-methods/04-load-and-build/01-load-and-build.t ..................... ok
t/author-critic.t ...................................................... skipped: these tests are for testing by the author
t/release-pod-coverage.t ............................................... skipped: these tests are for release candidate testing
t/release-pod-syntax.t ................................................. skipped: these tests are for release candidate testing
All tests successful.
Files=17, Tests=57,  3 wallclock secs ( 0.09 usr  0.08 sys +  1.98 cusr  1.05 csys =  3.20 CPU)
Result: PASS

------------------------------
PREREQUISITES
------------------------------

Prerequisite modules loaded:

requires:

    Module              Need     Have    
    ------------------- -------- --------
    Carp                1.12     1.34    
    Const::Fast         0.014    0.014   
    Moo                 1.004006 1.006000

build_requires:

    Module              Need     Have    
    ------------------- -------- --------
    ExtUtils::MakeMaker 0        6.98    
    File::Spec          3.47     3.50    
    Scalar::Util        1.38     1.41    
    Test::Most          0.34     0.34    
    Test::Perl::Critic  1.02     1.02    

configure_requires:

    Module              Need     Have    
    ------------------- -------- --------
    ExtUtils::MakeMaker 6.30     6.98    


------------------------------
ENVIRONMENT AND OTHER CONTEXT
------------------------------

Environment variables:

    DBIC_NO_WARN_BAD_PERL = 1
    LC_ALL = de_DE.ISO8859-1
    PATH = /usr/local/bin:/usr/bin:/bin:/usr/local/sbin:/usr/sbin:/sbin:/home/cpansand/bin/freebsd10.0:/home/cpansand/bin/sh:/home/cpansand/bin:/usr/games:/home/cpansand/devel:/home/eserte/src/srezic-misc/scripts
    PERL5LIB = /home/cpansand/.cpan/build/Test-Perl-Critic-1.02-_SSYgQ/blib/arch:/home/cpansand/.cpan/build/Test-Perl-Critic-1.02-_SSYgQ/blib/lib:/home/cpansand/.cpan/build/Perl-Critic-1.122-aXrrxA/blib/arch:/home/cpansand/.cpan/build/Perl-Critic-1.122-aXrrxA/blib/lib:/home/cpansand/.cpan/build/PPIx-Regexp-0.036-Q1YQ28/blib/arch:/home/cpansand/.cpan/build/PPIx-Regexp-0.036-Q1YQ28/blib/lib:/home/cpansand/.cpan/build/PPIx-Utilities-1.001000-_ATVdF/blib/arch:/home/cpansand/.cpan/build/PPIx-Utilities-1.001000-_ATVdF/blib/lib
    PERL5OPT = 
    PERL5_CPANPLUS_IS_RUNNING = 43448
    PERL5_CPAN_IS_RUNNING = 43448
    PERL5_CPAN_IS_RUNNING_IN_RECURSION = 43428,43448
    PERLDOC = -MPod::Perldoc::ToTextOverstrike
    PERL_BATCH = yes
    PERL_CPAN_REPORTER_CONFIG = /var/tmp/cpansmoker-1023/t2VmWE5mIb_config.ini
    PERL_EXTUTILS_AUTOINSTALL = --defaultdeps
    PERL_HTML_DISPLAY_CLASS = HTML::Display::Mozilla
    SHELL = /usr/local/bin/zsh
    TERM = screen
    TMPDIR = /var/tmp/cpansmoker-1023

Perl special variables (and OS-specific diagnostics, for MSWin32):

    $^X = /usr/perl5.21.4/bin/perl5.21.4
    $UID/$EUID = 1023 / 1023
    $GID = 1023 1023
    $EGID = 1023 1023

Perl module toolchain versions installed:

    Module              Have    
    ------------------- --------
    CPAN                2.05    
    CPAN::Meta          2.142690
    Cwd                 3.50    
    ExtUtils::CBuilder  0.280219
    ExtUtils::Command   1.18    
    ExtUtils::Install   2.04    
    ExtUtils::MakeMaker 6.98    
    ExtUtils::Manifest  1.68    
    ExtUtils::ParseXS   3.25    
    File::Spec          3.50    
    JSON                2.90    
    JSON::PP            2.27203 
    Module::Build       0.4210  
    Module::Signature   n/a     
    Parse::CPAN::Meta   1.4414  
    Test::Harness       3.33    
    Test::More          1.001006
    YAML                1.12    
    YAML::Syck          1.27    
    version             0.9909  


--

Summary of my perl5 (revision 5 version 21 subversion 4) configuration:
   
  Platform:
    osname=freebsd, osvers=10.0-release-p1, archname=amd64-freebsd
    uname='freebsd cvrsnica-freebsd-10-64bit.herceg.de 10.0-release-p1 freebsd 10.0-release-p1 #0: tue apr 8 06:45:06 utc 2014 root@amd64-builder.daemonology.net:usrobjusrsrcsysgeneric amd64 '
    config_args='-ds -e -Dprefix=/usr/perl5.21.4 -Dusedevel -Dusemallocwrap=no'
    hint=recommended, useposix=true, d_sigaction=define
    useithreads=undef, usemultiplicity=undef
    use64bitint=define, use64bitall=define, uselongdouble=undef
    usemymalloc=n, bincompat5005=undef
  Compiler:
    cc='cc', ccflags ='-DHAS_FPSETMASK -DHAS_FLOATINGPOINT_H -fno-strict-aliasing -pipe -fstack-protector -I/usr/local/include -D_FORTIFY_SOURCE=2',
    optimize='-O',
    cppflags='-DHAS_FPSETMASK -DHAS_FLOATINGPOINT_H -fno-strict-aliasing -pipe -fstack-protector -I/usr/local/include'
    ccversion='', gccversion='4.2.1 Compatible FreeBSD Clang 3.3 (tags/RELEASE_33/final 183502)', gccosandvers=''
    intsize=4, longsize=8, ptrsize=8, doublesize=8, byteorder=12345678
    d_longlong=define, longlongsize=8, d_longdbl=define, longdblsize=16, longdblkind=3
    ivtype='long', ivsize=8, nvtype='double', nvsize=8, Off_t='off_t', lseeksize=8
    alignbytes=8, prototype=define
  Linker and Libraries:
    ld='cc', ldflags ='-Wl,-E  -fstack-protector -L/usr/local/lib'
    libpth=/usr/lib /usr/local/lib /usr/include/clang/3.3 /usr/lib
    libs=-lgdbm -lm -lcrypt -lutil -lc
    perllibs=-lm -lcrypt -lutil -lc
    libc=, so=so, useshrplib=false, libperl=libperl.a
    gnulibc_version=''
  Dynamic Linking:
    dlsrc=dl_dlopen.xs, dlext=so, d_dlsymun=undef, ccdlflags=' '
    cccdlflags='-DPIC -fPIC', lddlflags='-shared  -L/usr/local/lib -fstack-protector'


Characteristics of this binary (from libperl): 
  Compile-time options: HAS_TIMES PERLIO_LAYERS PERL_DONT_CREATE_GVSV
                        PERL_HASH_FUNC_ONE_AT_A_TIME_HARD
                        PERL_NEW_COPY_ON_WRITE PERL_PRESERVE_IVUV
                        PERL_USE_DEVEL USE_64_BIT_ALL USE_64_BIT_INT
                        USE_LARGE_FILES USE_LOCALE USE_LOCALE_COLLATE
                        USE_LOCALE_CTYPE USE_LOCALE_NUMERIC USE_LOCALE_TIME
                        USE_PERLIO USE_PERL_ATOF
  Built under freebsd
  Compiled at Sep 20 2014 18:01:37
  %ENV:
    PERL5LIB="/home/cpansand/.cpan/build/Test-Perl-Critic-1.02-_SSYgQ/blib/arch:/home/cpansand/.cpan/build/Test-Perl-Critic-1.02-_SSYgQ/blib/lib:/home/cpansand/.cpan/build/Perl-Critic-1.122-aXrrxA/blib/arch:/home/cpansand/.cpan/build/Perl-Critic-1.122-aXrrxA/blib/lib:/home/cpansand/.cpan/build/PPIx-Regexp-0.036-Q1YQ28/blib/arch:/home/cpansand/.cpan/build/PPIx-Regexp-0.036-Q1YQ28/blib/lib:/home/cpansand/.cpan/build/PPIx-Utilities-1.001000-_ATVdF/blib/arch:/home/cpansand/.cpan/build/PPIx-Utilities-1.001000-_ATVdF/blib/lib"
    PERL5OPT=""
    PERL5_CPANPLUS_IS_RUNNING="43448"
    PERL5_CPAN_IS_RUNNING="43448"
    PERL5_CPAN_IS_RUNNING_IN_RECURSION="43428,43448"
    PERLDOC="-MPod::Perldoc::ToTextOverstrike"
    PERL_BATCH="yes"
    PERL_CPAN_REPORTER_CONFIG="/var/tmp/cpansmoker-1023/t2VmWE5mIb_config.ini"
    PERL_EXTUTILS_AUTOINSTALL="--defaultdeps"
    PERL_HTML_DISPLAY_CLASS="HTML::Display::Mozilla"
  @INC:
    /home/cpansand/.cpan/build/Test-Perl-Critic-1.02-_SSYgQ/blib/arch
    /home/cpansand/.cpan/build/Test-Perl-Critic-1.02-_SSYgQ/blib/lib
    /home/cpansand/.cpan/build/Perl-Critic-1.122-aXrrxA/blib/arch
    /home/cpansand/.cpan/build/Perl-Critic-1.122-aXrrxA/blib/lib
    /home/cpansand/.cpan/build/PPIx-Regexp-0.036-Q1YQ28/blib/arch
    /home/cpansand/.cpan/build/PPIx-Regexp-0.036-Q1YQ28/blib/lib
    /home/cpansand/.cpan/build/PPIx-Utilities-1.001000-_ATVdF/blib/arch
    /home/cpansand/.cpan/build/PPIx-Utilities-1.001000-_ATVdF/blib/lib
    /usr/perl5.21.4/lib/site_perl/5.21.4/amd64-freebsd
    /usr/perl5.21.4/lib/site_perl/5.21.4
    /usr/perl5.21.4/lib/5.21.4/amd64-freebsd
    /usr/perl5.21.4/lib/5.21.4
    .