Sys-CpuAffinity v1.11_02 Perl 5 v5.10.1 amd64-freebsd
- Status
- Pass
- From
- Slaven Rezić (SREZIC)
- Dist
-
Sys-CpuAffinity v1.11_02
- Platform
- Perl 5 v5.10.1 amd64-freebsd
- Date
- 2016-11-15 08:17:55
- ID
- 027effd0-ab0c-11e6-bff9-960bf45dc495
This distribution has been tested as part of the CPAN Testers
project, supporting the Perl programming language. See
http://wiki.cpantesters.org/ for more information or email
questions to cpan-testers-discuss@perl.org
--
Dear Marty O'Brien,
This is a computer-generated report for Sys-CpuAffinity-1.11_02
on perl 5.10.1, created by CPAN-Reporter-1.2018.
Thank you for uploading your work to CPAN. Congratulations!
All tests were successful.
Sections of this report:
* Tester comments
* Program output
* Prerequisites
* Environment and other context
------------------------------
TESTER COMMENTS
------------------------------
Additional comments from tester:
none provided
------------------------------
PROGRAM OUTPUT
------------------------------
Output from './Build test':
# Testing Sys::CpuAffinity 1.11_02, Perl 5.010001, /usr/perl5.10.1/bin/perl5.10.1, freebsd
t/00-load.t .......... ok
System configuration
====================
$^O = freebsd; $] = 5.010001
$ENV{AUTOMATED_TESTING} =
Defined XS functions:
xs_cpuset_set_affinity
xs_fortytwo
xs_getaffinity_cpuset_get_affinity
module Win32::API: not available
module Win32::Process: not available
module BSD::Process::Affinity: not available
bindprocessor: not found
dmesg available at: /sbin/dmesg
sysctl available at: /sbin/sysctl
psrinfo: not found
hinv: not found
hwprefs: not found
lsdev: not found
system_profiler: not found
prtconf: not found
taskset: not found
pbind: not found
cpuset available at: /usr/bin/cpuset
t/02-available.t ..... ok
t/10-exercise.t ...... ok
=================================================
Num processors =
bindprocessor - 0 -
dmesg_bsd - 0 -
dmesg_solaris - 0 -
ENV - 0 -
hinv - 0 -
hwprefs - 0 -
lsdev - 0 -
proc_cpuinfo - 0 -
proc_stat - 0 -
prtconf - 0 -
psrinfo - 0 -
sysctl - 1 -
system_profiler - 0 -
taskset - 0 -
Test_Smoke_SysInfo - 0 -
Win32API_System_Info - 0 -
xs_cpusetGetCPUCount - 0 -
xs_solaris - 0 -
xs_Win32API_System_Info - 0 -
t/11-exercise-all.t .. ok
t/12-32cpus.t ........ ok
All tests successful.
Files=5, Tests=24, 2 wallclock secs ( 0.04 usr 0.04 sys + 1.01 cusr 0.71 csys = 1.80 CPU)
Result: PASS
------------------------------
PREREQUISITES
------------------------------
Prerequisite modules loaded:
build_requires:
Module Need Have
------------- ---- --------
Module::Build 0.25 0.4220
Test::More 0 1.302062
configure_requires:
Module Need Have
------------- ---- --------
Module::Build 0.42 0.4220
------------------------------
ENVIRONMENT AND OTHER CONTEXT
------------------------------
Environment variables:
LC_ALL = de_DE.ISO8859-1
PATH = /usr/local/bin:/usr/bin:/bin:/usr/local/sbin:/usr/sbin:/sbin:/home/cpansand/bin/freebsd9.3:/home/cpansand/bin/sh:/home/cpansand/bin:/usr/games:/home/cpansand/devel:/usr/home/eserte/src/srezic-misc/scripts
PERL5LIB = /home/eserte/.cpan/build/2016111509/Tie-DiskUsage-0.21_01-JHzNWe/blib/arch:/home/eserte/.cpan/build/2016111509/Tie-DiskUsage-0.21_01-JHzNWe/blib/lib
PERL5OPT =
PERL5_CPANPLUS_IS_RUNNING = 56459
PERL5_CPAN_IS_RUNNING = 56459
PERL5_CPAN_IS_RUNNING_IN_RECURSION = 56407,56459
PERLDOC = -MPod::Perldoc::ToTextOverstrike
PERL_BATCH = yes
PERL_CANARY_STABILITY_NOPROMPT = 1
PERL_CPAN_REPORTER_CONFIG = /var/tmp/cpansmoker-1023/2016111509/cpanreporter_000_config.ini
PERL_EXTUTILS_AUTOINSTALL = --defaultdeps
SHELL = /usr/local/bin/zsh
TERM = screen
TMPDIR = /var/tmp/cpansmoker-1023/2016111509
Perl special variables (and OS-specific diagnostics, for MSWin32):
$^X = /usr/perl5.10.1/bin/perl5.10.1
$UID/$EUID = 1023 / 1023
$GID = 1023 1023
$EGID = 1023 1023
Perl module toolchain versions installed:
Module Have
------------------- --------
CPAN 2.10
CPAN::Meta 2.150010
Cwd 3.62
ExtUtils::CBuilder 0.280224
ExtUtils::Command 7.24
ExtUtils::Install 2.04
ExtUtils::MakeMaker 7.24
ExtUtils::Manifest 1.70
ExtUtils::ParseXS 3.30
File::Spec 3.62
JSON 2.90
JSON::PP 2.27400
Module::Build 0.4220
Module::Signature 0.79
Parse::CPAN::Meta 2.150010
Test::Harness 3.36
Test::More 1.302062
YAML 1.15
YAML::Syck 1.29
version 0.9914
--
Summary of my perl5 (revision 5 version 10 subversion 1) configuration:
Platform:
osname=freebsd, osvers=9.2-release-p4, archname=amd64-freebsd
uname='freebsd cvrsnica-freebsd-92 9.2-release-p4 freebsd 9.2-release-p4 #0: tue apr 8 18:08:22 utc 2014 root@amd64-builder.daemonology.net:usrobjusrsrcsysgeneric amd64 '
config_args='-ds -e -Dprefix=/usr/perl5.10.1'
hint=recommended, useposix=true, d_sigaction=define
useithreads=undef, usemultiplicity=undef
useperlio=define, d_sfio=undef, uselargefiles=define, usesocks=undef
use64bitint=define, use64bitall=define, uselongdouble=undef
usemymalloc=n, bincompat5005=undef
Compiler:
cc='cc', ccflags ='-DHAS_FPSETMASK -DHAS_FLOATINGPOINT_H -fno-strict-aliasing -pipe -fstack-protector -I/usr/local/include',
optimize='-O',
cppflags='-DHAS_FPSETMASK -DHAS_FLOATINGPOINT_H -fno-strict-aliasing -pipe -fstack-protector -I/usr/local/include'
ccversion='', gccversion='4.2.1 20070831 patched [FreeBSD]', gccosandvers=''
intsize=4, longsize=8, ptrsize=8, doublesize=8, byteorder=12345678
d_longlong=define, longlongsize=8, d_longdbl=define, longdblsize=16
ivtype='long', ivsize=8, nvtype='double', nvsize=8, Off_t='off_t', lseeksize=8
alignbytes=8, prototype=define
Linker and Libraries:
ld='cc', ldflags ='-Wl,-E -fstack-protector -L/usr/local/lib'
libpth=/usr/lib /usr/local/lib
libs=-lgdbm -lm -lcrypt -lutil -lc
perllibs=-lm -lcrypt -lutil -lc
libc=, so=so, useshrplib=false, libperl=libperl.a
gnulibc_version=''
Dynamic Linking:
dlsrc=dl_dlopen.xs, dlext=so, d_dlsymun=undef, ccdlflags=' '
cccdlflags='-DPIC -fPIC', lddlflags='-shared -L/usr/local/lib -fstack-protector'
Characteristics of this binary (from libperl):
Compile-time options: PERL_DONT_CREATE_GVSV PERL_MALLOC_WRAP USE_64_BIT_ALL
USE_64_BIT_INT USE_LARGE_FILES USE_PERLIO
Built under freebsd
Compiled at May 15 2014 23:30:26
%ENV:
PERL5LIB="/home/eserte/.cpan/build/2016111509/Tie-DiskUsage-0.21_01-JHzNWe/blib/arch:/home/eserte/.cpan/build/2016111509/Tie-DiskUsage-0.21_01-JHzNWe/blib/lib"
PERL5OPT=""
PERL5_CPANPLUS_IS_RUNNING="56459"
PERL5_CPAN_IS_RUNNING="56459"
PERL5_CPAN_IS_RUNNING_IN_RECURSION="56407,56459"
PERLDOC="-MPod::Perldoc::ToTextOverstrike"
PERL_BATCH="yes"
PERL_CANARY_STABILITY_NOPROMPT="1"
PERL_CPAN_REPORTER_CONFIG="/var/tmp/cpansmoker-1023/2016111509/cpanreporter_000_config.ini"
PERL_EXTUTILS_AUTOINSTALL="--defaultdeps"
@INC:
/home/eserte/.cpan/build/2016111509/Tie-DiskUsage-0.21_01-JHzNWe/blib/arch
/home/eserte/.cpan/build/2016111509/Tie-DiskUsage-0.21_01-JHzNWe/blib/lib
/usr/perl5.10.1/lib/5.10.1/amd64-freebsd
/usr/perl5.10.1/lib/5.10.1
/usr/perl5.10.1/lib/site_perl/5.10.1/amd64-freebsd
/usr/perl5.10.1/lib/site_perl/5.10.1
.