WebService-NotifyMyAndroid v0.0.6 Perl 5 v5.22.3 RC3 x86_64-linux-thread-multi

Status
Pass
From
Slaven Rezić (SREZIC)
Dist
WebService-NotifyMyAndroid v0.0.6
Platform
Perl 5 v5.22.3 RC3 x86_64-linux-thread-multi
Date
2016-09-19 22:11:27
ID
02a0552c-7eb6-11e6-abec-f9c46fa4fae2
This distribution has been tested as part of the CPAN Testers
project, supporting the Perl programming language.  See
http://wiki.cpantesters.org/ for more information or email
questions to cpan-testers-discuss@perl.org


--
Dear Chisel,

This is a computer-generated report for WebService-NotifyMyAndroid-0.0.6
on perl 5.22.3, created by CPAN-Reporter-1.2018.

Thank you for uploading your work to CPAN.  Congratulations!
All tests were successful.

Sections of this report:

    * Tester comments
    * Program output
    * Prerequisites
    * Environment and other context

------------------------------
TESTER COMMENTS
------------------------------

Additional comments from tester:

none provided

------------------------------
PROGRAM OUTPUT
------------------------------

Output from '/usr/bin/make test':

PERL_DL_NONLAZY=1 "/bbbike/perl-5.22.3-RC3t/bin/perl" "-MExtUtils::Command::MM" "-MTest::Harness" "-e" "undef *Test::Harness::Switches; test_harness(0, 'blib/lib', 'blib/arch')" t/*.t
t/00-load.t ............... ok
# Testing WebService::NotifyMyAndroid 0.0.6
t/00.load.t ............... ok
t/01.verify.t ............. ok
t/02.notify.t ............. ok
t/perlcritic.t ............ skipped: Test::Perl::Critic required for testing PBP compliance
t/pod-coverage.t .......... ok
t/pod.t ................... ok
t/release-no-tabs.t ....... skipped: these tests are for release candidate testing
t/release-pod-coverage.t .. skipped: these tests are for release candidate testing
t/release-pod-syntax.t .... skipped: these tests are for release candidate testing
All tests successful.
Files=10, Tests=8,  4 wallclock secs ( 0.02 usr  0.05 sys +  0.76 cusr  0.28 csys =  1.11 CPU)
Result: PASS

------------------------------
PREREQUISITES
------------------------------

Prerequisite modules loaded:

requires:

    Module               Need Have      
    -------------------- ---- ----------
    base                 0    2.22_01   
    Carp                 0    1.36      
    Data::Printer        0    0.38      
    FindBin::libs        0    2.12      
    LWP::Protocol::https 0    6.06      
    Params::Validate     0    1.24      
    Readonly             0    2.05      
    Regexp::Common       0    2016060801
    strictures           1    2.000003  
    WebService::Simple   0    0.25      

build_requires:

    Module               Need Have      
    -------------------- ---- ----------
    Data::Dumper         0    2.158     
    strict               0    1.09      
    Test::More           0    1.302052  
    Test::UseAllModules  0    0.17      
    warnings             0    1.34      

configure_requires:

    Module               Need Have      
    -------------------- ---- ----------
    ExtUtils::MakeMaker  6.30 7.04_02   


------------------------------
ENVIRONMENT AND OTHER CONTEXT
------------------------------

Environment variables:

    LANG = C
    PATH = /usr/local/bin:/usr/bin:/bin:/usr/local/sbin:/usr/sbin:/sbin:/home/cpansand/bin/linux-gnu:/home/cpansand/bin/sh:/home/cpansand/bin:/usr/games:/home/cpansand/devel:/home/eserte/src/srezic-misc/scripts
    PERL5LIB = /home/cpansand/.cpan/build/2016091921/Regexp-Common-2016060801-16xddQ/blib/arch:/home/cpansand/.cpan/build/2016091921/Regexp-Common-2016060801-16xddQ/blib/lib:/home/cpansand/.cpan/build/2016091921/Data-Printer-0.38-RhjyYC/blib/arch:/home/cpansand/.cpan/build/2016091921/Data-Printer-0.38-RhjyYC/blib/lib:/home/cpansand/.cpan/build/2016091921/Clone-PP-1.06-A18Ezq/blib/arch:/home/cpansand/.cpan/build/2016091921/Clone-PP-1.06-A18Ezq/blib/lib:/home/cpansand/.cpan/build/2016091921/Readonly-2.05-ZCdB7l/blib/arch:/home/cpansand/.cpan/build/2016091921/Readonly-2.05-ZCdB7l/blib/lib:/home/cpansand/.cpan/build/2016091921/FindBin-libs-2.15-3BBB3H/blib/arch:/home/cpansand/.cpan/build/2016091921/FindBin-libs-2.15-3BBB3H/blib/lib:/home/cpansand/.cpan/build/2016091921/WebService-Simple-0.25-YbxMix/blib/arch:/home/cpansand/.cpan/build/2016091921/WebService-Simple-0.25-YbxMix/blib/lib:/home/cpansand/.cpan/build/2016091921/Class-Data-ConfigHash-0.00002-CjzbHH/blib/arch:/home/cpansand/.cpan/build/2016091921/Class-Data-ConfigHash-0.00002-CjzbHH/blib/lib
    PERL5OPT = 
    PERL5_CPANPLUS_IS_RUNNING = 7196
    PERL5_CPAN_IS_RUNNING = 7196
    PERL5_CPAN_IS_RUNNING_IN_RECURSION = 7115,7196
    PERLDOC = -MPod::Perldoc::ToTextOverstrike
    PERL_BATCH = yes
    PERL_CANARY_STABILITY_NOPROMPT = 1
    PERL_CPAN_REPORTER_CONFIG = /run/user/1023/cpansmoker/2016091921/cpanreporter_003_config.ini
    PERL_EXTUTILS_AUTOINSTALL = --defaultdeps
    PERL_USE_UNSAFE_INC = 1
    SHELL = /bin/zsh
    TERM = screen
    TMPDIR = /run/user/1023/cpansmoker/2016091921

Perl special variables (and OS-specific diagnostics, for MSWin32):

    $^X = /bbbike/perl-5.22.3-RC3t/bin/perl
    $UID/$EUID = 1023 / 1023
    $GID = 1023 1023
    $EGID = 1023 1023

Perl module toolchain versions installed:

    Module              Have      
    ------------------- ----------
    CPAN                2.11_01   
    CPAN::Meta          2.150001  
    Cwd                 3.56_02   
    ExtUtils::CBuilder  0.280221  
    ExtUtils::Command   1.20_01   
    ExtUtils::Install   2.04      
    ExtUtils::MakeMaker 7.04_02   
    ExtUtils::Manifest  1.70      
    ExtUtils::ParseXS   3.28      
    File::Spec          3.56_02   
    JSON                2.90      
    JSON::PP            2.27300_01
    Module::Build       0.4220    
    Module::Signature   n/a       
    Parse::CPAN::Meta   1.4414_001
    Test::Harness       3.35_01   
    Test::More          1.302052  
    YAML                1.18      
    YAML::Syck          1.29      
    version             0.9909    


--

Summary of my perl5 (revision 5 version 22 subversion 3) configuration:
   
  Platform:
    osname=linux, osvers=3.16.0-4-amd64, archname=x86_64-linux-thread-multi
    uname='linux eserte 3.16.0-4-amd64 #1 smp debian 3.16.7-ckt25-2+deb8u3 (2016-07-02) x86_64 gnulinux '
    config_args='-ds -e -Dprefix=/opt/perl-5.22.3-RC3t -Dusethreads -Dcf_email=srezic@cpan.org'
    hint=recommended, useposix=true, d_sigaction=define
    useithreads=define, usemultiplicity=define
    use64bitint=define, use64bitall=define, uselongdouble=undef
    usemymalloc=n, bincompat5005=undef
  Compiler:
    cc='cc', ccflags ='-D_REENTRANT -D_GNU_SOURCE -fwrapv -fno-strict-aliasing -pipe -fstack-protector-strong -I/usr/local/include -D_LARGEFILE_SOURCE -D_FILE_OFFSET_BITS=64 -D_FORTIFY_SOURCE=2',
    optimize='-O2',
    cppflags='-D_REENTRANT -D_GNU_SOURCE -fwrapv -fno-strict-aliasing -pipe -fstack-protector-strong -I/usr/local/include'
    ccversion='', gccversion='4.9.2', gccosandvers=''
    intsize=4, longsize=8, ptrsize=8, doublesize=8, byteorder=12345678, doublekind=3
    d_longlong=define, longlongsize=8, d_longdbl=define, longdblsize=16, longdblkind=3
    ivtype='long', ivsize=8, nvtype='double', nvsize=8, Off_t='off_t', lseeksize=8
    alignbytes=8, prototype=define
  Linker and Libraries:
    ld='cc', ldflags =' -fstack-protector-strong -L/usr/local/lib'
    libpth=/usr/local/lib /usr/lib/gcc/x86_64-linux-gnu/4.9/include-fixed /usr/include/x86_64-linux-gnu /usr/lib /lib/x86_64-linux-gnu /lib/../lib /usr/lib/x86_64-linux-gnu /usr/lib/../lib /lib
    libs=-lpthread -lnsl -lgdbm -ldb -ldl -lm -lcrypt -lutil -lc -lgdbm_compat
    perllibs=-lpthread -lnsl -ldl -lm -lcrypt -lutil -lc
    libc=libc-2.19.so, so=so, useshrplib=false, libperl=libperl.a
    gnulibc_version='2.19'
  Dynamic Linking:
    dlsrc=dl_dlopen.xs, dlext=so, d_dlsymun=undef, ccdlflags='-Wl,-E'
    cccdlflags='-fPIC', lddlflags='-shared -O2 -L/usr/local/lib -fstack-protector-strong'


Characteristics of this binary (from libperl): 
  Compile-time options: HAS_TIMES MULTIPLICITY PERLIO_LAYERS
                        PERL_DONT_CREATE_GVSV
                        PERL_HASH_FUNC_ONE_AT_A_TIME_HARD
                        PERL_IMPLICIT_CONTEXT PERL_MALLOC_WRAP
                        PERL_NEW_COPY_ON_WRITE PERL_PRESERVE_IVUV
                        USE_64_BIT_ALL USE_64_BIT_INT USE_ITHREADS
                        USE_LARGE_FILES USE_LOCALE USE_LOCALE_COLLATE
                        USE_LOCALE_CTYPE USE_LOCALE_NUMERIC USE_LOCALE_TIME
                        USE_PERLIO USE_PERL_ATOF USE_REENTRANT_API
  Locally applied patches:
	RC3
  Built under linux
  Compiled at Sep  7 2016 21:14:32
  %ENV:
    PERL5LIB="/home/cpansand/.cpan/build/2016091921/Regexp-Common-2016060801-16xddQ/blib/arch:/home/cpansand/.cpan/build/2016091921/Regexp-Common-2016060801-16xddQ/blib/lib:/home/cpansand/.cpan/build/2016091921/Data-Printer-0.38-RhjyYC/blib/arch:/home/cpansand/.cpan/build/2016091921/Data-Printer-0.38-RhjyYC/blib/lib:/home/cpansand/.cpan/build/2016091921/Clone-PP-1.06-A18Ezq/blib/arch:/home/cpansand/.cpan/build/2016091921/Clone-PP-1.06-A18Ezq/blib/lib:/home/cpansand/.cpan/build/2016091921/Readonly-2.05-ZCdB7l/blib/arch:/home/cpansand/.cpan/build/2016091921/Readonly-2.05-ZCdB7l/blib/lib:/home/cpansand/.cpan/build/2016091921/FindBin-libs-2.15-3BBB3H/blib/arch:/home/cpansand/.cpan/build/2016091921/FindBin-libs-2.15-3BBB3H/blib/lib:/home/cpansand/.cpan/build/2016091921/WebService-Simple-0.25-YbxMix/blib/arch:/home/cpansand/.cpan/build/2016091921/WebService-Simple-0.25-YbxMix/blib/lib:/home/cpansand/.cpan/build/2016091921/Class-Data-ConfigHash-0.00002-CjzbHH/blib/arch:/home/cpansand/.cpan/build/2016091921/Class-Data-ConfigHash-0.00002-CjzbHH/blib/lib"
    PERL5OPT=""
    PERL5_CPANPLUS_IS_RUNNING="7196"
    PERL5_CPAN_IS_RUNNING="7196"
    PERL5_CPAN_IS_RUNNING_IN_RECURSION="7115,7196"
    PERLDOC="-MPod::Perldoc::ToTextOverstrike"
    PERL_BATCH="yes"
    PERL_CANARY_STABILITY_NOPROMPT="1"
    PERL_CPAN_REPORTER_CONFIG="/run/user/1023/cpansmoker/2016091921/cpanreporter_003_config.ini"
    PERL_EXTUTILS_AUTOINSTALL="--defaultdeps"
    PERL_USE_UNSAFE_INC="1"
  @INC:
    /home/cpansand/.cpan/build/2016091921/Regexp-Common-2016060801-16xddQ/blib/arch
    /home/cpansand/.cpan/build/2016091921/Regexp-Common-2016060801-16xddQ/blib/lib
    /home/cpansand/.cpan/build/2016091921/Data-Printer-0.38-RhjyYC/blib/arch
    /home/cpansand/.cpan/build/2016091921/Data-Printer-0.38-RhjyYC/blib/lib
    /home/cpansand/.cpan/build/2016091921/Clone-PP-1.06-A18Ezq/blib/arch
    /home/cpansand/.cpan/build/2016091921/Clone-PP-1.06-A18Ezq/blib/lib
    /home/cpansand/.cpan/build/2016091921/Readonly-2.05-ZCdB7l/blib/arch
    /home/cpansand/.cpan/build/2016091921/Readonly-2.05-ZCdB7l/blib/lib
    /home/cpansand/.cpan/build/2016091921/FindBin-libs-2.15-3BBB3H/blib/arch
    /home/cpansand/.cpan/build/2016091921/FindBin-libs-2.15-3BBB3H/blib/lib
    /home/cpansand/.cpan/build/2016091921/WebService-Simple-0.25-YbxMix/blib/arch
    /home/cpansand/.cpan/build/2016091921/WebService-Simple-0.25-YbxMix/blib/lib
    /home/cpansand/.cpan/build/2016091921/Class-Data-ConfigHash-0.00002-CjzbHH/blib/arch
    /home/cpansand/.cpan/build/2016091921/Class-Data-ConfigHash-0.00002-CjzbHH/blib/lib
    /opt/perl-5.22.3-RC3t/lib/site_perl/5.22.3/x86_64-linux-thread-multi
    /opt/perl-5.22.3-RC3t/lib/site_perl/5.22.3
    /opt/perl-5.22.3-RC3t/lib/5.22.3/x86_64-linux-thread-multi
    /opt/perl-5.22.3-RC3t/lib/5.22.3
    .