Protocol-HTTP2 v1.08 Perl 5 v5.18.4 darwin-2level

Status
Pass
From
Slaven Rezić (SREZIC)
Dist
Protocol-HTTP2 v1.08
Platform
Perl 5 v5.18.4 darwin-2level
Date
2018-05-06 19:31:01
ID
02a73dba-5164-11e8-b82d-f6e13b7f14d7
This distribution has been tested as part of the CPAN Testers
project, supporting the Perl programming language.  See
http://wiki.cpantesters.org/ for more information or email
questions to cpan-testers-discuss@perl.org


--
Dear Vladimir Lettiev,

This is a computer-generated report for Protocol-HTTP2-1.08
on perl 5.18.4, created by CPAN-Reporter-1.2018.

Thank you for uploading your work to CPAN.  Congratulations!
All tests were successful.

Sections of this report:

    * Tester comments
    * Program output
    * Prerequisites
    * Environment and other context

------------------------------
TESTER COMMENTS
------------------------------

Additional comments from tester:

none provided

------------------------------
PROGRAM OUTPUT
------------------------------

Output from './Build test':

t/00_compile.t ............ ok
t/01_HeaderCompression.t .. ok
t/02_Huffman.t ............ ok
t/03_connection.t ......... ok
t/04_continuation.t ....... ok
t/05_trace.t .............. ok
t/06_upgrade.t ............ ok
t/07_ping.t ............... ok
t/08_priority.t ........... ok
t/09_client_server_tcp.t .. ok
t/10_settings.t ........... ok
t/11_server_stream.t ...... ok
t/12_leaks.t .............. ok
t/13_request_with_body.t .. ok
t/14_keepalive.t .......... ok
All tests successful.
Files=15, Tests=35,  1 wallclock secs ( 0.07 usr  0.04 sys +  0.90 cusr  0.17 csys =  1.18 CPU)
Result: PASS

------------------------------
PREREQUISITES
------------------------------

Prerequisite modules loaded:

requires:

    Module              Need     Have    
    ------------------- -------- --------
    MIME::Base64        3.11     3.13    
    perl                5.008005 5.018004
    Scalar::Util        0        1.47    

build_requires:

    Module              Need     Have    
    ------------------- -------- --------
    AnyEvent            0        7.14    
    Net::SSLeay         > 1.45   1.80    
    Test::LeakTrace     0        0.15    
    Test::More          0.98     1.302078
    Test::TCP           0        2.17    

configure_requires:

    Module              Need     Have    
    ------------------- -------- --------
    Module::Build::Tiny 0.035    0.039   


------------------------------
ENVIRONMENT AND OTHER CONTEXT
------------------------------

Environment variables:

    LANG = de_DE.UTF-8
    PATH = /usr/local/bin:/usr/bin:/bin:/usr/local/sbin:/usr/sbin:/sbin:/Users/eserte/bin/darwin16.0:/Users/eserte/bin/sh:/Users/eserte/bin:/Users/eserte/bin/pistachio-perl/bin:/usr/games:/Users/eserte/devel:/Users/eserte/work/drafts-slaven.rezic/misc:/Users/eserte/src/srezic-misc/scripts
    PERL5LIB = /Users/eserte/.cpan/build/2018042615/AnyEvent-7.14-GrSuTl/blib/arch:/Users/eserte/.cpan/build/2018042615/AnyEvent-7.14-GrSuTl/blib/lib
    PERL5OPT = 
    PERL5_CPANPLUS_IS_RUNNING = 17968
    PERL5_CPAN_IS_RUNNING = 17968
    PERL5_CPAN_IS_RUNNING_IN_RECURSION = 92295,17968
    PERLDOC = -MPod::Perldoc::ToTextOverstrike
    PERL_BATCH = yes
    PERL_CANARY_STABILITY_NOPROMPT = 1
    PERL_CPAN_REPORTER_CONFIG = /var/tmp/cpansmoker-501/2018042615/cpanreporter_000_config.ini
    PERL_EXTUTILS_AUTOINSTALL = --defaultdeps
    SHELL = /bin/zsh
    TERM = screen
    TMPDIR = /var/tmp/cpansmoker-501/2018042615

Perl special variables (and OS-specific diagnostics, for MSWin32):

    $^X = /opt/perl-5.18.4/bin/perl
    $UID/$EUID = 501 / 501
    $GID = 20 20 701 12 61 79 80 81 98 33 100 204 395 398 399
    $EGID = 20 20 701 12 61 79 80 81 98 33 100 204 395 398 399

Perl module toolchain versions installed:

    Module              Have    
    ------------------- --------
    CPAN                2.00    
    CPAN::Meta          2.150010
    Cwd                 3.40    
    ExtUtils::CBuilder  0.280210
    ExtUtils::Command   7.24    
    ExtUtils::Install   1.59    
    ExtUtils::MakeMaker 7.24    
    ExtUtils::Manifest  1.70    
    ExtUtils::ParseXS   3.18    
    File::Spec          3.40    
    JSON                2.90    
    JSON::PP            2.27400 
    Module::Build       0.4220  
    Module::Signature   0.81    
    Parse::CPAN::Meta   2.150010
    Test::Harness       3.36    
    Test::More          1.302078
    YAML                1.23    
    YAML::Syck          1.29    
    version             0.9902  


--

Summary of my perl5 (revision 5 version 18 subversion 4) configuration:
   
  Platform:
    osname=darwin, osvers=15.4.0, archname=darwin-2level
    uname='darwin macbook.herceg.de 15.4.0 darwin kernel version 15.4.0: fri feb 26 22:08:05 pst 2016; root:xnu-3248.40.184~3release_x86_64 x86_64 '
    config_args='-ds -e -Dprefix=/opt/perl-5.18.4 -Dcf_email=srezic@cpan.org'
    hint=recommended, useposix=true, d_sigaction=define
    useithreads=undef, usemultiplicity=undef
    useperlio=define, d_sfio=undef, uselargefiles=define, usesocks=undef
    use64bitint=define, use64bitall=define, uselongdouble=undef
    usemymalloc=n, bincompat5005=undef
  Compiler:
    cc='cc', ccflags ='-fno-common -DPERL_DARWIN -fno-strict-aliasing -pipe -fstack-protector -I/usr/local/include',
    optimize='-O3',
    cppflags='-fno-common -DPERL_DARWIN -fno-strict-aliasing -pipe -fstack-protector -I/usr/local/include'
    ccversion='', gccversion='4.2.1 Compatible Apple LLVM 7.3.0 (clang-703.0.31)', gccosandvers=''
    intsize=4, longsize=8, ptrsize=8, doublesize=8, byteorder=12345678
    d_longlong=define, longlongsize=8, d_longdbl=define, longdblsize=16
    ivtype='long', ivsize=8, nvtype='double', nvsize=8, Off_t='off_t', lseeksize=8
    alignbytes=8, prototype=define
  Linker and Libraries:
    ld='env MACOSX_DEPLOYMENT_TARGET=10.3 cc', ldflags =' -fstack-protector -L/usr/local/lib'
    libpth=/usr/local/lib /usr/lib
    libs=-ldbm -ldb -ldl -lm -lutil -lc
    perllibs=-ldl -lm -lutil -lc
    libc=, so=dylib, useshrplib=false, libperl=libperl.a
    gnulibc_version=''
  Dynamic Linking:
    dlsrc=dl_dlopen.xs, dlext=bundle, d_dlsymun=undef, ccdlflags=' '
    cccdlflags=' ', lddlflags=' -bundle -undefined dynamic_lookup -L/usr/local/lib -fstack-protector'


Characteristics of this binary (from libperl): 
  Compile-time options: HAS_TIMES PERLIO_LAYERS PERL_DONT_CREATE_GVSV
                        PERL_HASH_FUNC_ONE_AT_A_TIME_HARD PERL_MALLOC_WRAP
                        PERL_PRESERVE_IVUV PERL_SAWAMPERSAND USE_64_BIT_ALL
                        USE_64_BIT_INT USE_LARGE_FILES USE_LOCALE
                        USE_LOCALE_COLLATE USE_LOCALE_CTYPE
                        USE_LOCALE_NUMERIC USE_PERLIO USE_PERL_ATOF
  Built under darwin
  Compiled at Mar 12 2017 17:59:57
  %ENV:
    PERL5LIB="/Users/eserte/.cpan/build/2018042615/AnyEvent-7.14-GrSuTl/blib/arch:/Users/eserte/.cpan/build/2018042615/AnyEvent-7.14-GrSuTl/blib/lib"
    PERL5OPT=""
    PERL5_CPANPLUS_IS_RUNNING="17968"
    PERL5_CPAN_IS_RUNNING="17968"
    PERL5_CPAN_IS_RUNNING_IN_RECURSION="92295,17968"
    PERLDOC="-MPod::Perldoc::ToTextOverstrike"
    PERL_BATCH="yes"
    PERL_CANARY_STABILITY_NOPROMPT="1"
    PERL_CPAN_REPORTER_CONFIG="/var/tmp/cpansmoker-501/2018042615/cpanreporter_000_config.ini"
    PERL_EXTUTILS_AUTOINSTALL="--defaultdeps"
  @INC:
    /Users/eserte/.cpan/build/2018042615/AnyEvent-7.14-GrSuTl/blib/arch
    /Users/eserte/.cpan/build/2018042615/AnyEvent-7.14-GrSuTl/blib/lib
    /opt/perl-5.18.4/lib/site_perl/5.18.4/darwin-2level
    /opt/perl-5.18.4/lib/site_perl/5.18.4
    /opt/perl-5.18.4/lib/5.18.4/darwin-2level
    /opt/perl-5.18.4/lib/5.18.4
    .