AlignDB-IntSpan v1.1.1 Perl 5 v5.20.3 OpenBSD.amd64-openbsd

Status
Pass
From
Nigel Horne
Dist
AlignDB-IntSpan v1.1.1
Platform
Perl 5 v5.20.3 OpenBSD.amd64-openbsd
Date
2018-04-01 19:22:25
ID
02a8f99a-35e2-11e8-91ce-d3e3deac0b3f
This distribution has been tested as part of the CPAN Testers
project, supporting the Perl programming language.  See
http://wiki.cpantesters.org/ for more information or email
questions to cpan-testers-discuss@perl.org


--
Dear Qiang Wang,

This is a computer-generated report for AlignDB-IntSpan-1.1.1
on perl 5.20.3, created by CPAN-Reporter-1.2018.

Thank you for uploading your work to CPAN.  Congratulations!
All tests were successful.

Sections of this report:

    * Tester comments
    * Program output
    * Prerequisites
    * Environment and other context

------------------------------
TESTER COMMENTS
------------------------------

Additional comments from tester:

this report is from an automated smoke testing program
and was not reviewed by a human for accuracy

------------------------------
PROGRAM OUTPUT
------------------------------

Output from './Build test':

# Testing AlignDB::IntSpan 1.1.1
t/00.load.t ............ ok
t/01.basic.t ........... ok
t/02.misc.t ............ ok
Start index less than 1
 at t/03.index.t line 175.
Start index less than 1
 at t/03.index.t line 175.
t/03.index.t ........... ok
t/04.grep_map.t ........ ok
t/05.runlist.t ......... ok
t/06.relation.t ........ ok
t/07.binary.t .......... ok
t/08.spans.t ........... ok
t/09.spans_op.t ........ ok
t/10.inter_set_op.t .... ok
t/11.islands.t ......... ok
t/12.overload.t ........ ok
Useless use of negative pattern binding (!~) in void context at t/20.error.t line 34.
t/20.error.t ........... ok
t/author-pod-syntax.t .. skipped: these tests are for testing by the author
All tests successful.
Files=15, Tests=9294, 23 wallclock secs ( 4.66 usr  0.49 sys + 20.31 cusr  1.81 csys = 27.27 CPU)
Result: PASS

------------------------------
PREREQUISITES
------------------------------

Prerequisite modules loaded:

requires:

    Module                Need     Have    
    --------------------- -------- --------
    perl                  5.008001 5.020003
    Readonly              0        2.05    
    Scalar::Util          0        1.50    
    Scalar::Util::Numeric 0        0.40    

build_requires:

    Module                Need     Have    
    --------------------- -------- --------
    Test::More            0.88     1.302130

configure_requires:

    Module                Need     Have    
    --------------------- -------- --------
    Module::Build::Tiny   0.034    0.039   


------------------------------
ENVIRONMENT AND OTHER CONTEXT
------------------------------

Environment variables:

    AUTOMATED_TESTING = 1
    PATH = /home/njh/perl5/perlbrew/bin:/home/njh/perl5/perlbrew/perls/perl-5.20.3-64int/bin:src/njh/smoker/bin:/usr/bin:/bin:/usr/sbin:/sbin:/usr/X11R6/bin:/usr/local/bin:/usr/local/sbin
    PERL5LIB = /home/njh/.cpan/build/Scalar-Util-Numeric-0.40-0/blib/arch:/home/njh/.cpan/build/Scalar-Util-Numeric-0.40-0/blib/lib:/home/njh/.cpan/build/Chart-Plotly-0.016-0/blib/arch:/home/njh/.cpan/build/Chart-Plotly-0.016-0/blib/lib:/home/njh/.cpan/build/UUID-Tiny-1.04-16/blib/arch:/home/njh/.cpan/build/UUID-Tiny-1.04-16/blib/lib:/home/njh/.cpan/build/Ref-Util-0.203-11/blib/arch:/home/njh/.cpan/build/Ref-Util-0.203-11/blib/lib:/home/njh/.cpan/build/Ref-Util-XS-0.117-11/blib/arch:/home/njh/.cpan/build/Ref-Util-XS-0.117-11/blib/lib:/home/njh/.cpan/build/MooseX-ExtraArgs-0.01-9/blib/arch:/home/njh/.cpan/build/MooseX-ExtraArgs-0.01-9/blib/lib:/home/njh/.cpan/build/HTML-Show-0.001-9/blib/arch:/home/njh/.cpan/build/HTML-Show-0.001-9/blib/lib:/home/njh/.cpan/build/Browser-Open-0.04-9/blib/arch:/home/njh/.cpan/build/Browser-Open-0.04-9/blib/lib:/home/njh/.cpan/build/Const-Fast-0.014-9/blib/arch:/home/njh/.cpan/build/Const-Fast-0.014-9/blib/lib
    PERL5OPT = 
    PERL5_CPANPLUS_IS_RUNNING = 48021
    PERL5_CPAN_IS_RUNNING = 48021
    PERLBREW_HOME = /home/njh/.perlbrew
    PERLBREW_MANPATH = /home/njh/perl5/perlbrew/perls/perl-5.20.3-64int/man
    PERLBREW_PATH = /home/njh/perl5/perlbrew/bin:/home/njh/perl5/perlbrew/perls/perl-5.20.3-64int/bin
    PERLBREW_PERL = perl-5.20.3-64int
    PERLBREW_ROOT = /home/njh/perl5/perlbrew
    PERLBREW_SHELLRC_VERSION = 0.82
    PERLBREW_VERSION = 0.82
    SHELL = /bin/sh

Perl special variables (and OS-specific diagnostics, for MSWin32):

    $^X = /home/njh/perl5/perlbrew/perls/perl-5.20.3-64int/bin/perl5.20.3
    $UID/$EUID = 1000 / 1000
    $GID = 1000 1000 0
    $EGID = 1000 1000 0

Perl module toolchain versions installed:

    Module              Have    
    ------------------- --------
    CPAN                2.16    
    CPAN::Meta          2.143240
    Cwd                 3.62    
    ExtUtils::CBuilder  0.280217
    ExtUtils::Command   7.30    
    ExtUtils::Install   2.06    
    ExtUtils::MakeMaker 7.30    
    ExtUtils::Manifest  1.70    
    ExtUtils::ParseXS   3.24    
    File::Spec          3.62    
    JSON                2.97001 
    JSON::PP            2.97001 
    Module::Build       0.4224  
    Module::Signature   n/a     
    Parse::CPAN::Meta   1.4414  
    Test::Harness       3.39    
    Test::More          1.302130
    YAML                1.24    
    YAML::Syck          1.30    
    version             0.9909  


--

Summary of my perl5 (revision 5 version 20 subversion 3) configuration:
   
  Platform:
    osname=openbsd, osvers=6.2, archname=OpenBSD.amd64-openbsd
    uname='openbsd netgate1.bandsman.co.uk 6.2 generic.mp#2 amd64 '
    config_args='-de -Dprefix=/home/njh/perl5/perlbrew/perls/perl-5.20.3-64int -Dusedevel -Duse64bitint -Accflags= -Aeval:scriptdir=/home/njh/perl5/perlbrew/perls/perl-5.20.3-64int/bin'
    hint=recommended, useposix=true, d_sigaction=define
    useithreads=undef, usemultiplicity=undef
    use64bitint=define, use64bitall=define, uselongdouble=undef
    usemymalloc=n, bincompat5005=undef
  Compiler:
    cc='cc', ccflags ='-fno-strict-aliasing -pipe -fstack-protector -I/usr/local/include',
    optimize='-O2',
    cppflags='-fno-strict-aliasing -pipe -fstack-protector -I/usr/local/include'
    ccversion='', gccversion='4.2.1 Compatible OpenBSD Clang 4.0.0 (tags/RELEASE_400/final)', gccosandvers=''
    intsize=4, longsize=8, ptrsize=8, doublesize=8, byteorder=12345678
    d_longlong=define, longlongsize=8, d_longdbl=define, longdblsize=16
    ivtype='long', ivsize=8, nvtype='double', nvsize=8, Off_t='off_t', lseeksize=8
    alignbytes=8, prototype=define
  Linker and Libraries:
    ld='cc', ldflags ='-Wl,-E  -fstack-protector -L/usr/local/lib'
    libpth=/usr/lib /usr/local/lib
    libs=-lpthread -lm -lutil -lc
    perllibs=-lpthread -lm -lutil -lc
    libc=/usr/lib/libc.so.90.0, so=so, useshrplib=false, libperl=libperl.a
    gnulibc_version=''
  Dynamic Linking:
    dlsrc=dl_dlopen.xs, dlext=so, d_dlsymun=undef, ccdlflags=' '
    cccdlflags='-DPIC -fPIC ', lddlflags='-shared -fPIC  -L/usr/local/lib -fstack-protector'


Characteristics of this binary (from libperl): 
  Compile-time options: HAS_TIMES PERLIO_LAYERS PERL_DONT_CREATE_GVSV
                        PERL_HASH_FUNC_ONE_AT_A_TIME_HARD PERL_MALLOC_WRAP
                        PERL_NEW_COPY_ON_WRITE PERL_PRESERVE_IVUV
                        PERL_USE_DEVEL USE_64_BIT_ALL USE_64_BIT_INT
                        USE_LARGE_FILES USE_LOCALE USE_LOCALE_COLLATE
                        USE_LOCALE_CTYPE USE_LOCALE_NUMERIC USE_PERLIO
                        USE_PERL_ATOF
  Locally applied patches:
	Devel::PatchPerl 1.48
  Built under openbsd
  Compiled at Jan 21 2018 05:22:47
  %ENV:
    PERL5LIB="/home/njh/.cpan/build/Scalar-Util-Numeric-0.40-0/blib/arch:/home/njh/.cpan/build/Scalar-Util-Numeric-0.40-0/blib/lib:/home/njh/.cpan/build/Chart-Plotly-0.016-0/blib/arch:/home/njh/.cpan/build/Chart-Plotly-0.016-0/blib/lib:/home/njh/.cpan/build/UUID-Tiny-1.04-16/blib/arch:/home/njh/.cpan/build/UUID-Tiny-1.04-16/blib/lib:/home/njh/.cpan/build/Ref-Util-0.203-11/blib/arch:/home/njh/.cpan/build/Ref-Util-0.203-11/blib/lib:/home/njh/.cpan/build/Ref-Util-XS-0.117-11/blib/arch:/home/njh/.cpan/build/Ref-Util-XS-0.117-11/blib/lib:/home/njh/.cpan/build/MooseX-ExtraArgs-0.01-9/blib/arch:/home/njh/.cpan/build/MooseX-ExtraArgs-0.01-9/blib/lib:/home/njh/.cpan/build/HTML-Show-0.001-9/blib/arch:/home/njh/.cpan/build/HTML-Show-0.001-9/blib/lib:/home/njh/.cpan/build/Browser-Open-0.04-9/blib/arch:/home/njh/.cpan/build/Browser-Open-0.04-9/blib/lib:/home/njh/.cpan/build/Const-Fast-0.014-9/blib/arch:/home/njh/.cpan/build/Const-Fast-0.014-9/blib/lib"
    PERL5OPT=""
    PERL5_CPANPLUS_IS_RUNNING="48021"
    PERL5_CPAN_IS_RUNNING="48021"
    PERLBREW_HOME="/home/njh/.perlbrew"
    PERLBREW_MANPATH="/home/njh/perl5/perlbrew/perls/perl-5.20.3-64int/man"
    PERLBREW_PATH="/home/njh/perl5/perlbrew/bin:/home/njh/perl5/perlbrew/perls/perl-5.20.3-64int/bin"
    PERLBREW_PERL="perl-5.20.3-64int"
    PERLBREW_ROOT="/home/njh/perl5/perlbrew"
    PERLBREW_SHELLRC_VERSION="0.82"
    PERLBREW_VERSION="0.82"
  @INC:
    /home/njh/.cpan/build/Scalar-Util-Numeric-0.40-0/blib/arch
    /home/njh/.cpan/build/Scalar-Util-Numeric-0.40-0/blib/lib
    /home/njh/.cpan/build/Chart-Plotly-0.016-0/blib/arch
    /home/njh/.cpan/build/Chart-Plotly-0.016-0/blib/lib
    /home/njh/.cpan/build/UUID-Tiny-1.04-16/blib/arch
    /home/njh/.cpan/build/UUID-Tiny-1.04-16/blib/lib
    /home/njh/.cpan/build/Ref-Util-0.203-11/blib/arch
    /home/njh/.cpan/build/Ref-Util-0.203-11/blib/lib
    /home/njh/.cpan/build/Ref-Util-XS-0.117-11/blib/arch
    /home/njh/.cpan/build/Ref-Util-XS-0.117-11/blib/lib
    /home/njh/.cpan/build/MooseX-ExtraArgs-0.01-9/blib/arch
    /home/njh/.cpan/build/MooseX-ExtraArgs-0.01-9/blib/lib
    /home/njh/.cpan/build/HTML-Show-0.001-9/blib/arch
    /home/njh/.cpan/build/HTML-Show-0.001-9/blib/lib
    /home/njh/.cpan/build/Browser-Open-0.04-9/blib/arch
    /home/njh/.cpan/build/Browser-Open-0.04-9/blib/lib
    /home/njh/.cpan/build/Const-Fast-0.014-9/blib/arch
    /home/njh/.cpan/build/Const-Fast-0.014-9/blib/lib
    /home/njh/perl5/perlbrew/perls/perl-5.20.3-64int/lib/site_perl/5.20.3/OpenBSD.amd64-openbsd
    /home/njh/perl5/perlbrew/perls/perl-5.20.3-64int/lib/site_perl/5.20.3
    /home/njh/perl5/perlbrew/perls/perl-5.20.3-64int/lib/5.20.3/OpenBSD.amd64-openbsd
    /home/njh/perl5/perlbrew/perls/perl-5.20.3-64int/lib/5.20.3
    .