DateTime-Format-Strptime v1.79 Perl 5 v5.30.3 darwin-2level

Status
Pass
From
Nigel Horne
Dist
DateTime-Format-Strptime v1.79
Platform
Perl 5 v5.30.3 darwin-2level
Date
2021-05-03 11:02:11
ID
02b49e08-abff-11eb-96e8-8b924379b2c6
This distribution has been tested as part of the CPAN Testers
project, supporting the Perl programming language.  See
http://wiki.cpantesters.org/ for more information or email
questions to cpan-testers-discuss@perl.org


--
Dear Dave Rolsky,

This is a computer-generated report for DateTime-Format-Strptime-1.79
on perl 5.30.3, created by CPAN-Reporter-1.2018.

Thank you for uploading your work to CPAN.  Congratulations!
All tests were successful.

Sections of this report:

    * Tester comments
    * Program output
    * Prerequisites
    * Environment and other context

------------------------------
TESTER COMMENTS
------------------------------

Additional comments from tester:

none provided

------------------------------
PROGRAM OUTPUT
------------------------------

Output from '/usr/bin/make test':

PERL_DL_NONLAZY=1 "/Users/nhorne/perl5/perlbrew/perls/perl-5.30.3/bin/perl" "-MExtUtils::Command::MM" "-MTest::Harness" "-e" "undef *Test::Harness::Switches; test_harness(0, 'blib/lib', 'blib/arch')" t/*.t
# 
# Versions for all modules listed in MYMETA.json (including optional ones):
# 
# === Configure Requires ===
# 
#     Module              Want Have
#     ------------------- ---- ----
#     ExtUtils::MakeMaker  any 7.62
# 
# === Configure Suggests ===
# 
#     Module      Want Have
#     -------- ------- ----
#     JSON::PP 2.27300 4.06
# 
# === Build Requires ===
# 
#     Module              Want Have
#     ------------------- ---- ----
#     ExtUtils::MakeMaker  any 7.62
# 
# === Test Requires ===
# 
#     Module              Want     Have
#     ------------------- ---- --------
#     ExtUtils::MakeMaker  any     7.62
#     File::Spec           any     3.78
#     FindBin              any     1.52
#     Test::Builder        any 1.302183
#     Test::Fatal          any    0.016
#     Test::More          0.96 1.302183
#     Test::Warnings       any    0.030
#     lib                  any     0.65
#     utf8                 any     1.22
# 
# === Test Recommends ===
# 
#     Module         Want     Have
#     ---------- -------- --------
#     CPAN::Meta 2.120900 2.150010
# 
# === Runtime Requires ===
# 
#     Module                     Want  Have
#     -------------------------- ---- -----
#     Carp                        any  1.50
#     DateTime                   1.00  1.54
#     DateTime::Locale           1.30  1.32
#     DateTime::Locale::Base      any  1.32
#     DateTime::Locale::FromData  any  1.32
#     DateTime::TimeZone         2.09  2.47
#     Exporter                    any  5.74
#     Params::ValidationCompiler  any  0.30
#     Specio                     0.33  0.47
#     Specio::Declare             any  0.47
#     Specio::Exporter            any  0.47
#     Specio::Library::Builtins   any  0.47
#     Specio::Library::String     any  0.47
#     Try::Tiny                   any  0.30
#     constant                    any  1.33
#     parent                      any 0.238
#     strict                      any  1.11
#     warnings                    any  1.44
# 
t/00-report-prereqs.t .... ok
t/format-datetime.t ...... ok
t/format-with-locale.t ... ok
Subroutine olson_version redefined at /Users/nhorne/perl5/perlbrew/perls/perl-5.30.3/lib/site_perl/5.30.3/DateTime/TimeZone/america/new_york.pm line 2098, <DATA> line 1.
Subroutine has_dst_changes redefined at /Users/nhorne/perl5/perlbrew/perls/perl-5.30.3/lib/site_perl/5.30.3/DateTime/TimeZone/america/new_york.pm line 2100, <DATA> line 1.
Subroutine _max_year redefined at /Users/nhorne/perl5/perlbrew/perls/perl-5.30.3/lib/site_perl/5.30.3/DateTime/TimeZone/america/new_york.pm line 2102, <DATA> line 1.
Subroutine _new_instance redefined at /Users/nhorne/perl5/perlbrew/perls/perl-5.30.3/lib/site_perl/5.30.3/DateTime/TimeZone/america/new_york.pm line 2104, <DATA> line 1.
Subroutine _last_offset redefined at /Users/nhorne/perl5/perlbrew/perls/perl-5.30.3/lib/site_perl/5.30.3/DateTime/TimeZone/america/new_york.pm line 2108, <DATA> line 1.
Subroutine _last_observance redefined at /Users/nhorne/perl5/perlbrew/perls/perl-5.30.3/lib/site_perl/5.30.3/DateTime/TimeZone/america/new_york.pm line 2146, <DATA> line 1.
Subroutine _rules redefined at /Users/nhorne/perl5/perlbrew/perls/perl-5.30.3/lib/site_perl/5.30.3/DateTime/TimeZone/america/new_york.pm line 2173, <DATA> line 1.
Subroutine olson_version redefined at /Users/nhorne/perl5/perlbrew/perls/perl-5.30.3/lib/site_perl/5.30.3/DateTime/TimeZone/amERicA/new_YORK.pm line 2098, <DATA> line 1.
Subroutine has_dst_changes redefined at /Users/nhorne/perl5/perlbrew/perls/perl-5.30.3/lib/site_perl/5.30.3/DateTime/TimeZone/amERicA/new_YORK.pm line 2100, <DATA> line 1.
Subroutine _max_year redefined at /Users/nhorne/perl5/perlbrew/perls/perl-5.30.3/lib/site_perl/5.30.3/DateTime/TimeZone/amERicA/new_YORK.pm line 2102, <DATA> line 1.
Subroutine _new_instance redefined at /Users/nhorne/perl5/perlbrew/perls/perl-5.30.3/lib/site_perl/5.30.3/DateTime/TimeZone/amERicA/new_YORK.pm line 2104, <DATA> line 1.
Subroutine _last_offset redefined at /Users/nhorne/perl5/perlbrew/perls/perl-5.30.3/lib/site_perl/5.30.3/DateTime/TimeZone/amERicA/new_YORK.pm line 2108, <DATA> line 1.
Subroutine _last_observance redefined at /Users/nhorne/perl5/perlbrew/perls/perl-5.30.3/lib/site_perl/5.30.3/DateTime/TimeZone/amERicA/new_YORK.pm line 2146, <DATA> line 1.
Subroutine _rules redefined at /Users/nhorne/perl5/perlbrew/perls/perl-5.30.3/lib/site_perl/5.30.3/DateTime/TimeZone/amERicA/new_YORK.pm line 2173, <DATA> line 1.
t/edge.t ................. ok
t/errors.t ............... ok
t/basic.t ................ ok
t/generated-locale-de.t .. ok
t/generated-locale-en.t .. ok
t/generated-locale-ga.t .. ok
t/generated-locale-pt.t .. ok
t/generated-locale-zh.t .. ok
t/import.t ............... ok
t/zones.t ................ ok
All tests successful.
Files=13, Tests=143,  1 wallclock secs ( 0.16 usr  0.05 sys +  3.15 cusr  0.44 csys =  3.80 CPU)
Result: PASS

------------------------------
PREREQUISITES
------------------------------

Prerequisite modules loaded:

requires:

    Module                     Need     Have    
    -------------------------- -------- --------
    Carp                       0        1.50    
    constant                   0        1.33    
    DateTime                   1.00     1.54    
    DateTime::Locale           1.30     1.32    
    DateTime::Locale::Base     0        1.32    
    DateTime::Locale::FromData 0        1.32    
    DateTime::TimeZone         2.09     2.47    
    Exporter                   0        5.74    
    Params::ValidationCompiler 0        0.30    
    parent                     0        0.238   
    Specio                     0.33     0.47    
    Specio::Declare            0        0.47    
    Specio::Exporter           0        0.47    
    Specio::Library::Builtins  0        0.47    
    Specio::Library::String    0        0.47    
    strict                     0        1.11    
    Try::Tiny                  0        0.30    
    warnings                   0        1.44    

build_requires:

    Module                     Need     Have    
    -------------------------- -------- --------
    ExtUtils::MakeMaker        0        7.62    
    File::Spec                 0        3.78    
    FindBin                    0        1.52    
    lib                        0        0.65    
    Test::Builder              0        1.302183
    Test::Fatal                0        0.016   
    Test::More                 0.96     1.302183
    Test::Warnings             0        0.030   
    utf8                       0        1.22    

configure_requires:

    Module                     Need     Have    
    -------------------------- -------- --------
    ExtUtils::MakeMaker        0        7.62    

opt_build_requires:

    Module                     Need     Have    
    -------------------------- -------- --------
    CPAN::Meta                 2.120900 2.150010


------------------------------
ENVIRONMENT AND OTHER CONTEXT
------------------------------

Environment variables:

    HARNESS_OPTIONS = j6:c
    LANG = en_US.UTF-8
    LC_TERMINAL = iTerm2
    LC_TERMINAL_VERSION = 3.4.6
    LDFLAGS = -L/usr/local/opt/openssl@1.1/lib:/usr/local/opt/python@3.8/lib
    NONINTERACTIVE_TESTING = 1
    PATH = /Users/nhorne/perl5/perlbrew/bin:/Users/nhorne/perl5/perlbrew/perls/perl-5.30.3/bin:/Users/nhorne/perl5/perlbrew/bin:/Users/nhorne/perl5/perlbrew/perls/perl-5.32.0/bin:/Users/nhorne/bin:/usr/local/opt/openssl@1.1/bin:/usr/local/opt/python@3.8/bin:/usr/local/bin:/usr/bin:/bin:/usr/sbin:/sbin:/Library/Apple/usr/bin
    PERL5LIB = 
    PERL5OPT = 
    PERL5_CPANPLUS_IS_RUNNING = 3920
    PERL5_CPAN_IS_RUNNING = 3920
    PERLBREW_HOME = /Users/nhorne/.perlbrew
    PERLBREW_LIB = 
    PERLBREW_MANPATH = /Users/nhorne/perl5/perlbrew/perls/perl-5.30.3/man
    PERLBREW_PATH = /Users/nhorne/perl5/perlbrew/bin:/Users/nhorne/perl5/perlbrew/perls/perl-5.30.3/bin
    PERLBREW_PERL = perl-5.30.3
    PERLBREW_ROOT = /Users/nhorne/perl5/perlbrew
    PERLBREW_SHELLRC_VERSION = 0.91
    PERLBREW_VERSION = 0.91
    PERL_LOCAL_LIB_ROOT = 
    PERL_MM_USE_DEFAULT = 1
    PERL_USE_UNSAFE_INC = 1
    SHELL = /bin/bash
    TERM = xterm-256color
    TMPDIR = /var/folders/rb/cnysxwf16zq1n94dyy56v2q00000gp/T/
    VERSIONER_PERL_VERSION = 5.18

Perl special variables (and OS-specific diagnostics, for MSWin32):

    $^X = /Users/nhorne/perl5/perlbrew/perls/perl-5.30.3/bin/perl
    $UID/$EUID = 502 / 502
    $GID = 20 20 12 61 79 80 81 98 702 701 33 100 204 250 395 398 399
    $EGID = 20 20 12 61 79 80 81 98 702 701 33 100 204 250 395 398 399

Perl module toolchain versions installed:

    Module              Have    
    ------------------- --------
    CPAN                2.28    
    CPAN::Meta          2.150010
    Cwd                 3.78    
    ExtUtils::CBuilder  0.280236
    ExtUtils::Command   7.62    
    ExtUtils::Install   2.20    
    ExtUtils::MakeMaker 7.62    
    ExtUtils::Manifest  1.73    
    ExtUtils::ParseXS   3.40    
    File::Spec          3.78    
    JSON                4.03    
    JSON::PP            4.06    
    Module::Build       0.4231  
    Module::Signature   n/a     
    Parse::CPAN::Meta   2.150010
    Test::Harness       3.42    
    Test::More          1.302183
    YAML                1.30    
    YAML::Syck          1.32    
    version             0.9929  


--

Summary of my perl5 (revision 5 version 30 subversion 3) configuration:
   
  Platform:
    osname=darwin
    osvers=18.7.0
    archname=darwin-2level
    uname='darwin gslal032003003 18.7.0 darwin kernel version 18.7.0: mon apr 27 20:09:39 pdt 2020; root:xnu-4903.278.35~1release_x86_64 x86_64 '
    config_args='-de -Dprefix=/Users/nhorne/perl5/perlbrew/perls/perl-5.30.3 -Aeval:scriptdir=/Users/nhorne/perl5/perlbrew/perls/perl-5.30.3/bin'
    hint=recommended
    useposix=true
    d_sigaction=define
    useithreads=undef
    usemultiplicity=undef
    use64bitint=define
    use64bitall=define
    uselongdouble=undef
    usemymalloc=n
    default_inc_excludes_dot=define
    bincompat5005=undef
  Compiler:
    cc='cc'
    ccflags ='-fno-common -DPERL_DARWIN -mmacosx-version-min=10.14 -fno-strict-aliasing -pipe -fstack-protector-strong -I/usr/local/include -DPERL_USE_SAFE_PUTENV'
    optimize='-O3'
    cppflags='-fno-common -DPERL_DARWIN -mmacosx-version-min=10.14 -fno-strict-aliasing -pipe -fstack-protector-strong -I/usr/local/include'
    ccversion=''
    gccversion='4.2.1 Compatible Apple LLVM 10.0.1 (clang-1001.0.46.4)'
    gccosandvers=''
    intsize=4
    longsize=8
    ptrsize=8
    doublesize=8
    byteorder=12345678
    doublekind=3
    d_longlong=define
    longlongsize=8
    d_longdbl=define
    longdblsize=16
    longdblkind=3
    ivtype='long'
    ivsize=8
    nvtype='double'
    nvsize=8
    Off_t='off_t'
    lseeksize=8
    alignbytes=8
    prototype=define
  Linker and Libraries:
    ld='cc'
    ldflags =' -mmacosx-version-min=10.14 -fstack-protector-strong -L/usr/local/lib'
    libpth=/usr/local/lib /Library/Developer/CommandLineTools/usr/lib/clang/10.0.1/lib /Library/Developer/CommandLineTools/usr/lib /Library/Developer/CommandLineTools/SDKs/MacOSX10.14.sdk/usr/lib /usr/lib
    libs=-lpthread -lgdbm -ldbm -ldl -lm -lutil -lc
    perllibs=-lpthread -ldl -lm -lutil -lc
    libc=
    so=dylib
    useshrplib=false
    libperl=libperl.a
    gnulibc_version=''
  Dynamic Linking:
    dlsrc=dl_dlopen.xs
    dlext=bundle
    d_dlsymun=undef
    ccdlflags=' '
    cccdlflags=' '
    lddlflags=' -mmacosx-version-min=10.14 -bundle -undefined dynamic_lookup -L/usr/local/lib -fstack-protector-strong'


Characteristics of this binary (from libperl): 
  Compile-time options:
    HAS_TIMES
    PERLIO_LAYERS
    PERL_COPY_ON_WRITE
    PERL_DONT_CREATE_GVSV
    PERL_MALLOC_WRAP
    PERL_OP_PARENT
    PERL_PRESERVE_IVUV
    PERL_USE_SAFE_PUTENV
    USE_64_BIT_ALL
    USE_64_BIT_INT
    USE_LARGE_FILES
    USE_LOCALE
    USE_LOCALE_COLLATE
    USE_LOCALE_CTYPE
    USE_LOCALE_NUMERIC
    USE_LOCALE_TIME
    USE_PERLIO
    USE_PERL_ATOF
  Locally applied patches:
    Devel::PatchPerl 1.86
  Built under darwin
  Compiled at Jun 15 2020 08:00:38
  %ENV:
    PERL5LIB=""
    PERL5OPT=""
    PERL5_CPANPLUS_IS_RUNNING="3920"
    PERL5_CPAN_IS_RUNNING="3920"
    PERLBREW_HOME="/Users/nhorne/.perlbrew"
    PERLBREW_LIB=""
    PERLBREW_MANPATH="/Users/nhorne/perl5/perlbrew/perls/perl-5.30.3/man"
    PERLBREW_PATH="/Users/nhorne/perl5/perlbrew/bin:/Users/nhorne/perl5/perlbrew/perls/perl-5.30.3/bin"
    PERLBREW_PERL="perl-5.30.3"
    PERLBREW_ROOT="/Users/nhorne/perl5/perlbrew"
    PERLBREW_SHELLRC_VERSION="0.91"
    PERLBREW_VERSION="0.91"
    PERL_LOCAL_LIB_ROOT=""
    PERL_MM_USE_DEFAULT="1"
    PERL_USE_UNSAFE_INC="1"
  @INC:
    /Users/nhorne/perl5/perlbrew/perls/perl-5.30.3/lib/site_perl/5.30.3/darwin-2level
    /Users/nhorne/perl5/perlbrew/perls/perl-5.30.3/lib/site_perl/5.30.3
    /Users/nhorne/perl5/perlbrew/perls/perl-5.30.3/lib/5.30.3/darwin-2level
    /Users/nhorne/perl5/perlbrew/perls/perl-5.30.3/lib/5.30.3
    .