SQL-QueryMaker v0.01 Perl 5 v5.20.0 x86_64-linux

Status
Pass
From
Ari Constancio (AFFC)
Dist
SQL-QueryMaker v0.01
Platform
Perl 5 v5.20.0 x86_64-linux
Date
2014-05-31 04:21:17
ID
02b6df8c-e87b-11e3-b1a8-ce7cc8e7b75e
This distribution has been tested as part of the CPAN Testers
project, supporting the Perl programming language.  See
http://wiki.cpantesters.org/ for more information or email
questions to cpan-testers-discuss@perl.org


--
Dear Kazuho Oku,

This is a computer-generated report for SQL-QueryMaker-0.01
on perl 5.20.0, created by CPAN-Reporter-1.2011.

Thank you for uploading your work to CPAN.  Congratulations!
All tests were successful.

Sections of this report:

    * Tester comments
    * Program output
    * Prerequisites
    * Environment and other context

------------------------------
TESTER COMMENTS
------------------------------

Additional comments from tester:

this report is from an automated smoke testing program
and was not reviewed by a human for accuracy

------------------------------
PROGRAM OUTPUT
------------------------------

Output from '/usr/bin/make test':

PERL_DL_NONLAZY=1 /home/ari/perl5/perlbrew/perls/perl-5.20.0/bin/perl "-MExtUtils::Command::MM" "-MTest::Harness" "-e" "undef *Test::Harness::Switches; test_harness(0, 'inc', 'blib/lib', 'blib/arch')" t/*.t
t/01_cheatsheet.t ...... ok
t/02_and_using_hash.t .. ok
t/03_refs_in_bind.t .... ok
All tests successful.
Files=3, Tests=18,  0 wallclock secs ( 0.03 usr  0.00 sys +  0.08 cusr  0.00 csys =  0.11 CPU)
Result: PASS

------------------------------
PREREQUISITES
------------------------------

Prerequisite modules loaded:

requires:

    Module              Need     Have    
    ------------------- -------- --------
    perl                5.008001 5.020000
    Scalar::Util        0        1.38    

build_requires:

    Module              Need     Have    
    ------------------- -------- --------
    ExtUtils::MakeMaker 6.42     6.98    
    Test::More          0.98     1.001002
    Test::Requires      0        0.07    
    Tie::IxHash         0        1.23    

configure_requires:

    Module              Need     Have    
    ------------------- -------- --------
    ExtUtils::MakeMaker 6.42     6.98    


------------------------------
ENVIRONMENT AND OTHER CONTEXT
------------------------------

Environment variables:

    AUTOMATED_TESTING = 1
    LANG = pt_PT.UTF-8
    LANGUAGE = pt_PT:pt_PT.UTF
    LC_ADDRESS = pt_PT.UTF-8
    LC_IDENTIFICATION = pt_PT.UTF-8
    LC_MEASUREMENT = pt_PT.UTF-8
    LC_MONETARY = pt_PT.UTF-8
    LC_NAME = pt_PT.UTF-8
    LC_NUMERIC = pt_PT.UTF-8
    LC_PAPER = pt_PT.UTF-8
    LC_TELEPHONE = pt_PT.UTF-8
    LC_TIME = pt_PT.UTF-8
    PATH = /home/ari/perl5/perlbrew/bin:/home/ari/perl5/perlbrew/perls/perl-5.20.0/bin:/home/ari/bin:/usr/local/bin:/usr/bin:/bin:/usr/games:/home/ari/bin:/usr/local/java/jre1.7.0_21/bin:/home/ari/bin:/usr/local/java/jre1.7.0_21/bin:/home/ari/jdk1.7.0
    PATH_WITHOUT_PERLBREW = /home/ari/bin:/usr/local/bin:/usr/bin:/bin:/usr/games:/home/ari/bin:/usr/local/java/jre1.7.0_21/bin:/home/ari/bin:/usr/local/java/jre1.7.0_21/bin:/home/ari/jdk1.7.0
    PERL5LIB = /home/ari/.cpan/build/Tie-IxHash-1.23-Abs5Av/blib/arch:/home/ari/.cpan/build/Tie-IxHash-1.23-Abs5Av/blib/lib:/home/ari/.cpan/build/Test-Requires-0.07-CNyfYj/blib/arch:/home/ari/.cpan/build/Test-Requires-0.07-CNyfYj/blib/lib
    PERL5OPT = 
    PERL5_CPANPLUS_IS_RUNNING = 18413
    PERL5_CPAN_IS_RUNNING = 18413
    PERL5_CPAN_IS_RUNNING_IN_RECURSION = 25508,18413
    PERLBREW_HOME = /home/ari/.perlbrew
    PERLBREW_MANPATH = /home/ari/perl5/perlbrew/perls/perl-5.20.0/man
    PERLBREW_PATH = /home/ari/perl5/perlbrew/bin:/home/ari/perl5/perlbrew/perls/perl-5.20.0/bin
    PERLBREW_PERL = perl-5.20.0
    PERLBREW_ROOT = /home/ari/perl5/perlbrew
    PERLBREW_VERSION = 0.42
    PERL_CR_SMOKER_CURRENT = SQL-QueryMaker-0.01
    PERL_EXTUTILS_AUTOINSTALL = --defaultdeps
    PERL_MM_USE_DEFAULT = 1
    SHELL = /bin/bash
    TERM = xterm

Perl special variables (and OS-specific diagnostics, for MSWin32):

    $^X = /home/ari/perl5/perlbrew/perls/perl-5.20.0/bin/perl
    $UID/$EUID = 1000 / 1000
    $GID = 1000 4 20 24 46 116 118 124 128 1000
    $EGID = 1000 4 20 24 46 116 118 124 128 1000

Perl module toolchain versions installed:

    Module              Have    
    ------------------- --------
    CPAN                2.05    
    CPAN::Meta          2.140640
    Cwd                 3.47    
    ExtUtils::CBuilder  0.280216
    ExtUtils::Command   1.18    
    ExtUtils::Install   1.67    
    ExtUtils::MakeMaker 6.98    
    ExtUtils::Manifest  1.63    
    ExtUtils::ParseXS   3.24    
    File::Spec          3.47    
    JSON                2.90    
    JSON::PP            2.27203 
    Module::Build       0.4205  
    Module::Signature   n/a     
    Parse::CPAN::Meta   1.4414  
    Test::Harness       3.30    
    Test::More          1.001002
    YAML                n/a     
    YAML::Syck          n/a     
    version             0.9908  


--

Summary of my perl5 (revision 5 version 20 subversion 0) configuration:
   
  Platform:
    osname=linux, osvers=3.2.0-60-generic, archname=x86_64-linux
    uname='linux deq-h311-1 3.2.0-60-generic #91-ubuntu smp wed feb 19 03:54:44 utc 2014 x86_64 x86_64 x86_64 gnulinux '
    config_args='-de -Dprefix=/home/ari/perl5/perlbrew/perls/perl-5.20.0'
    hint=recommended, useposix=true, d_sigaction=define
    useithreads=undef, usemultiplicity=undef
    use64bitint=define, use64bitall=define, uselongdouble=undef
    usemymalloc=n, bincompat5005=undef
  Compiler:
    cc='cc', ccflags ='-fwrapv -fno-strict-aliasing -pipe -fstack-protector -I/usr/local/include -D_LARGEFILE_SOURCE -D_FILE_OFFSET_BITS=64',
    optimize='-O2',
    cppflags='-fwrapv -fno-strict-aliasing -pipe -fstack-protector -I/usr/local/include'
    ccversion='', gccversion='4.6.3', gccosandvers=''
    intsize=4, longsize=8, ptrsize=8, doublesize=8, byteorder=12345678
    d_longlong=define, longlongsize=8, d_longdbl=define, longdblsize=16
    ivtype='long', ivsize=8, nvtype='double', nvsize=8, Off_t='off_t', lseeksize=8
    alignbytes=8, prototype=define
  Linker and Libraries:
    ld='cc', ldflags =' -fstack-protector -L/usr/local/lib'
    libpth=/usr/local/lib /usr/lib/gcc/x86_64-linux-gnu/4.6/include-fixed /usr/include/x86_64-linux-gnu /usr/lib /lib/x86_64-linux-gnu /lib/../lib /usr/lib/x86_64-linux-gnu /usr/lib/../lib /lib
    libs=-lnsl -ldl -lm -lcrypt -lutil -lc
    perllibs=-lnsl -ldl -lm -lcrypt -lutil -lc
    libc=, so=so, useshrplib=false, libperl=libperl.a
    gnulibc_version='2.15'
  Dynamic Linking:
    dlsrc=dl_dlopen.xs, dlext=so, d_dlsymun=undef, ccdlflags='-Wl,-E'
    cccdlflags='-fPIC', lddlflags='-shared -O2 -L/usr/local/lib -fstack-protector'


Characteristics of this binary (from libperl): 
  Compile-time options: HAS_TIMES PERLIO_LAYERS PERL_DONT_CREATE_GVSV
                        PERL_HASH_FUNC_ONE_AT_A_TIME_HARD PERL_MALLOC_WRAP
                        PERL_NEW_COPY_ON_WRITE PERL_PRESERVE_IVUV
                        USE_64_BIT_ALL USE_64_BIT_INT USE_LARGE_FILES
                        USE_LOCALE USE_LOCALE_COLLATE USE_LOCALE_CTYPE
                        USE_LOCALE_NUMERIC USE_PERLIO USE_PERL_ATOF
  Built under linux
  Compiled at May 30 2014 14:35:09
  %ENV:
    PERL5LIB="/home/ari/.cpan/build/Tie-IxHash-1.23-Abs5Av/blib/arch:/home/ari/.cpan/build/Tie-IxHash-1.23-Abs5Av/blib/lib:/home/ari/.cpan/build/Test-Requires-0.07-CNyfYj/blib/arch:/home/ari/.cpan/build/Test-Requires-0.07-CNyfYj/blib/lib"
    PERL5OPT=""
    PERL5_CPANPLUS_IS_RUNNING="18413"
    PERL5_CPAN_IS_RUNNING="18413"
    PERL5_CPAN_IS_RUNNING_IN_RECURSION="25508,18413"
    PERLBREW_HOME="/home/ari/.perlbrew"
    PERLBREW_MANPATH="/home/ari/perl5/perlbrew/perls/perl-5.20.0/man"
    PERLBREW_PATH="/home/ari/perl5/perlbrew/bin:/home/ari/perl5/perlbrew/perls/perl-5.20.0/bin"
    PERLBREW_PERL="perl-5.20.0"
    PERLBREW_ROOT="/home/ari/perl5/perlbrew"
    PERLBREW_VERSION="0.42"
    PERL_CR_SMOKER_CURRENT="SQL-QueryMaker-0.01"
    PERL_EXTUTILS_AUTOINSTALL="--defaultdeps"
    PERL_MM_USE_DEFAULT="1"
  @INC:
    /home/ari/.cpan/build/Tie-IxHash-1.23-Abs5Av/blib/arch
    /home/ari/.cpan/build/Tie-IxHash-1.23-Abs5Av/blib/lib
    /home/ari/.cpan/build/Test-Requires-0.07-CNyfYj/blib/arch
    /home/ari/.cpan/build/Test-Requires-0.07-CNyfYj/blib/lib
    /home/ari/perl5/perlbrew/perls/perl-5.20.0/lib/site_perl/5.20.0/x86_64-linux
    /home/ari/perl5/perlbrew/perls/perl-5.20.0/lib/site_perl/5.20.0
    /home/ari/perl5/perlbrew/perls/perl-5.20.0/lib/5.20.0/x86_64-linux
    /home/ari/perl5/perlbrew/perls/perl-5.20.0/lib/5.20.0
    .