Weather-OpenWeatherMap v0.002004 Perl 5 v5.20.0 x86_64-linux-thread-multi

Status
Pass
From
David Cantrell (DCANTRELL)
Dist
Weather-OpenWeatherMap v0.002004
Platform
Perl 5 v5.20.0 x86_64-linux-thread-multi
Date
2015-09-22 18:59:11
ID
02b9e67c-615c-11e5-aa9f-50ee2bde3c15
This distribution has been tested as part of the CPAN Testers
project, supporting the Perl programming language.  See
http://wiki.cpantesters.org/ for more information or email
questions to cpan-testers-discuss@perl.org


--
Dear Jon Portnoy,

This is a computer-generated report for Weather-OpenWeatherMap-0.002004
on perl 5.20.0, created by CPAN-Reporter-1.2014.

Thank you for uploading your work to CPAN.  Congratulations!
All tests were successful.

Sections of this report:

    * Tester comments
    * Program output
    * Prerequisites
    * Environment and other context

------------------------------
TESTER COMMENTS
------------------------------

Additional comments from tester:

this report is from an automated smoke testing program
and was not reviewed by a human for accuracy

------------------------------
PROGRAM OUTPUT
------------------------------

Output from '/usr/bin/make test':

Skip blib/lib/auto/share/dist/Weather-OpenWeatherMap/3day.json (unchanged)
Skip blib/lib/auto/share/dist/Weather-OpenWeatherMap/find.json (unchanged)
Skip blib/lib/auto/share/dist/Weather-OpenWeatherMap/failure.json (unchanged)
Skip blib/lib/auto/share/dist/Weather-OpenWeatherMap/current.json (unchanged)
PERL_DL_NONLAZY=1 "/home/david/cpantesting/perl-5.20.0/bin/perl" "-MExtUtils::Command::MM" "-MTest::Harness" "-e" "undef *Test::Harness::Switches; test_harness(0, 'blib/lib', 'blib/arch')" t/*.t t/request/*.t t/result/*.t
# 
# Versions for all modules listed in MYMETA.json (including optional ones):
# 
# === Configure Requires ===
# 
#     Module                  Want Have
#     ----------------------- ---- ----
#     ExtUtils::MakeMaker      any 7.04
#     File::ShareDir::Install 0.06 0.10
# 
# === Build Requires ===
# 
#     Module              Want Have
#     ------------------- ---- ----
#     ExtUtils::MakeMaker  any 7.04
# 
# === Test Requires ===
# 
#     Module               Want     Have
#     -------------------- ---- --------
#     ExtUtils::MakeMaker   any     7.04
#     File::Spec            any     3.47
#     Test::File::ShareDir    1 1.001001
#     Test::Memory::Cycle     1     1.04
#     Test::More            any 1.001014
#     Test::Roo               1    1.004
# 
# === Test Recommends ===
# 
#     Module         Want     Have
#     ---------- -------- --------
#     CPAN::Meta 2.120900 2.150005
# 
# === Runtime Requires ===
# 
#     Module                       Want     Have
#     ------------------------ -------- --------
#     Carp                          any   1.3301
#     Digest::SHA                   any     5.88
#     Exporter::Tiny                any    0.042
#     File::ShareDir                any    1.102
#     HTTP::Request                 any     6.00
#     JSON::MaybeXS                 any 1.003005
#     LWP::UserAgent                any     6.06
#     List::Objects::Types            1 1.003001
#     List::Objects::WithUtils 2.010002 2.022001
#     Module::Runtime               any    0.014
#     Moo                             1 2.000002
#     MooX::late                  0.014    0.015
#     Path::Tiny                   0.05    0.072
#     Throwable                     0.2 0.200013
#     Try::Tiny                     any     0.22
#     Types::DateTime               any    0.001
#     Types::Path::Tiny           0.005    0.005
#     Types::Standard               any 1.000005
#     URI::Escape                   any     3.31
#     namespace::clean              any     0.25
#     strictures                      1 2.000001
# 
t/00-report-prereqs.t ...... ok
t/author-no-tabs.t ......... skipped: these tests are for testing by the author
        # Sleeping 1 second
        # Sleeping 1 second
t/cache.t .................. ok
t/error.t .................. ok
t/openweathermap.t ......... ok
t/release-cpan-changes.t ... skipped: these tests are for release candidate testing
t/release-dist-manifest.t .. skipped: these tests are for release candidate testing
t/release-pod-coverage.t ... skipped: these tests are for release candidate testing
t/release-pod-linkcheck.t .. skipped: these tests are for release candidate testing
t/release-pod-syntax.t ..... skipped: these tests are for release candidate testing
t/release-synopsis.t ....... skipped: these tests are for release candidate testing
t/release-unused-vars.t .... skipped: these tests are for release candidate testing
t/request/current.t ........ ok
t/request/find.t ........... ok
t/request/forecast.t ....... ok
t/result/current.t ......... ok
t/result/find.t ............ ok
t/result/forecast.t ........ ok
t/units.t .................. ok
All tests successful.
Files=19, Tests=15,  6 wallclock secs ( 0.10 usr  0.08 sys +  2.57 cusr  0.24 csys =  2.99 CPU)
Result: PASS

------------------------------
PREREQUISITES
------------------------------

Prerequisite modules loaded:

requires:

    Module                   Need     Have    
    ------------------------ -------- --------
    Carp                     0        1.3301  
    Digest::SHA              0        5.88    
    Exporter::Tiny           0        0.042   
    File::ShareDir           0        1.102   
    HTTP::Request            0        6.00    
    JSON::MaybeXS            0        1.003005
    List::Objects::Types     1        1.003001
    List::Objects::WithUtils 2.010002 2.022001
    LWP::UserAgent           0        6.06    
    Module::Runtime          0        0.014   
    Moo                      1        2.000002
    MooX::late               0.014    0.015   
    namespace::clean         0        0.25    
    Path::Tiny               0.05     0.072   
    perl                     5.010001 5.020000
    strictures               1        2.000001
    Throwable                0.2      0.200013
    Try::Tiny                0        0.22    
    Types::DateTime          0        0.001   
    Types::Path::Tiny        0.005    0.005   
    Types::Standard          0        1.000005
    URI::Escape              0        3.31    

build_requires:

    Module                   Need     Have    
    ------------------------ -------- --------
    ExtUtils::MakeMaker      0        7.04    
    File::Spec               0        3.47    
    Test::File::ShareDir     1        1.001001
    Test::Memory::Cycle      1        1.04    
    Test::More               0        1.001014
    Test::Roo                1        1.004   

configure_requires:

    Module                   Need     Have    
    ------------------------ -------- --------
    ExtUtils::MakeMaker      0        7.04    
    File::ShareDir::Install  0.06     0.10    


------------------------------
ENVIRONMENT AND OTHER CONTEXT
------------------------------

Environment variables:

    AUTOMATED_TESTING = 1
    NONINTERACTIVE_TESTING = 1
    PATH = /usr/local/bin:/usr/bin:/bin:/usr/games
    PERL = 5.20.0
    PERL5LIB = 
    PERL5OPT = 
    PERL5_CPANPLUS_IS_RUNNING = 19130
    PERL5_CPAN_IS_RUNNING = 19130
    PERLVER = 5.20.0
    PERL_INLINE_DIRECTORY = /home/david/.Inline-5.20.0
    PERL_MM_USE_DEFAULT = 1
    SHELL = /bin/bash
    TERM = screen

Perl special variables (and OS-specific diagnostics, for MSWin32):

    $^X = /home/david/cpantesting/perl-5.20.0/bin/perl
    $UID/$EUID = 1000 / 1000
    $GID = 1000 1000
    $EGID = 1000 1000

Perl module toolchain versions installed:

    Module              Have    
    ------------------- --------
    CPAN                2.10    
    CPAN::Meta          2.150005
    Cwd                 3.47    
    ExtUtils::CBuilder  0.280216
    ExtUtils::Command   1.18    
    ExtUtils::Install   1.67    
    ExtUtils::MakeMaker 7.04    
    ExtUtils::Manifest  1.70    
    ExtUtils::ParseXS   3.24    
    File::Spec          3.47    
    JSON                2.90    
    JSON::PP            2.27203 
    Module::Build       0.4205  
    Module::Signature   n/a     
    Parse::CPAN::Meta   1.4414  
    Test::Harness       3.30    
    Test::More          1.001014
    YAML                1.15    
    YAML::Syck          1.29    
    version             0.9908  


--

Summary of my perl5 (revision 5 version 20 subversion 0) configuration:
   
  Platform:
    osname=linux, osvers=3.2.0-4-amd64, archname=x86_64-linux-thread-multi
    uname='linux pigsty.barnyard.co.uk 3.2.0-4-amd64 #1 smp debian 3.2.35-2 x86_64 gnulinux '
    config_args='-de -Dprefix=/home/david/cpantesting/perl-5.20.0 -Dusethreads -Duse64bitall'
    hint=recommended, useposix=true, d_sigaction=define
    useithreads=define, usemultiplicity=define
    use64bitint=define, use64bitall=define, uselongdouble=undef
    usemymalloc=n, bincompat5005=undef
  Compiler:
    cc='cc', ccflags ='-D_REENTRANT -D_GNU_SOURCE -fno-strict-aliasing -pipe -fstack-protector -I/usr/local/include -D_LARGEFILE_SOURCE -D_FILE_OFFSET_BITS=64',
    optimize='-O2',
    cppflags='-D_REENTRANT -D_GNU_SOURCE -fno-strict-aliasing -pipe -fstack-protector -I/usr/local/include'
    ccversion='', gccversion='4.1.2 20061115 (prerelease) (Debian 4.1.1-21)', gccosandvers=''
    intsize=4, longsize=8, ptrsize=8, doublesize=8, byteorder=12345678
    d_longlong=define, longlongsize=8, d_longdbl=define, longdblsize=16
    ivtype='long', ivsize=8, nvtype='double', nvsize=8, Off_t='off_t', lseeksize=8
    alignbytes=8, prototype=define
  Linker and Libraries:
    ld='cc', ldflags =' -fstack-protector -L/usr/local/lib'
    libpth=/usr/local/lib /usr/lib /lib /lib64 /usr/lib64
    libs=-lnsl -lgdbm -ldb -ldl -lm -lcrypt -lutil -lpthread -lc -lgdbm_compat
    perllibs=-lnsl -ldl -lm -lcrypt -lutil -lpthread -lc
    libc=libc-2.3.6.so, so=so, useshrplib=false, libperl=libperl.a
    gnulibc_version='2.3.6'
  Dynamic Linking:
    dlsrc=dl_dlopen.xs, dlext=so, d_dlsymun=undef, ccdlflags='-Wl,-E'
    cccdlflags='-fPIC', lddlflags='-shared -O2 -L/usr/local/lib -fstack-protector'


Characteristics of this binary (from libperl): 
  Compile-time options: HAS_TIMES MULTIPLICITY PERLIO_LAYERS
                        PERL_DONT_CREATE_GVSV
                        PERL_HASH_FUNC_ONE_AT_A_TIME_HARD
                        PERL_IMPLICIT_CONTEXT PERL_MALLOC_WRAP
                        PERL_NEW_COPY_ON_WRITE PERL_PRESERVE_IVUV
                        USE_64_BIT_ALL USE_64_BIT_INT USE_ITHREADS
                        USE_LARGE_FILES USE_LOCALE USE_LOCALE_COLLATE
                        USE_LOCALE_CTYPE USE_LOCALE_NUMERIC USE_PERLIO
                        USE_PERL_ATOF USE_REENTRANT_API
  Built under linux
  Compiled at May 27 2014 16:06:22
  %ENV:
    PERL="5.20.0"
    PERL5LIB=""
    PERL5OPT=""
    PERL5_CPANPLUS_IS_RUNNING="19130"
    PERL5_CPAN_IS_RUNNING="19130"
    PERLVER="5.20.0"
    PERL_INLINE_DIRECTORY="/home/david/.Inline-5.20.0"
    PERL_MM_USE_DEFAULT="1"
  @INC:
    /home/david/cpantesting/perl-5.20.0/lib/site_perl/5.20.0/x86_64-linux-thread-multi
    /home/david/cpantesting/perl-5.20.0/lib/site_perl/5.20.0
    /home/david/cpantesting/perl-5.20.0/lib/5.20.0/x86_64-linux-thread-multi
    /home/david/cpantesting/perl-5.20.0/lib/5.20.0
    .