WebService-IPAPI v0.01 Perl 5 v5.24.4 x86_64-linux

Status
Pass
From
Slaven Rezić (SREZIC)
Dist
WebService-IPAPI v0.01
Platform
Perl 5 v5.24.4 x86_64-linux
Date
2020-01-12 11:16:42
ID
02bdf5ba-352d-11ea-82b5-c93b1f24ea8f
This distribution has been tested as part of the CPAN Testers
project, supporting the Perl programming language.  See
http://wiki.cpantesters.org/ for more information or email
questions to cpan-testers-discuss@perl.org


--
Dear Kian Meng, Ang,

This is a computer-generated report for WebService-IPAPI-0.01
on perl 5.24.4, created by CPAN-Reporter-1.2018.

Thank you for uploading your work to CPAN.  Congratulations!
All tests were successful.

Sections of this report:

    * Tester comments
    * Program output
    * Prerequisites
    * Environment and other context

------------------------------
TESTER COMMENTS
------------------------------

Additional comments from tester:

none provided

------------------------------
PROGRAM OUTPUT
------------------------------

Output from './Build test':

t/00-compile.t .............. ok
# Testing with Perl 5.024004, /opt/perl-5.24.4/bin/perl
#     File::Spec version is 3.75
#     IO::Handle version is 1.39
#     IPC::Open3 version is 1.20
#     JSON version is 4.02
#     Module::Build::Tiny version is 0.039
#     Moo version is 2.003004
#     MooX::Enumeration version is 0.009
#     Pod::Coverage::TrustPod version is 0.100005
#     REST::Client version is 273
#     Role::REST::Client version is 0.23
#     Test::CPAN::Meta version is 0.25
#     Test::DistManifest version is 1.014
#     Test::Exception version is 0.43
#     Test::HasVersion version is 0.014
#     Test::More version is 1.302167
#     Test::Warn version is 0.36
#     Types::Standard version is 1.008001
#     namespace::clean version is 0.27
#     strictures version is 2.000006
t/000-report-versions.t ..... ok
t/00_compile.t .............. ok
t/01_instantiation.t ........ ok
t/02_lookup.t ............... skipped: $ENV{IPAPI_ACCESS_KEY} not set, skipping live tests
t/03_bulk_lookup.t .......... skipped: $ENV{IPAPI_ACCESS_KEY} not set, skipping live tests
t/04_check.t ................ skipped: $ENV{IPAPI_ACCESS_KEY} not set, skipping live tests
t/author-eol.t .............. skipped: these tests are for testing by the author
t/author-minimum-version.t .. skipped: these tests are for testing by the author
t/author-pod-coverage.t ..... skipped: these tests are for testing by the author
t/author-pod-syntax.t ....... skipped: these tests are for testing by the author
t/release-distmeta.t ........ skipped: these tests are for release candidate testing
t/release-has-version.t ..... skipped: these tests are for release candidate testing
t/release-kwalitee.t ........ skipped: these tests are for release candidate testing
t/release-unused-vars.t ..... skipped: these tests are for release candidate testing
All tests successful.
Files=15, Tests=27,  2 wallclock secs ( 0.03 usr  0.14 sys +  1.40 cusr  0.39 csys =  1.96 CPU)
Result: PASS

------------------------------
PREREQUISITES
------------------------------

Prerequisite modules loaded:

requires:

    Module                  Need  Have    
    ----------------------- ----- --------
    JSON                    0     4.02    
    Moo                     0     2.003004
    MooX::Enumeration       0     0.009   
    namespace::clean        0     0.27    
    perl                    5.010 5.024004
    REST::Client            0     273     
    Role::REST::Client      0     0.23    
    strictures              2     2.000006
    Types::Standard         0     1.008001

build_requires:

    Module                  Need  Have    
    ----------------------- ----- --------
    File::Spec              0     3.75    
    IO::Handle              0     1.39    
    IPC::Open3              0     1.20    
    Pod::Coverage::TrustPod 0     0.100005
    Test::CPAN::Meta        0     0.25    
    Test::DistManifest      0     1.014   
    Test::Exception         0     0.43    
    Test::HasVersion        0     0.014   
    Test::Kwalitee          0     1.28    
    Test::More              0     1.302167
    Test::Pod::Coverage     0     1.10    
    Test::Warn              0     0.36    

configure_requires:

    Module                  Need  Have    
    ----------------------- ----- --------
    Module::Build::Tiny     0.034 0.039   


------------------------------
ENVIRONMENT AND OTHER CONTEXT
------------------------------

Environment variables:

    LANG = en_US.UTF-8
    PATH = /usr/local/bin:/usr/bin:/bin:/usr/local/sbin:/usr/sbin:/sbin:/home/cpansand/bin/linux-gnu:/home/cpansand/bin/sh:/home/cpansand/bin:/usr/games:/home/cpansand/devel:/home/eserte/src/srezic-misc/scripts
    PERL5LIB = /home/cpansand/.cpan/build/2020011210/Test-HasVersion-0.014-mmL0YG/blib/arch:/home/cpansand/.cpan/build/2020011210/Test-HasVersion-0.014-mmL0YG/blib/lib:/home/cpansand/.cpan/build/2020011210/Role-REST-Client-0.23-Rsv3wG/blib/arch:/home/cpansand/.cpan/build/2020011210/Role-REST-Client-0.23-Rsv3wG/blib/lib
    PERL5OPT = 
    PERL5_CPANPLUS_IS_RUNNING = 11541
    PERL5_CPAN_IS_RUNNING = 11541
    PERL5_CPAN_IS_RUNNING_IN_RECURSION = 25284,11541
    PERLDOC = -MPod::Perldoc::ToTextOverstrike
    PERL_BATCH = yes
    PERL_CANARY_STABILITY_NOPROMPT = 1
    PERL_CPAN_REPORTER_CONFIG = /var/tmp/cpansmoker-1023/2020011210/cpanreporter_002_config.ini
    PERL_EXTUTILS_AUTOINSTALL = --defaultdeps
    SHELL = /usr/bin/zsh
    TERM = screen
    TMPDIR = /var/tmp/cpansmoker-1023/2020011210

Perl special variables (and OS-specific diagnostics, for MSWin32):

    $^X = /opt/perl-5.24.4/bin/perl
    $UID/$EUID = 1023 / 1023
    $GID = 1023 1023
    $EGID = 1023 1023

Perl module toolchain versions installed:

    Module              Have    
    ------------------- --------
    CPAN                2.11_01 
    CPAN::Meta          2.150010
    Cwd                 3.75    
    ExtUtils::CBuilder  0.280231
    ExtUtils::Command   7.38    
    ExtUtils::Install   2.06    
    ExtUtils::MakeMaker 7.38    
    ExtUtils::Manifest  1.70    
    ExtUtils::ParseXS   3.35    
    File::Spec          3.75    
    JSON                4.02    
    JSON::PP            4.04    
    Module::Build       0.4229  
    Module::Signature   n/a     
    Parse::CPAN::Meta   2.150010
    Test::Harness       3.42    
    Test::More          1.302167
    YAML                1.29    
    YAML::Syck          1.31    
    version             0.9916  


--

Summary of my perl5 (revision 5 version 24 subversion 4) configuration:
   
  Platform:
    osname=linux, osvers=4.4.0-157-generic, archname=x86_64-linux
    uname='linux ubuntu16 4.4.0-157-generic #185-ubuntu smp tue jul 23 09:17:01 utc 2019 x86_64 x86_64 x86_64 gnulinux '
    config_args='-ds -e -Dprefix=/opt/perl-5.24.4 -Dcf_email=srezic@cpan.org'
    hint=recommended, useposix=true, d_sigaction=define
    useithreads=undef, usemultiplicity=undef
    use64bitint=define, use64bitall=define, uselongdouble=undef
    usemymalloc=n, bincompat5005=undef
  Compiler:
    cc='cc', ccflags ='-fwrapv -fno-strict-aliasing -pipe -fstack-protector-strong -I/usr/local/include -D_LARGEFILE_SOURCE -D_FILE_OFFSET_BITS=64',
    optimize='-O2',
    cppflags='-fwrapv -fno-strict-aliasing -pipe -fstack-protector-strong -I/usr/local/include'
    ccversion='', gccversion='5.4.0 20160609', gccosandvers=''
    intsize=4, longsize=8, ptrsize=8, doublesize=8, byteorder=12345678, doublekind=3
    d_longlong=define, longlongsize=8, d_longdbl=define, longdblsize=16, longdblkind=3
    ivtype='long', ivsize=8, nvtype='double', nvsize=8, Off_t='off_t', lseeksize=8
    alignbytes=8, prototype=define
  Linker and Libraries:
    ld='cc', ldflags =' -fstack-protector-strong -L/usr/local/lib'
    libpth=/usr/local/lib /usr/lib/gcc/x86_64-linux-gnu/5/include-fixed /usr/include/x86_64-linux-gnu /usr/lib /lib/x86_64-linux-gnu /lib/../lib /usr/lib/x86_64-linux-gnu /usr/lib/../lib /lib
    libs=-lpthread -lnsl -ldb -ldl -lm -lcrypt -lutil -lc
    perllibs=-lpthread -lnsl -ldl -lm -lcrypt -lutil -lc
    libc=libc-2.23.so, so=so, useshrplib=false, libperl=libperl.a
    gnulibc_version='2.23'
  Dynamic Linking:
    dlsrc=dl_dlopen.xs, dlext=so, d_dlsymun=undef, ccdlflags='-Wl,-E'
    cccdlflags='-fPIC', lddlflags='-shared -O2 -L/usr/local/lib -fstack-protector-strong'


Characteristics of this binary (from libperl): 
  Compile-time options: HAS_TIMES PERLIO_LAYERS PERL_COPY_ON_WRITE
                        PERL_DONT_CREATE_GVSV
                        PERL_HASH_FUNC_ONE_AT_A_TIME_HARD PERL_MALLOC_WRAP
                        PERL_PRESERVE_IVUV USE_64_BIT_ALL USE_64_BIT_INT
                        USE_LARGE_FILES USE_LOCALE USE_LOCALE_COLLATE
                        USE_LOCALE_CTYPE USE_LOCALE_NUMERIC USE_LOCALE_TIME
                        USE_PERLIO USE_PERL_ATOF
  Built under linux
  Compiled at Aug  6 2019 17:24:30
  %ENV:
    PERL5LIB="/home/cpansand/.cpan/build/2020011210/Test-HasVersion-0.014-mmL0YG/blib/arch:/home/cpansand/.cpan/build/2020011210/Test-HasVersion-0.014-mmL0YG/blib/lib:/home/cpansand/.cpan/build/2020011210/Role-REST-Client-0.23-Rsv3wG/blib/arch:/home/cpansand/.cpan/build/2020011210/Role-REST-Client-0.23-Rsv3wG/blib/lib"
    PERL5OPT=""
    PERL5_CPANPLUS_IS_RUNNING="11541"
    PERL5_CPAN_IS_RUNNING="11541"
    PERL5_CPAN_IS_RUNNING_IN_RECURSION="25284,11541"
    PERLDOC="-MPod::Perldoc::ToTextOverstrike"
    PERL_BATCH="yes"
    PERL_CANARY_STABILITY_NOPROMPT="1"
    PERL_CPAN_REPORTER_CONFIG="/var/tmp/cpansmoker-1023/2020011210/cpanreporter_002_config.ini"
    PERL_EXTUTILS_AUTOINSTALL="--defaultdeps"
  @INC:
    /home/cpansand/.cpan/build/2020011210/Test-HasVersion-0.014-mmL0YG/blib/arch
    /home/cpansand/.cpan/build/2020011210/Test-HasVersion-0.014-mmL0YG/blib/lib
    /home/cpansand/.cpan/build/2020011210/Role-REST-Client-0.23-Rsv3wG/blib/arch
    /home/cpansand/.cpan/build/2020011210/Role-REST-Client-0.23-Rsv3wG/blib/lib
    /opt/perl-5.24.4/lib/site_perl/5.24.4/x86_64-linux
    /opt/perl-5.24.4/lib/site_perl/5.24.4
    /opt/perl-5.24.4/lib/5.24.4/x86_64-linux
    /opt/perl-5.24.4/lib/5.24.4
    .