Smart-Comments v1.0.4 Perl 5 v5.17.5 x86_64-linux-ld
- Status
- Pass
- From
- Andreas J. König (ANDK)
- Dist
-
Smart-Comments v1.0.4
- Platform
- Perl 5 v5.17.5 x86_64-linux-ld
- Date
- 2012-09-21 12:01:00
- ID
- 02c04ab8-03e4-11e2-8d9c-43ed7dd9fe3d
This distribution has been tested as part of the CPAN Testers
project, supporting the Perl programming language. See
http://wiki.cpantesters.org/ for more information or email
questions to cpan-testers-discuss@perl.org
--
Dear Alexandr Ciornii,
This is a computer-generated report for Smart-Comments-1.0.4
on perl 5.17.5, created by CPAN-Reporter-1.2006.
Thank you for uploading your work to CPAN. Congratulations!
All tests were successful.
Sections of this report:
* Tester comments
* Program output
* Prerequisites
* Environment and other context
------------------------------
TESTER COMMENTS
------------------------------
Additional comments from tester:
this report is from an automated smoke testing program
and was not reviewed by a human for accuracy
------------------------------
PROGRAM OUTPUT
------------------------------
Output from './Build test':
Unescaped left brace in regex is deprecated, passed through in regex; marked by <-- HERE in m/^(\s*.*?) ({}{ <-- HERE }) () \s* (\S?.*)/ at /tmp/loop_over_bdir-5SlmTt/Smart-Comments-1.0.4-Z3t0XX/blib/lib/Smart/Comments.pm line 250.
# Testing Smart::Comments 1.0.4
t/00.load.t ................. ok
Unescaped left brace in regex is deprecated, passed through in regex; marked by <-- HERE in m/^(\s*.*?) ({}{ <-- HERE }) () \s* (\S?.*)/ at /tmp/loop_over_bdir-5SlmTt/Smart-Comments-1.0.4-Z3t0XX/blib/lib/Smart/Comments.pm line 250.
t/ENV_0.t ................... ok
Unescaped left brace in regex is deprecated, passed through in regex; marked by <-- HERE in m/^(\s*.*?) ({}{ <-- HERE }) () \s* (\S?.*)/ at /tmp/loop_over_bdir-5SlmTt/Smart-Comments-1.0.4-Z3t0XX/blib/lib/Smart/Comments.pm line 250.
t/ENV_1.t ................... ok
Unescaped left brace in regex is deprecated, passed through in regex; marked by <-- HERE in m/^(\s*.*?) ({}{ <-- HERE }) () \s* (\S?.*)/ at /tmp/loop_over_bdir-5SlmTt/Smart-Comments-1.0.4-Z3t0XX/blib/lib/Smart/Comments.pm line 250.
t/ENV_str.t ................. ok
Unescaped left brace in regex is deprecated, passed through in regex; marked by <-- HERE in m/^(\s*.*?) ({}{ <-- HERE }) () \s* (\S?.*)/ at /tmp/loop_over_bdir-5SlmTt/Smart-Comments-1.0.4-Z3t0XX/blib/lib/Smart/Comments.pm line 250.
t/assert.t .................. ok
Unescaped left brace in regex is deprecated, passed through in regex; marked by <-- HERE in m/^(\s*.*?) ({}{ <-- HERE }) () \s* (\S?.*)/ at /tmp/loop_over_bdir-5SlmTt/Smart-Comments-1.0.4-Z3t0XX/blib/lib/Smart/Comments.pm line 250.
t/brackets.t ................ ok
Unescaped left brace in regex is deprecated, passed through in regex; marked by <-- HERE in m/^(\s*.*?) ({}{ <-- HERE }) () \s* (\S?.*)/ at /tmp/loop_over_bdir-5SlmTt/Smart-Comments-1.0.4-Z3t0XX/blib/lib/Smart/Comments.pm line 250.
t/c_like_for_loop.t ......... ok
Unescaped left brace in regex is deprecated, passed through in regex; marked by <-- HERE in m/^(\s*.*?) ({}{ <-- HERE }) () \s* (\S?.*)/ at /tmp/loop_over_bdir-5SlmTt/Smart-Comments-1.0.4-Z3t0XX/blib/lib/Smart/Comments.pm line 250.
t/check.t ................... ok
Unescaped left brace in regex is deprecated, passed through in regex; marked by <-- HERE in m/^(\s*.*?) ({}{ <-- HERE }) () \s* (\S?.*)/ at /tmp/loop_over_bdir-5SlmTt/Smart-Comments-1.0.4-Z3t0XX/blib/lib/Smart/Comments.pm line 250.
t/confirm.t ................. ok
Unescaped left brace in regex is deprecated, passed through in regex; marked by <-- HERE in m/^(\s*.*?) ({}{ <-- HERE }) () \s* (\S?.*)/ at /tmp/loop_over_bdir-5SlmTt/Smart-Comments-1.0.4-Z3t0XX/blib/lib/Smart/Comments.pm line 250.
t/ensure.t .................. ok
Unescaped left brace in regex is deprecated, passed through in regex; marked by <-- HERE in m/^(\s*.*?) ({}{ <-- HERE }) () \s* (\S?.*)/ at /tmp/loop_over_bdir-5SlmTt/Smart-Comments-1.0.4-Z3t0XX/blib/lib/Smart/Comments.pm line 250.
t/insist.t .................. ok
Unescaped left brace in regex is deprecated, passed through in regex; marked by <-- HERE in m/^(\s*.*?) ({}{ <-- HERE }) () \s* (\S?.*)/ at /tmp/loop_over_bdir-5SlmTt/Smart-Comments-1.0.4-Z3t0XX/blib/lib/Smart/Comments.pm line 250.
t/labelled_perlish_loop.t ... ok
Unescaped left brace in regex is deprecated, passed through in regex; marked by <-- HERE in m/^(\s*.*?) ({}{ <-- HERE }) () \s* (\S?.*)/ at /tmp/loop_over_bdir-5SlmTt/Smart-Comments-1.0.4-Z3t0XX/blib/lib/Smart/Comments.pm line 250.
t/message.t ................. ok
Unescaped left brace in regex is deprecated, passed through in regex; marked by <-- HERE in m/^(\s*.*?) ({}{ <-- HERE }) () \s* (\S?.*)/ at /tmp/loop_over_bdir-5SlmTt/Smart-Comments-1.0.4-Z3t0XX/blib/lib/Smart/Comments.pm line 250.
t/perlish_for.t ............. ok
Unescaped left brace in regex is deprecated, passed through in regex; marked by <-- HERE in m/^(\s*.*?) ({}{ <-- HERE }) () \s* (\S?.*)/ at /tmp/loop_over_bdir-5SlmTt/Smart-Comments-1.0.4-Z3t0XX/blib/lib/Smart/Comments.pm line 250.
t/perlish_for_percentage.t .. ok
Unescaped left brace in regex is deprecated, passed through in regex; marked by <-- HERE in m/^(\s*.*?) ({}{ <-- HERE }) () \s* (\S?.*)/ at /tmp/loop_over_bdir-5SlmTt/Smart-Comments-1.0.4-Z3t0XX/blib/lib/Smart/Comments.pm line 250.
t/pod-coverage.t ............ ok
t/pod.t ..................... ok
Unescaped left brace in regex is deprecated, passed through in regex; marked by <-- HERE in m/^(\s*.*?) ({}{ <-- HERE }) () \s* (\S?.*)/ at /tmp/loop_over_bdir-5SlmTt/Smart-Comments-1.0.4-Z3t0XX/blib/lib/Smart/Comments.pm line 250.
t/require.t ................. ok
Unescaped left brace in regex is deprecated, passed through in regex; marked by <-- HERE in m/^(\s*.*?) ({}{ <-- HERE }) () \s* (\S?.*)/ at /tmp/loop_over_bdir-5SlmTt/Smart-Comments-1.0.4-Z3t0XX/blib/lib/Smart/Comments.pm line 250.
t/selective.t ............... ok
Unescaped left brace in regex is deprecated, passed through in regex; marked by <-- HERE in m/^(\s*.*?) ({}{ <-- HERE }) () \s* (\S?.*)/ at /tmp/loop_over_bdir-5SlmTt/Smart-Comments-1.0.4-Z3t0XX/blib/lib/Smart/Comments.pm line 250.
t/simple_perlish_for.t ...... ok
Unescaped left brace in regex is deprecated, passed through in regex; marked by <-- HERE in m/^(\s*.*?) ({}{ <-- HERE }) () \s* (\S?.*)/ at /tmp/loop_over_bdir-5SlmTt/Smart-Comments-1.0.4-Z3t0XX/blib/lib/Smart/Comments.pm line 250.
t/var.t ..................... ok
Unescaped left brace in regex is deprecated, passed through in regex; marked by <-- HERE in m/^(\s*.*?) ({}{ <-- HERE }) () \s* (\S?.*)/ at /tmp/loop_over_bdir-5SlmTt/Smart-Comments-1.0.4-Z3t0XX/blib/lib/Smart/Comments.pm line 250.
t/verify.t .................. ok
Unescaped left brace in regex is deprecated, passed through in regex; marked by <-- HERE in m/^(\s*.*?) ({}{ <-- HERE }) () \s* (\S?.*)/ at /tmp/loop_over_bdir-5SlmTt/Smart-Comments-1.0.4-Z3t0XX/blib/lib/Smart/Comments.pm line 250.
t/while.t ................... ok
Unescaped left brace in regex is deprecated, passed through in regex; marked by <-- HERE in m/^(\s*.*?) ({}{ <-- HERE }) () \s* (\S?.*)/ at /tmp/loop_over_bdir-5SlmTt/Smart-Comments-1.0.4-Z3t0XX/blib/lib/Smart/Comments.pm line 250.
t/while_num.t ............... ok
All tests successful.
Files=24, Tests=121, 4 wallclock secs ( 0.07 usr 0.03 sys + 1.27 cusr 0.21 csys = 1.58 CPU)
Result: PASS
------------------------------
PREREQUISITES
------------------------------
Prerequisite modules loaded:
requires:
Module Need Have
-------------- ----- --------
Data::Dumper 0 2.135_07
Filter::Simple 0.8 0.88
List::Util 0 1.25
perl 5.008 5.017005
Text::Balanced 2 2.02
version 0 0.9901
build_requires:
Module Need Have
-------------- ----- --------
Test::More 0 0.98
------------------------------
ENVIRONMENT AND OTHER CONTEXT
------------------------------
Environment variables:
AUTOMATED_TESTING = 1
LANG = en_US.UTF-8
LANGUAGE = en_US:en
PATH = /home/sand/bin:/usr/local/bin:/usr/bin:/bin:/usr/bin/X11:/usr/games:/usr/local/perl/bin:/usr/X11/bin:/sbin:/usr/sbin
PERL5LIB =
PERL5OPT =
PERL5_CPANPLUS_IS_RUNNING = 7234
PERL5_CPAN_IS_RUNNING = 7234
PERL_MM_USE_DEFAULT = 1
SHELL = /usr/bin/zsh
TERM = screen
Perl special variables (and OS-specific diagnostics, for MSWin32):
$^X = /mnt/k75/homesand/src/perl/repoperls/installed-perls/perl/v5.17.4-3-g36672c2/a2da/bin/perl
$UID/$EUID = 1005 / 1005
$GID = 1005 1005
$EGID = 1005 1005
Perl module toolchain versions installed:
Module Have
------------------- --------
CPAN 1.9800
CPAN::Meta 2.120921
Cwd 3.39_02
ExtUtils::CBuilder 0.280208
ExtUtils::Command 1.17
ExtUtils::Install 1.58
ExtUtils::MakeMaker 6.63_02
ExtUtils::Manifest 1.61
ExtUtils::ParseXS 3.18
File::Spec 3.39_02
JSON 2.53
JSON::PP 2.27200
Module::Build 0.4003
Module::Signature 0.68
Parse::CPAN::Meta 1.4404
Test::Harness 3.25_01
Test::More 0.98
YAML 0.84
YAML::Syck 1.21
version 0.9901
--
Summary of my perl5 (revision 5 version 17 subversion 5) configuration:
Commit id: 36672c259f294d48bfc86febe9d2a9cbe7ba9e41
Platform:
osname=linux, osvers=3.2.0-3-amd64, archname=x86_64-linux-thread-multi-ld
uname='linux k83 3.2.0-3-amd64 #1 smp mon jul 23 02:45:17 utc 2012 x86_64 gnulinux '
config_args='-Dprefix=/home/src/perl/repoperls/installed-perls/perl/v5.17.4-3-g36672c2/a2da -Dmyhostname=k83 -Dinstallusrbinperl=n -Uversiononly -Dusedevel -des -Ui_db -Duseithreads -Duselongdouble -DDEBUGGING=-g'
hint=recommended, useposix=true, d_sigaction=define
useithreads=define, usemultiplicity=define
useperlio=define, d_sfio=undef, uselargefiles=define, usesocks=undef
use64bitint=define, use64bitall=define, uselongdouble=define
usemymalloc=n, bincompat5005=undef
Compiler:
cc='cc', ccflags ='-D_REENTRANT -D_GNU_SOURCE -fno-strict-aliasing -pipe -fstack-protector -I/usr/local/include -D_LARGEFILE_SOURCE -D_FILE_OFFSET_BITS=64',
optimize='-O2 -g',
cppflags='-D_REENTRANT -D_GNU_SOURCE -fno-strict-aliasing -pipe -fstack-protector -I/usr/local/include'
ccversion='', gccversion='4.7.1', gccosandvers=''
intsize=4, longsize=8, ptrsize=8, doublesize=8, byteorder=12345678
d_longlong=define, longlongsize=8, d_longdbl=define, longdblsize=16
ivtype='long', ivsize=8, nvtype='long double', nvsize=16, Off_t='off_t', lseeksize=8
alignbytes=16, prototype=define
Linker and Libraries:
ld='cc', ldflags =' -fstack-protector -L/usr/local/lib'
libpth=/usr/local/lib /lib/x86_64-linux-gnu /lib/../lib /usr/lib/x86_64-linux-gnu /usr/lib/../lib /lib /usr/lib
libs=-lnsl -ldb -ldl -lm -lcrypt -lutil -lpthread -lc
perllibs=-lnsl -ldl -lm -lcrypt -lutil -lpthread -lc
libc=, so=so, useshrplib=false, libperl=libperl.a
gnulibc_version='2.13'
Dynamic Linking:
dlsrc=dl_dlopen.xs, dlext=so, d_dlsymun=undef, ccdlflags='-Wl,-E'
cccdlflags='-fPIC', lddlflags='-shared -O2 -g -L/usr/local/lib -fstack-protector'
Characteristics of this binary (from libperl):
Compile-time options: HAS_TIMES MULTIPLICITY PERLIO_LAYERS
PERL_DONT_CREATE_GVSV PERL_IMPLICIT_CONTEXT
PERL_MALLOC_WRAP PERL_PRESERVE_IVUV PERL_USE_DEVEL
USE_64_BIT_ALL USE_64_BIT_INT USE_ITHREADS
USE_LARGE_FILES USE_LOCALE USE_LOCALE_COLLATE
USE_LOCALE_CTYPE USE_LOCALE_NUMERIC USE_LONG_DOUBLE
USE_PERLIO USE_PERL_ATOF USE_REENTRANT_API
Built under linux
Compiled at Sep 20 2012 03:16:49
%ENV:
PERL5LIB=""
PERL5OPT=""
PERL5_CPANPLUS_IS_RUNNING="7234"
PERL5_CPAN_IS_RUNNING="7234"
PERL_MM_USE_DEFAULT="1"
@INC:
/home/src/perl/repoperls/installed-perls/perl/v5.17.4-3-g36672c2/a2da/lib/site_perl/5.17.5/x86_64-linux-thread-multi-ld
/home/src/perl/repoperls/installed-perls/perl/v5.17.4-3-g36672c2/a2da/lib/site_perl/5.17.5
/home/src/perl/repoperls/installed-perls/perl/v5.17.4-3-g36672c2/a2da/lib/5.17.5/x86_64-linux-thread-multi-ld
/home/src/perl/repoperls/installed-perls/perl/v5.17.4-3-g36672c2/a2da/lib/5.17.5
.