Catalyst-DispatchType-Regex v5.90035 Perl 5 v5.23.1 darwin-2level
- Status
- Pass
- From
- Stanislaw Pusep
- Dist
-
Catalyst-DispatchType-Regex v5.90035
- Platform
- Perl 5 v5.23.1 darwin-2level
- Date
- 2015-07-21 12:42:56
- ID
- 02c35e38-2fa6-11e5-829c-0accd19c27b0
This distribution has been tested as part of the CPAN Testers
project, supporting the Perl programming language. See
http://wiki.cpantesters.org/ for more information or email
questions to cpan-testers-discuss@perl.org
--
Dear Mark Grimes,
This is a computer-generated report for Catalyst-DispatchType-Regex-5.90035
on perl 5.23.1, created by CPAN-Reporter-1.2014.
Thank you for uploading your work to CPAN. Congratulations!
All tests were successful.
Sections of this report:
* Tester comments
* Program output
* Prerequisites
* Environment and other context
------------------------------
TESTER COMMENTS
------------------------------
Additional comments from tester:
none provided
------------------------------
PROGRAM OUTPUT
------------------------------
Output from './Build test':
# Testing Catalyst::DispatchType::Regex 5.90035
t/01use.t .............................................. ok
DEPRECATION WARNING: The Regex dispatch type is deprecated.
It is recommended that you convert Regex and LocalRegex
methods to Chained methods. at /Users/stas/.cpan/build/Catalyst-DispatchType-Regex-5.90035-BycoCE/blib/lib/Catalyst/DispatchType/Regex.pm line 210.
t/aggregate/live_component_controller_action_regexp.t .. ok
DEPRECATION WARNING: The Regex dispatch type is deprecated.
It is recommended that you convert Regex and LocalRegex
methods to Chained methods. at /Users/stas/.cpan/build/Catalyst-DispatchType-Regex-5.90035-BycoCE/blib/lib/Catalyst/DispatchType/Regex.pm line 210.
t/aggregate/live_priorities.t .......................... ok
DEPRECATION WARNING: The Regex dispatch type is deprecated.
It is recommended that you convert Regex and LocalRegex
methods to Chained methods. at /Users/stas/.cpan/build/Catalyst-DispatchType-Regex-5.90035-BycoCE/blib/lib/Catalyst/DispatchType/Regex.pm line 210.
t/aggregate/unit_core_uri_for_action.t ................. ok
All tests successful.
Files=4, Tests=60, 4 wallclock secs ( 0.03 usr 0.02 sys + 3.66 cusr 0.25 csys = 3.96 CPU)
Result: PASS
------------------------------
PREREQUISITES
------------------------------
Prerequisite modules loaded:
requires:
Module Need Have
-------------------- ------- --------
Catalyst::Runtime 5.90060 5.90093
Moose 0 2.1405
Text::Balanced 0 2.03
Text::SimpleTable 0 2.03
build_requires:
Module Need Have
-------------------- ------- --------
Data::Dumper 0 2.158
MRO::Compat 0 0.12
namespace::autoclean 0 0.26
Scalar::Util 0 1.42_01
Test::More 0 1.001014
configure_requires:
Module Need Have
-------------------- ------- --------
Module::Build 0.4004 0.4214
------------------------------
ENVIRONMENT AND OTHER CONTEXT
------------------------------
Environment variables:
LANG = en_US.UTF-8
LC_ALL = en_US.UTF-8
LC_CTYPE = UTF-8
NONINTERACTIVE_TESTING = 1
PATH = /Users/stas/perl5/perlbrew/bin:/Users/stas/perl5/perlbrew/perls/perl-5.23.1/bin:/Users/stas/.vim/bin:/Users/stas/bin:/Users/stas/node_modules/.bin:/opt/local/Library/Frameworks/Python.framework/Versions/2.7/bin:/opt/local/lib/postgresql92/bin:/opt/local/bin:/opt/local/sbin:/opt/local/libexec/ccache:/usr/local/bin:/usr/bin:/bin:/usr/sbin:/sbin:/opt/X11/bin:/Users/stas/.vim/bin:/Users/stas/bin:/Users/stas/node_modules/.bin:/opt/local/Library/Frameworks/Python.framework/Versions/2.7/bin:/opt/local/lib/postgresql92/bin:/opt/local/bin:/opt/local/sbin:/opt/local/libexec/ccache
PERL5LIB =
PERL5OPT =
PERL5_CPANPLUS_IS_RUNNING = 42553
PERL5_CPAN_IS_RUNNING = 42553
PERLBREW_BASHRC_VERSION = 0.73
PERLBREW_HOME = /Users/stas/.perlbrew
PERLBREW_MANPATH = /Users/stas/perl5/perlbrew/perls/perl-5.23.1/man
PERLBREW_PATH = /Users/stas/perl5/perlbrew/bin:/Users/stas/perl5/perlbrew/perls/perl-5.23.1/bin
PERLBREW_PERL = perl-5.23.1
PERLBREW_ROOT = /Users/stas/perl5/perlbrew
PERLBREW_VERSION = 0.73
PERL_MM_USE_DEFAULT = 1
SHELL = /opt/local/bin/zsh
TERM = screen
TMPDIR = /var/folders/k7/cj2hxbn162362g2150r7t9480000gn/T/
Perl special variables (and OS-specific diagnostics, for MSWin32):
$^X = /Users/stas/perl5/perlbrew/perls/perl-5.23.1/bin/perl5.23.1
$UID/$EUID = 501 / 501
$GID = 20 20 508 12 61 79 80 81 98 398 399 33 100 204
$EGID = 20 20 508 12 61 79 80 81 98 398 399 33 100 204
Perl module toolchain versions installed:
Module Have
------------------- --------
CPAN 2.10
CPAN::Meta 2.150005
Cwd 3.56
ExtUtils::CBuilder 0.280223
ExtUtils::Command 1.20
ExtUtils::Install 2.04
ExtUtils::MakeMaker 7.04_01
ExtUtils::Manifest 1.70
ExtUtils::ParseXS 3.28
File::Spec 3.56
JSON 2.90
JSON::PP 2.27300
Module::Build 0.4214
Module::Signature n/a
Parse::CPAN::Meta 1.4417
Test::Harness 3.35
Test::More 1.001014
YAML 1.15
YAML::Syck n/a
version 0.9909
--
Summary of my perl5 (revision 5 version 23 subversion 1) configuration:
Platform:
osname=darwin, osvers=14.4.0, archname=darwin-2level
uname='darwin stas-macbook.local 14.4.0 darwin kernel version 14.4.0: thu may 28 11:35:04 pdt 2015; root:xnu-2782.30.5~1release_x86_64 x86_64 '
config_args='-de -Dprefix=/Users/stas/perl5/perlbrew/perls/perl-5.23.1 -Dusedevel -Aeval:scriptdir=/Users/stas/perl5/perlbrew/perls/perl-5.23.1/bin'
hint=recommended, useposix=true, d_sigaction=define
useithreads=undef, usemultiplicity=undef
use64bitint=define, use64bitall=define, uselongdouble=undef
usemymalloc=n, bincompat5005=undef
Compiler:
cc='cc', ccflags ='-fno-common -DPERL_DARWIN -fno-strict-aliasing -pipe -fstack-protector-strong -I/opt/local/include',
optimize='-O3',
cppflags='-fno-common -DPERL_DARWIN -fno-strict-aliasing -pipe -fstack-protector-strong -I/opt/local/include'
ccversion='', gccversion='4.2.1 Compatible Apple LLVM 6.1.0 (clang-602.0.53)', gccosandvers=''
intsize=4, longsize=8, ptrsize=8, doublesize=8, byteorder=12345678, doublekind=3
d_longlong=define, longlongsize=8, d_longdbl=define, longdblsize=16, longdblkind=3
ivtype='long', ivsize=8, nvtype='double', nvsize=8, Off_t='off_t', lseeksize=8
alignbytes=8, prototype=define
Linker and Libraries:
ld='env MACOSX_DEPLOYMENT_TARGET=10.3 cc', ldflags =' -fstack-protector-strong -L/usr/local/lib -L/opt/local/lib'
libpth=/Applications/Xcode.app/Contents/Developer/Toolchains/XcodeDefault.xctoolchain/usr/bin/../lib/clang/6.1.0/lib /Applications/Xcode.app/Contents/Developer/Toolchains/XcodeDefault.xctoolchain/usr/lib /usr/lib /usr/local/lib /opt/local/lib
libs=-lpthread -lgdbm -ldbm -ldl -lm -lutil -lc
perllibs=-lpthread -ldl -lm -lutil -lc
libc=, so=dylib, useshrplib=false, libperl=libperl.a
gnulibc_version=''
Dynamic Linking:
dlsrc=dl_dlopen.xs, dlext=bundle, d_dlsymun=undef, ccdlflags=' '
cccdlflags=' ', lddlflags=' -bundle -undefined dynamic_lookup -L/usr/local/lib -L/opt/local/lib -fstack-protector-strong'
Characteristics of this binary (from libperl):
Compile-time options: HAS_TIMES PERLIO_LAYERS PERL_COPY_ON_WRITE
PERL_DONT_CREATE_GVSV
PERL_HASH_FUNC_ONE_AT_A_TIME_HARD PERL_MALLOC_WRAP
PERL_PRESERVE_IVUV PERL_USE_DEVEL USE_64_BIT_ALL
USE_64_BIT_INT USE_LARGE_FILES USE_LOCALE
USE_LOCALE_COLLATE USE_LOCALE_CTYPE
USE_LOCALE_NUMERIC USE_LOCALE_TIME USE_PERLIO
USE_PERL_ATOF
Built under darwin
Compiled at Jul 21 2015 11:30:21
%ENV:
PERL5LIB=""
PERL5OPT=""
PERL5_CPANPLUS_IS_RUNNING="42553"
PERL5_CPAN_IS_RUNNING="42553"
PERLBREW_BASHRC_VERSION="0.73"
PERLBREW_HOME="/Users/stas/.perlbrew"
PERLBREW_MANPATH="/Users/stas/perl5/perlbrew/perls/perl-5.23.1/man"
PERLBREW_PATH="/Users/stas/perl5/perlbrew/bin:/Users/stas/perl5/perlbrew/perls/perl-5.23.1/bin"
PERLBREW_PERL="perl-5.23.1"
PERLBREW_ROOT="/Users/stas/perl5/perlbrew"
PERLBREW_VERSION="0.73"
PERL_MM_USE_DEFAULT="1"
@INC:
/Users/stas/perl5/perlbrew/perls/perl-5.23.1/lib/site_perl/5.23.1/darwin-2level
/Users/stas/perl5/perlbrew/perls/perl-5.23.1/lib/site_perl/5.23.1
/Users/stas/perl5/perlbrew/perls/perl-5.23.1/lib/5.23.1/darwin-2level
/Users/stas/perl5/perlbrew/perls/perl-5.23.1/lib/5.23.1
.