Module-Install-TestTarget v0.19 Perl 5 v5.43.4 amd64-netbsd-thread-multi
- Status
- Pass
- From
- Carlos Guevara
- Dist
-
Module-Install-TestTarget v0.19
- Platform
- Perl 5 v5.43.4 amd64-netbsd-thread-multi
- Date
- 2025-10-13 20:05:48
- ID
- 02c4948a-a870-11f0-919c-bf47db83fc4b
This distribution has been tested as part of the CPAN Testers
project, supporting the Perl programming language. See
http://wiki.cpantesters.org/ for more information or email
questions to cpan-testers-discuss@perl.org
--
Dear Yuji Shimada,
This is a computer-generated report for Module-Install-TestTarget-0.19
on perl 5.43.4, created by CPAN-Reporter-1.2020.
Thank you for uploading your work to CPAN. Congratulations!
All tests were successful.
Sections of this report:
* Tester comments
* Program output
* Prerequisites
* Environment and other context
------------------------------
TESTER COMMENTS
------------------------------
Additional comments from tester:
this report is from an automated smoke testing program
and was not reviewed by a human for accuracy
------------------------------
PROGRAM OUTPUT
------------------------------
Output from '/usr/bin/make test':
PERL_DL_NONLAZY=1 "/home/cpan/bin/perl/bin/perl5.43.4" "-MExtUtils::Command::MM" "-MTest::Harness" "-e" "undef *Test::Harness::Switches; test_harness(0, 'blib/lib', 'blib/arch')" t/*.t t/*/*.t
# You have make command: make
t/00_compile.t .......................... ok
t/default_make_test/with_extra_tests.t .. skipped: Test requires module 'Module::Install::ExtraTests' but it's not found
t/test_target/alias.t ................... ok
Unescaped left brace in regex is passed through in regex; marked by <-- HERE in m/\$\$ENV{ <-- HERE {q{{FOO}}}} = q{{bar}};/ at t/test_target/env.t line 10.
Unescaped left brace in regex is passed through in regex; marked by <-- HERE in m/\$\$ENV{{ <-- HERE q{{FOO}}}} = q{{bar}};/ at t/test_target/env.t line 10.
Unescaped left brace in regex is passed through in regex; marked by <-- HERE in m/\$\$ENV{{q{ <-- HERE {FOO}}}} = q{{bar}};/ at t/test_target/env.t line 10.
Unescaped left brace in regex is passed through in regex; marked by <-- HERE in m/\$\$ENV{{q{{ <-- HERE FOO}}}} = q{{bar}};/ at t/test_target/env.t line 10.
Unescaped left brace in regex is passed through in regex; marked by <-- HERE in m/\$\$ENV{{q{{FOO}}}} = q{ <-- HERE {bar}};/ at t/test_target/env.t line 10.
Unescaped left brace in regex is passed through in regex; marked by <-- HERE in m/\$\$ENV{{q{{FOO}}}} = q{{ <-- HERE bar}};/ at t/test_target/env.t line 10.
Unescaped left brace in regex is passed through in regex; marked by <-- HERE in m/\$\$ENV{ <-- HERE {q{{BA\\}}R}}}} = q{{ba\\}}z}};/ at t/test_target/env.t line 11.
Unescaped left brace in regex is passed through in regex; marked by <-- HERE in m/\$\$ENV{{ <-- HERE q{{BA\\}}R}}}} = q{{ba\\}}z}};/ at t/test_target/env.t line 11.
Unescaped left brace in regex is passed through in regex; marked by <-- HERE in m/\$\$ENV{{q{ <-- HERE {BA\\}}R}}}} = q{{ba\\}}z}};/ at t/test_target/env.t line 11.
Unescaped left brace in regex is passed through in regex; marked by <-- HERE in m/\$\$ENV{{q{{ <-- HERE BA\\}}R}}}} = q{{ba\\}}z}};/ at t/test_target/env.t line 11.
Unescaped left brace in regex is passed through in regex; marked by <-- HERE in m/\$\$ENV{{q{{BA\\}}R}}}} = q{ <-- HERE {ba\\}}z}};/ at t/test_target/env.t line 11.
Unescaped left brace in regex is passed through in regex; marked by <-- HERE in m/\$\$ENV{{q{{BA\\}}R}}}} = q{{ <-- HERE ba\\}}z}};/ at t/test_target/env.t line 11.
Unescaped left brace in regex is passed through in regex; marked by <-- HERE in m/\$\$ENV{ <-- HERE q{FOO}} = q{bar};/ at t/test_target/env.t line 14.
Unescaped left brace in regex is passed through in regex; marked by <-- HERE in m/\$\$ENV{q{ <-- HERE FOO}} = q{bar};/ at t/test_target/env.t line 14.
Unescaped left brace in regex is passed through in regex; marked by <-- HERE in m/\$\$ENV{q{FOO}} = q{ <-- HERE bar};/ at t/test_target/env.t line 14.
Unescaped left brace in regex is passed through in regex; marked by <-- HERE in m/\$\$ENV{ <-- HERE q{BA\\}R}} = q{ba\\}z};/ at t/test_target/env.t line 15.
Unescaped left brace in regex is passed through in regex; marked by <-- HERE in m/\$\$ENV{q{ <-- HERE BA\\}R}} = q{ba\\}z};/ at t/test_target/env.t line 15.
Unescaped left brace in regex is passed through in regex; marked by <-- HERE in m/\$\$ENV{q{BA\\}R}} = q{ <-- HERE ba\\}z};/ at t/test_target/env.t line 15.
Unescaped left brace in regex is passed through in regex; marked by <-- HERE in m/\\\$\$ENV{ <-- HERE q{FOO}} = q{bar};/ at t/test_target/env.t line 18.
Unescaped left brace in regex is passed through in regex; marked by <-- HERE in m/\\\$\$ENV{q{ <-- HERE FOO}} = q{bar};/ at t/test_target/env.t line 18.
Unescaped left brace in regex is passed through in regex; marked by <-- HERE in m/\\\$\$ENV{q{FOO}} = q{ <-- HERE bar};/ at t/test_target/env.t line 18.
Unescaped left brace in regex is passed through in regex; marked by <-- HERE in m/\\\$\$ENV{ <-- HERE q{BA\\}R}} = q{ba\\}z};/ at t/test_target/env.t line 19.
Unescaped left brace in regex is passed through in regex; marked by <-- HERE in m/\\\$\$ENV{q{ <-- HERE BA\\}R}} = q{ba\\}z};/ at t/test_target/env.t line 19.
Unescaped left brace in regex is passed through in regex; marked by <-- HERE in m/\\\$\$ENV{q{BA\\}R}} = q{ <-- HERE ba\\}z};/ at t/test_target/env.t line 19.
t/test_target/env.t ..................... ok
t/test_target/includes.t ................ ok
Unescaped left brace in regex is passed through in regex; marked by <-- HERE in m/sub { <-- HERE { print scalar localtime }}->\(\); / at t/test_target/insert_on_finalize.t line 11.
Unescaped left brace in regex is passed through in regex; marked by <-- HERE in m/sub {{ <-- HERE print scalar localtime }}->\(\); / at t/test_target/insert_on_finalize.t line 11.
Unescaped left brace in regex is passed through in regex; marked by <-- HERE in m/\$\$ENV{ <-- HERE {__TEST__}} = 1/ at t/test_target/insert_on_finalize.t line 12.
Unescaped left brace in regex is passed through in regex; marked by <-- HERE in m/\$\$ENV{{ <-- HERE __TEST__}} = 1/ at t/test_target/insert_on_finalize.t line 12.
Unescaped left brace in regex is passed through in regex; marked by <-- HERE in m/sub { <-- HERE print scalar localtime }->\(\); / at t/test_target/insert_on_finalize.t line 15.
Unescaped left brace in regex is passed through in regex; marked by <-- HERE in m/\$\$ENV{ <-- HERE __TEST__} = 1/ at t/test_target/insert_on_finalize.t line 16.
Unescaped left brace in regex is passed through in regex; marked by <-- HERE in m/sub { <-- HERE print scalar localtime }->\(\); / at t/test_target/insert_on_finalize.t line 19.
Unescaped left brace in regex is passed through in regex; marked by <-- HERE in m/\\\$\$ENV{ <-- HERE __TEST__} = 1/ at t/test_target/insert_on_finalize.t line 20.
t/test_target/insert_on_finalize.t ...... ok
Unescaped left brace in regex is passed through in regex; marked by <-- HERE in m/sub { <-- HERE { print scalar localtime }}->\(\); / at t/test_target/insert_on_prepare.t line 11.
Unescaped left brace in regex is passed through in regex; marked by <-- HERE in m/sub {{ <-- HERE print scalar localtime }}->\(\); / at t/test_target/insert_on_prepare.t line 11.
Unescaped left brace in regex is passed through in regex; marked by <-- HERE in m/\$\$ENV{ <-- HERE {__TEST__}} = 1/ at t/test_target/insert_on_prepare.t line 12.
Unescaped left brace in regex is passed through in regex; marked by <-- HERE in m/\$\$ENV{{ <-- HERE __TEST__}} = 1/ at t/test_target/insert_on_prepare.t line 12.
Unescaped left brace in regex is passed through in regex; marked by <-- HERE in m/sub { <-- HERE print scalar localtime }->\(\); / at t/test_target/insert_on_prepare.t line 15.
Unescaped left brace in regex is passed through in regex; marked by <-- HERE in m/\$\$ENV{ <-- HERE __TEST__} = 1/ at t/test_target/insert_on_prepare.t line 16.
Unescaped left brace in regex is passed through in regex; marked by <-- HERE in m/sub { <-- HERE print scalar localtime }->\(\); / at t/test_target/insert_on_prepare.t line 19.
Unescaped left brace in regex is passed through in regex; marked by <-- HERE in m/\\\$\$ENV{ <-- HERE __TEST__} = 1/ at t/test_target/insert_on_prepare.t line 20.
t/test_target/insert_on_prepare.t ....... ok
t/test_target/load_modules.t ............ ok
Unescaped left brace in regex is passed through in regex; marked by <-- HERE in m/do { <-- HERE { local \$\$@; do './tool/bar.pl'; die \$\$@ if \$\$@ }};/ at t/test_target/run_on_finalize.t line 10.
Unescaped left brace in regex is passed through in regex; marked by <-- HERE in m/do {{ <-- HERE local \$\$@; do './tool/bar.pl'; die \$\$@ if \$\$@ }};/ at t/test_target/run_on_finalize.t line 10.
Unescaped left brace in regex is passed through in regex; marked by <-- HERE in m/do { <-- HERE local \$\$@; do './tool/bar.pl'; die \$\$@ if \$\$@ };/ at t/test_target/run_on_finalize.t line 13.
Unescaped left brace in regex is passed through in regex; marked by <-- HERE in m/do { <-- HERE local \\\$\$@; do './tool/bar.pl'; die \\\$\$@ if \\\$\$@ };/ at t/test_target/run_on_finalize.t line 16.
t/test_target/run_on_finalize.t ......... ok
Unescaped left brace in regex is passed through in regex; marked by <-- HERE in m/do { <-- HERE { local \$\$@; do './tool/foo.pl'; die \$\$@ if \$\$@ }};/ at t/test_target/run_on_prepare.t line 10.
Unescaped left brace in regex is passed through in regex; marked by <-- HERE in m/do {{ <-- HERE local \$\$@; do './tool/foo.pl'; die \$\$@ if \$\$@ }};/ at t/test_target/run_on_prepare.t line 10.
Unescaped left brace in regex is passed through in regex; marked by <-- HERE in m/do { <-- HERE local \$\$@; do './tool/foo.pl'; die \$\$@ if \$\$@ };/ at t/test_target/run_on_prepare.t line 13.
Unescaped left brace in regex is passed through in regex; marked by <-- HERE in m/do { <-- HERE local \\\$\$@; do './tool/foo.pl'; die \\\$\$@ if \\\$\$@ };/ at t/test_target/run_on_prepare.t line 16.
t/test_target/run_on_prepare.t .......... ok
t/test_target/tests.t ................... ok
All tests successful.
Files=11, Tests=27, 13 wallclock secs ( 0.05 usr 0.01 sys + 9.73 cusr 2.91 csys = 12.70 CPU)
Result: PASS
------------------------------
PREREQUISITES
------------------------------
Prerequisite modules loaded:
requires:
Module Need Have
------------------- ---- --------
Module::Install 1.00 1.21
Test::More 0.96 1.302214
Test::Requires 0 0.11
build_requires:
Module Need Have
------------------- ---- --------
ExtUtils::MakeMaker 0 7.76
configure_requires:
Module Need Have
------------------- ---- --------
ExtUtils::MakeMaker 0 7.76
------------------------------
ENVIRONMENT AND OTHER CONTEXT
------------------------------
Environment variables:
AUTOMATED_TESTING = 1
DATE_MANIP_TEST_DM5 = 1
LC_ALL = C
NONINTERACTIVE_TESTING = 1
NO_NETWORK_TESTING = 1
PATH = /home/cpan/bin/perl/bin:/home/cpan/bin:/home/cpan/bin:/bin:/sbin:/usr/bin:/usr/sbin:/usr/X11R7/bin:/usr/pkg/bin:/usr/pkg/sbin:/usr/games:/usr/local/bin:/usr/local/sbin
PERL5LIB =
PERL5OPT =
PERL5_CPANPLUS_IS_RUNNING = 5013
PERL5_CPAN_IS_RUNNING = 5013
PERL_MM_USE_DEFAULT = 1
PERL_PERTURB_KEYS = 0
PERL_USE_UNSAFE_INC = 1
SHELL = /usr/pkg/bin/bash
TERM = screen
TMPDIR = /home/cpan/tmp
Perl special variables (and OS-specific diagnostics, for MSWin32):
$^X = /home/cpan/bin/perl/bin/perl5.43.4
$UID/$EUID = 1003 / 1003
$GID = 100 100
$EGID = 100 100
Perl module toolchain versions installed:
Module Have
------------------- --------
CPAN 2.38
CPAN::Meta 2.150010
Cwd 3.94
ExtUtils::CBuilder 0.280242
ExtUtils::Command 7.76
ExtUtils::Install 2.22
ExtUtils::MakeMaker 7.76
ExtUtils::Manifest 1.75
ExtUtils::ParseXS 3.60
File::Spec 3.94
JSON 4.10
JSON::PP 4.16
Module::Build 0.4234
Module::Signature n/a
Parse::CPAN::Meta 2.150010
Test2 1.302214
Test::Harness 3.52
Test::More 1.302214
YAML 1.31
YAML::Syck 1.34
version 0.9933
--
Summary of my perl5 (revision 5 version 43 subversion 4) configuration:
Commit id: e8829bd6d6a472706a4cffe71bd8aa6051737c43
Platform:
osname=netbsd
osvers=10.1
archname=amd64-netbsd-thread-multi
uname='netbsd cjg-netbsd10 10.1 netbsd 10.1 (generic) #0: mon dec 16 13:08:11 utc 2024 mkrepro@mkrepro.netbsd.org:usrsrcsysarchamd64compilegeneric amd64 '
config_args='-des -Dprefix=/home/cpan/bin/perl -Dscriptdir=/home/cpan/bin/perl/bin -Dusedevel -Duse64bitall -Duseithreads'
hint=recommended
useposix=true
d_sigaction=define
useithreads=define
usemultiplicity=define
use64bitint=define
use64bitall=define
uselongdouble=undef
usemymalloc=n
default_inc_excludes_dot=define
Compiler:
cc='cc'
ccflags ='-fwrapv -fno-strict-aliasing -pipe -fstack-protector-strong -I/usr/pkg/include -D_FORTIFY_SOURCE=2'
optimize='-O'
cppflags='-fwrapv -fno-strict-aliasing -pipe -fstack-protector-strong -I/usr/pkg/include'
ccversion=''
gccversion='10.5.0'
gccosandvers=''
intsize=4
longsize=8
ptrsize=8
doublesize=8
byteorder=12345678
doublekind=3
d_longlong=define
longlongsize=8
d_longdbl=define
longdblsize=16
longdblkind=3
ivtype='long'
ivsize=8
nvtype='double'
nvsize=8
Off_t='off_t'
lseeksize=8
alignbytes=8
prototype=define
Linker and Libraries:
ld='cc'
ldflags =' -Wl,-rpath,/usr/pkg/lib -Wl,-rpath,/usr/local/lib -fstack-protector-strong -L/usr/pkg/lib'
libpth=/usr/lib /usr/pkg/lib /lib
libs=-lpthread -lm -lcrypt -lutil -lc -lposix
perllibs=-lpthread -lm -lcrypt -lutil -lc -lposix
libc=/lib/libc.so
so=so
useshrplib=false
libperl=libperl.a
gnulibc_version=''
Dynamic Linking:
dlsrc=dl_dlopen.xs
dlext=so
d_dlsymun=undef
ccdlflags='-Wl,-E '
cccdlflags='-DPIC -fPIC '
lddlflags='-shared -L/usr/pkg/lib -fstack-protector-strong'
Characteristics of this binary (from libperl):
Compile-time options:
HAS_LONG_DOUBLE
HAS_STRTOLD
HAS_TIMES
MULTIPLICITY
PERLIO_LAYERS
PERL_COPY_ON_WRITE
PERL_DONT_CREATE_GVSV
PERL_HASH_FUNC_SIPHASH13
PERL_HASH_USE_SBOX32
PERL_MALLOC_WRAP
PERL_OP_PARENT
PERL_PRESERVE_IVUV
PERL_USE_DEVEL
PERL_USE_SAFE_PUTENV
USE_64_BIT_ALL
USE_64_BIT_INT
USE_ITHREADS
USE_LARGE_FILES
USE_LOCALE
USE_LOCALE_COLLATE
USE_LOCALE_CTYPE
USE_LOCALE_NUMERIC
USE_LOCALE_TIME
USE_PERLIO
USE_PERL_ATOF
USE_REENTRANT_API
Built under netbsd
Compiled at Oct 11 2025 23:32:46
%ENV:
PERL5LIB=""
PERL5OPT=""
PERL5_CPANPLUS_IS_RUNNING="5013"
PERL5_CPAN_IS_RUNNING="5013"
PERL_MM_USE_DEFAULT="1"
PERL_PERTURB_KEYS="0"
PERL_USE_UNSAFE_INC="1"
@INC:
/home/cpan/bin/perl/lib/site_perl/5.43.4/amd64-netbsd-thread-multi
/home/cpan/bin/perl/lib/site_perl/5.43.4
/home/cpan/bin/perl/lib/5.43.4/amd64-netbsd-thread-multi
/home/cpan/bin/perl/lib/5.43.4
.