Project-Euler v0.20 Perl 5 v5.13.10 x86_64-linux-thread-multi

Status
Pass
From
Andreas J. König (ANDK)
Dist
Project-Euler v0.20
Platform
Perl 5 v5.13.10 x86_64-linux-thread-multi
Date
2011-03-11 05:47:12
ID
02d03ff4-4ba3-11e0-8a03-b66c9dcd942a
This distribution has been tested as part of the CPAN Testers
project, supporting the Perl programming language.  See
http://wiki.cpantesters.org/ for more information or email
questions to cpan-testers-discuss@perl.org


--
Dear Adam Lesperance,

This is a computer-generated report for Project-Euler-0.20
on perl 5.13.10, created by CPAN-Reporter-1.1902.

Thank you for uploading your work to CPAN.  Congratulations!
All tests were successful.

Sections of this report:

    * Tester comments
    * Program output
    * Prerequisites
    * Environment and other context

------------------------------
TESTER COMMENTS
------------------------------

Additional comments from tester:

none provided

------------------------------
PROGRAM OUTPUT
------------------------------

Output from './Build test':

# Testing Project::Euler, Perl 5.013010, /home/src/perl/repoperls/installed-perls/perl/v5.13.10-367-gccb2541/bin/perl
t/00-Base/00-load.t ........................... ok
t/00-Base/01-base.t ........................... ok
t/00-compile.t ................................ ok
t/10-Lib/000-Types.t .......................... ok
t/10-Lib/100-Utils_List.t ..................... ok
t/10-Lib/101-Utils_Fibs.t ..................... ok
t/20-Problems/000-Correct_Defaults.t .......... ok
t/20-Problems/001-Sum_Filtered_Lists.t ........ ok
t/20-Problems/002-Sum_Filtered_Fib_Numbers.t .. ok
t/author-99-template.t ........................ skipped: these tests are for testing by the author
t/author-critic.t ............................. skipped: these tests are for testing by the author
t/release-check-changes.t ..................... skipped: these tests are for release candidate testing
t/release-distmeta.t .......................... skipped: these tests are for release candidate testing
t/release-has-version.t ....................... skipped: these tests are for release candidate testing
t/release-kwalitee.t .......................... skipped: these tests are for release candidate testing
t/release-minimum-version.t ................... skipped: these tests are for release candidate testing
t/release-pod-coverage.t ...................... skipped: these tests are for release candidate testing
t/release-pod-syntax.t ........................ skipped: these tests are for release candidate testing
t/release-portability.t ....................... skipped: these tests are for release candidate testing
t/release-synopsis.t .......................... skipped: these tests are for release candidate testing
t/release-unused-vars.t ....................... skipped: these tests are for release candidate testing
All tests successful.
Files=21, Tests=338,  7 wallclock secs ( 0.10 usr  0.05 sys +  5.76 cusr  0.59 csys =  6.50 CPU)
Result: PASS

------------------------------
PREREQUISITES
------------------------------

Prerequisite modules loaded:

requires:

    Module                      Need   Have    
    --------------------------- ------ --------
    Carp                        0      1.20    
    DateTime                    0      0.66    
    DateTime::Format::DateParse 0      0.05    
    Exporter::Easy              0      0.16    
    List::MoreUtils             0      0.30    
    List::Util                  0      1.23    
    Math::Big::Factors          0      1.02    
    Math::BigInt                0      1.994   
    Modern::Perl                0      1.03    
    Moose                       0      1.24    
    Moose::Role                 0      1.24    
    MooseX::Types               0      0.25    
    MooseX::Types::Moose        0      0.25    
    namespace::autoclean        0      0.12    
    perl                        5.010  5.013010
    Readonly                    0      1.03    
    String::Palindrome          0      2.000000

build_requires:

    Module                      Need   Have    
    --------------------------- ------ --------
    autodie                     0      2.1001  
    constant                    0      1.20    
    English                     0      1.04    
    File::Find                  0      1.19    
    File::Spec                  0      3.33    
    File::Temp                  0      0.22    
    Module::Build               0.3601 0.3800  
    Test::Exception             0      0.31    
    Test::More                  0      0.98    
    Test::Most                  0      0.23    

configure_requires:

    Module                      Need   Have    
    --------------------------- ------ --------
    Module::Build               0.3601 0.3800  


------------------------------
ENVIRONMENT AND OTHER CONTEXT
------------------------------

Environment variables:

    LANG = en_US.UTF-8
    LC_TIME = de_DE.utf8
    PATH = /home/sand/bin:/usr/local/bin:/usr/bin:/bin:/usr/bin/X11:/usr/games:/usr/local/perl/bin:/usr/X11/bin:/sbin:/usr/sbin
    PERL5LIB = /home/sand/.cpan/build/WAP-wbxml-1.12-DyaKpb/blib/arch:/home/sand/.cpan/build/WAP-wbxml-1.12-DyaKpb/blib/lib:/home/sand/.cpan/build/ProjectBuilder-0.11.1-iuwg4S/blib/arch:/home/sand/.cpan/build/ProjectBuilder-0.11.1-iuwg4S/blib/lib:/home/sand/.cpan/build/ProjectBuilder-0.9.10-nWHALr/blib/arch:/home/sand/.cpan/build/ProjectBuilder-0.9.10-nWHALr/blib/lib:/home/sand/.cpan/build/Mail-SpamAssassin-2.43-IR6JgA/blib/arch:/home/sand/.cpan/build/Mail-SpamAssassin-2.43-IR6JgA/blib/lib
    PERL5OPT = 
    PERL5_CPANPLUS_IS_RUNNING = 15026
    PERL5_CPAN_IS_RUNNING = 15026
    SHELL = /usr/bin/zsh
    TERM = screen

Perl special variables (and OS-specific diagnostics, for MSWin32):

    $^X = /home/src/perl/repoperls/installed-perls/perl/v5.13.10-367-gccb2541/bin/perl
    $UID/$EUID = 1001 / 1001
    $GID = 1001 1001
    $EGID = 1001 1001

Perl module toolchain versions installed:

    Module              Have    
    ------------------- --------
    CPAN                1.94_65 
    Cwd                 3.36    
    ExtUtils::CBuilder  0.280202
    ExtUtils::Command   1.17    
    ExtUtils::Install   1.56    
    ExtUtils::MakeMaker 6.57_05 
    ExtUtils::Manifest  1.58    
    ExtUtils::ParseXS   2.2209  
    File::Spec          3.33    
    Module::Build       0.3800  
    Module::Signature   0.66    
    Test::Harness       3.23    
    Test::More          0.98    
    YAML                n/a     
    YAML::Syck          1.17    
    version             0.88    


--

Summary of my perl5 (revision 5 version 13 subversion 10) configuration:
  Commit id: ccb2541ccb4742d6b229bcccef1d90c4d49d849e
  Platform:
    osname=linux, osvers=2.6.32-5-amd64, archname=x86_64-linux-ld
    uname='linux k81 2.6.32-5-amd64 #1 smp wed jan 12 03:40:32 utc 2011 x86_64 gnulinux '
    config_args='-Dprefix=/home/src/perl/repoperls/installed-perls/perl/v5.13.10-367-gccb2541 -Dinstallusrbinperl=n -Uversiononly -Dusedevel -des -Ui_db -Uuseithreads -Duselongdouble -DDEBUGGING=-g'
    hint=recommended, useposix=true, d_sigaction=define
    useithreads=undef, usemultiplicity=undef
    useperlio=define, d_sfio=undef, uselargefiles=define, usesocks=undef
    use64bitint=define, use64bitall=define, uselongdouble=define
    usemymalloc=n, bincompat5005=undef
  Compiler:
    cc='cc', ccflags ='-fno-strict-aliasing -pipe -fstack-protector -I/usr/local/include -D_LARGEFILE_SOURCE -D_FILE_OFFSET_BITS=64',
    optimize='-O2 -g',
    cppflags='-fno-strict-aliasing -pipe -fstack-protector -I/usr/local/include'
    ccversion='', gccversion='4.4.5', gccosandvers=''
    intsize=4, longsize=8, ptrsize=8, doublesize=8, byteorder=12345678
    d_longlong=define, longlongsize=8, d_longdbl=define, longdblsize=16
    ivtype='long', ivsize=8, nvtype='long double', nvsize=16, Off_t='off_t', lseeksize=8
    alignbytes=16, prototype=define
  Linker and Libraries:
    ld='cc', ldflags =' -fstack-protector -L/usr/local/lib'
    libpth=/usr/local/lib /lib /usr/lib /lib64 /usr/lib64
    libs=-lnsl -lgdbm -ldb -ldl -lm -lcrypt -lutil -lc -lgdbm_compat
    perllibs=-lnsl -ldl -lm -lcrypt -lutil -lc
    libc=/lib/libc-2.11.2.so, so=so, useshrplib=false, libperl=libperl.a
    gnulibc_version='2.11.2'
  Dynamic Linking:
    dlsrc=dl_dlopen.xs, dlext=so, d_dlsymun=undef, ccdlflags='-Wl,-E'
    cccdlflags='-fPIC', lddlflags='-shared -O2 -g -L/usr/local/lib -fstack-protector'


Characteristics of this binary (from libperl): 
  Compile-time options: PERL_DONT_CREATE_GVSV PERL_MALLOC_WRAP PERL_USE_DEVEL
                        USE_64_BIT_ALL USE_64_BIT_INT USE_LARGE_FILES
                        USE_LONG_DOUBLE USE_PERLIO USE_PERL_ATOF
  Built under linux
  Compiled at Mar 10 2011 18:36:50
  %ENV:
    PERL5LIB="/home/sand/.cpan/build/WAP-wbxml-1.12-DyaKpb/blib/arch:/home/sand/.cpan/build/WAP-wbxml-1.12-DyaKpb/blib/lib:/home/sand/.cpan/build/ProjectBuilder-0.11.1-iuwg4S/blib/arch:/home/sand/.cpan/build/ProjectBuilder-0.11.1-iuwg4S/blib/lib:/home/sand/.cpan/build/ProjectBuilder-0.9.10-nWHALr/blib/arch:/home/sand/.cpan/build/ProjectBuilder-0.9.10-nWHALr/blib/lib:/home/sand/.cpan/build/Mail-SpamAssassin-2.43-IR6JgA/blib/arch:/home/sand/.cpan/build/Mail-SpamAssassin-2.43-IR6JgA/blib/lib"
    PERL5OPT=""
    PERL5_CPANPLUS_IS_RUNNING="15026"
    PERL5_CPAN_IS_RUNNING="15026"
  @INC:
    /home/sand/.cpan/build/WAP-wbxml-1.12-DyaKpb/blib/arch
    /home/sand/.cpan/build/WAP-wbxml-1.12-DyaKpb/blib/lib
    /home/sand/.cpan/build/ProjectBuilder-0.11.1-iuwg4S/blib/arch
    /home/sand/.cpan/build/ProjectBuilder-0.11.1-iuwg4S/blib/lib
    /home/sand/.cpan/build/ProjectBuilder-0.9.10-nWHALr/blib/arch
    /home/sand/.cpan/build/ProjectBuilder-0.9.10-nWHALr/blib/lib
    /home/sand/.cpan/build/Mail-SpamAssassin-2.43-IR6JgA/blib/arch
    /home/sand/.cpan/build/Mail-SpamAssassin-2.43-IR6JgA/blib/lib
    /home/src/perl/repoperls/installed-perls/perl/v5.13.10-367-gccb2541/lib/site_perl/5.13.10/x86_64-linux-ld
    /home/src/perl/repoperls/installed-perls/perl/v5.13.10-367-gccb2541/lib/site_perl/5.13.10
    /home/src/perl/repoperls/installed-perls/perl/v5.13.10-367-gccb2541/lib/5.13.10/x86_64-linux-ld
    /home/src/perl/repoperls/installed-perls/perl/v5.13.10-367-gccb2541/lib/5.13.10
    .