WWW-Splunk v2.09 Perl 5 v5.36.3 amd64-freebsd-thread-multi
- Status
- Pass
- From
- Slaven Rezić
- Dist
-
WWW-Splunk v2.09
- Platform
- Perl 5 v5.36.3 amd64-freebsd-thread-multi
- Date
- 2023-12-11 10:14:04
- ID
- 02e64446-980e-11ee-b477-361d6e8775ea
This distribution has been tested as part of the CPAN Testers
project, supporting the Perl programming language. See
http://wiki.cpantesters.org/ for more information or email
questions to cpan-testers-discuss@perl.org
--
Dear Michal Josef Spacek,
This is a computer-generated report for WWW-Splunk-2.09
on perl 5.36.3, created by CPAN-Reporter-1.2018.
Thank you for uploading your work to CPAN. Congratulations!
All tests were successful.
Sections of this report:
* Tester comments
* Program output
* Prerequisites
* Environment and other context
------------------------------
TESTER COMMENTS
------------------------------
Additional comments from tester:
none provided
------------------------------
PROGRAM OUTPUT
------------------------------
Output from './Build test':
t/WWW-Splunk-API/01-use.t ............ ok
t/WWW-Splunk-API/02-version.t ........ ok
t/WWW-Splunk-XMLParser/01-use.t ...... ok
t/WWW-Splunk-XMLParser/02-version.t .. ok
t/WWW-Splunk-XMLParser/03-parse.t .... ok
t/WWW-Splunk/01-use.t ................ ok
t/WWW-Splunk/02-version.t ............ ok
All tests successful.
Files=7, Tests=20, 1 wallclock secs ( 0.03 usr 0.02 sys + 0.86 cusr 0.17 csys = 1.08 CPU)
Result: PASS
------------------------------
PREREQUISITES
------------------------------
Prerequisite modules loaded:
requires:
Module Need Have
--------------------- ---- --------
Carp 0 1.52
Date::Manip 0 6.93
Getopt::Long 0 2.52
HTTP::Request::Common 0 6.45
LWP::UserAgent 0 6.70
perl 5.01 5.036003
Pod::Usage 0 2.01
XML::LibXML 0 2.0209
build_requires:
Module Need Have
--------------------- ---- --------
Test::More 0 1.302190
Test::NoWarnings 0 1.06
XML::LibXML 0 2.0209
configure_requires:
Module Need Have
--------------------- ---- --------
Module::Build 0.42 0.4234
------------------------------
ENVIRONMENT AND OTHER CONTEXT
------------------------------
Environment variables:
LANG = C.UTF-8
PATH = /usr/local/bin:/usr/bin:/bin:/usr/local/sbin:/usr/sbin:/sbin:/home/cpansand/bin/sh:/home/cpansand/bin:/usr/games:/home/cpansand/devel:/usr/home/eserte/src/srezic-misc/scripts
PERL5LIB = /home/cpansand/.cpan/build/2023121110/Test-NoWarnings-1.06-0/blib/arch:/home/cpansand/.cpan/build/2023121110/Test-NoWarnings-1.06-0/blib/lib:/home/cpansand/.cpan/build/2023121110/Date-Manip-6.93-0/blib/arch:/home/cpansand/.cpan/build/2023121110/Date-Manip-6.93-0/blib/lib:/home/cpansand/.cpan/build/2023121110/Test-Inter-1.10-0/blib/arch:/home/cpansand/.cpan/build/2023121110/Test-Inter-1.10-0/blib/lib
PERL5OPT =
PERL5_CPANPLUS_IS_RUNNING = 43378
PERL5_CPAN_IS_RUNNING = 43378
PERL5_CPAN_IS_RUNNING_IN_RECURSION = 18402,43378
PERL_BATCH = yes
PERL_CANARY_STABILITY_NOPROMPT = 1
PERL_CPAN_REPORTER_CONFIG = /var/tmp/cpansmoker-1023/2023121109/cpanreporter_000_config.ini
PERL_EXTUTILS_AUTOINSTALL = --defaultdeps
PERL_USE_UNSAFE_INC = 1
SHELL = /bin/sh
TMPDIR = /var/tmp/cpansmoker-1023/2023121109
Perl special variables (and OS-specific diagnostics, for MSWin32):
$^X = /usr/local/bin/perl
$UID/$EUID = 1023 / 1023
$GID = 1023 1023
$EGID = 1023 1023
Perl module toolchain versions installed:
Module Have
------------------- --------
CPAN 2.33
CPAN::Meta 2.150010
Cwd 3.84
ExtUtils::CBuilder 0.280236
ExtUtils::Command 7.64
ExtUtils::Install 2.20
ExtUtils::MakeMaker 7.64
ExtUtils::Manifest 1.73
ExtUtils::ParseXS 3.45
File::Spec 3.84
JSON n/a
JSON::PP 4.07
Module::Build 0.4234
Module::Signature n/a
Parse::CPAN::Meta 2.150010
Test::Harness 3.44
Test::More 1.302190
YAML n/a
YAML::Syck 1.34
version 0.9929
--
Summary of my perl5 (revision 5 version 36 subversion 3) configuration:
Platform:
osname=freebsd
osvers=15.0-current
archname=amd64-freebsd-thread-multi
uname='freebsd main-amd64-default-job-01 15.0-current freebsd 15.0-current 1500004 amd64 '
config_args='-Accflags=-DUSE_THREAD_SAFE_LOCALE -Darchlib=/usr/local/lib/perl5/5.36/mach -Dcc=cc -Dcf_by=mat -Dcf_email=mat@FreeBSD.org -Dcf_time=Wed Nov 29 16:10:26 UTC 2023 -Dinc_version_list=none -Dlibperl=libperl.so.5.36.3 -Dman1dir=/usr/local/lib/perl5/5.36/perl/man/man1 -Dman3dir=/usr/local/lib/perl5/5.36/perl/man/man3 -Dprefix=/usr/local -Dprivlib=/usr/local/lib/perl5/5.36 -Dscriptdir=/usr/local/bin -Dsitearch=/usr/local/lib/perl5/site_perl/mach/5.36 -Dsitelib=/usr/local/lib/perl5/site_perl -Dsiteman1dir=/usr/local/lib/perl5/site_perl/man/man1 -Dsiteman3dir=/usr/local/lib/perl5/site_perl/man/man3 -Dusenm=n -Duseshrplib -sde -Ui_iconv -Ui_malloc -Uinstallusrbinperl -Alddlflags=-L/wrkdirs/usr/ports/lang/perl5.36/work/perl-5.36.3 -L/usr/local/lib/perl5/5.36/mach/CORE -lperl -Dshrpldflags=$(LDDLFLAGS:N-L/wrkdirs/usr/ports/lang/perl5.36/work/perl-5.36.3:N-L/usr/local/lib/perl5/5.36/mach/CORE:N-lperl) -Wl,-soname,$(LIBPERL:R) -Doptimize=-O2 -pipe -fstack-protector-strong -fno-strict-aliasing -Dusedtrace -Ui_gdbm -Dusemultiplicity=y -Duse64bitint -Dusemymalloc=n -Dusethreads=y'
hint=recommended
useposix=true
d_sigaction=define
useithreads=define
usemultiplicity=define
use64bitint=define
use64bitall=define
uselongdouble=undef
usemymalloc=n
default_inc_excludes_dot=define
Compiler:
cc='cc'
ccflags ='-DHAS_FPSETMASK -DHAS_FLOATINGPOINT_H -DUSE_THREAD_SAFE_LOCALE -fno-strict-aliasing -pipe -fstack-protector-strong -I/usr/local/include'
optimize='-O2 -pipe -fstack-protector-strong -fno-strict-aliasing '
cppflags='-DHAS_FPSETMASK -DHAS_FLOATINGPOINT_H -DUSE_THREAD_SAFE_LOCALE -fno-strict-aliasing -pipe -fstack-protector-strong -I/usr/local/include'
ccversion=''
gccversion='FreeBSD Clang 16.0.6 (https://github.com/llvm/llvm-project.git llvmorg-16.0.6-0-g7cbf1a259152)'
gccosandvers=''
intsize=4
longsize=8
ptrsize=8
doublesize=8
byteorder=12345678
doublekind=3
d_longlong=define
longlongsize=8
d_longdbl=define
longdblsize=16
longdblkind=3
ivtype='long'
ivsize=8
nvtype='double'
nvsize=8
Off_t='off_t'
lseeksize=8
alignbytes=8
prototype=define
Linker and Libraries:
ld='cc'
ldflags ='-pthread -Wl,-E -fstack-protector-strong -L/usr/local/lib'
libpth=/usr/lib /usr/local/lib /usr/lib/clang/16/lib
libs=-ldl -lm -lcrypt -lutil
perllibs=-ldl -lm -lcrypt -lutil
libc=
so=so
useshrplib=true
libperl=libperl.so.5.36.3
gnulibc_version=''
Dynamic Linking:
dlsrc=dl_dlopen.xs
dlext=so
d_dlsymun=undef
ccdlflags=' -Wl,-R/usr/local/lib/perl5/5.36/mach/CORE'
cccdlflags='-DPIC -fPIC'
lddlflags='-shared -L/usr/local/lib/perl5/5.36/mach/CORE -lperl -L/usr/local/lib -fstack-protector-strong'
Characteristics of this binary (from libperl):
Compile-time options:
HAS_TIMES
MULTIPLICITY
PERLIO_LAYERS
PERL_COPY_ON_WRITE
PERL_DONT_CREATE_GVSV
PERL_MALLOC_WRAP
PERL_OP_PARENT
PERL_PRESERVE_IVUV
USE_64_BIT_ALL
USE_64_BIT_INT
USE_ITHREADS
USE_LARGE_FILES
USE_LOCALE
USE_LOCALE_COLLATE
USE_LOCALE_CTYPE
USE_LOCALE_NUMERIC
USE_LOCALE_TIME
USE_PERLIO
USE_PERL_ATOF
USE_REENTRANT_API
USE_THREAD_SAFE_LOCALE
Built under freebsd
%ENV:
PERL5LIB="/home/cpansand/.cpan/build/2023121110/Test-NoWarnings-1.06-0/blib/arch:/home/cpansand/.cpan/build/2023121110/Test-NoWarnings-1.06-0/blib/lib:/home/cpansand/.cpan/build/2023121110/Date-Manip-6.93-0/blib/arch:/home/cpansand/.cpan/build/2023121110/Date-Manip-6.93-0/blib/lib:/home/cpansand/.cpan/build/2023121110/Test-Inter-1.10-0/blib/arch:/home/cpansand/.cpan/build/2023121110/Test-Inter-1.10-0/blib/lib"
PERL5OPT=""
PERL5_CPANPLUS_IS_RUNNING="43378"
PERL5_CPAN_IS_RUNNING="43378"
PERL5_CPAN_IS_RUNNING_IN_RECURSION="18402,43378"
PERL_BATCH="yes"
PERL_CANARY_STABILITY_NOPROMPT="1"
PERL_CPAN_REPORTER_CONFIG="/var/tmp/cpansmoker-1023/2023121109/cpanreporter_000_config.ini"
PERL_EXTUTILS_AUTOINSTALL="--defaultdeps"
PERL_USE_UNSAFE_INC="1"
@INC:
/home/cpansand/.cpan/build/2023121110/Test-NoWarnings-1.06-0/blib/arch
/home/cpansand/.cpan/build/2023121110/Test-NoWarnings-1.06-0/blib/lib
/home/cpansand/.cpan/build/2023121110/Date-Manip-6.93-0/blib/arch
/home/cpansand/.cpan/build/2023121110/Date-Manip-6.93-0/blib/lib
/home/cpansand/.cpan/build/2023121110/Test-Inter-1.10-0/blib/arch
/home/cpansand/.cpan/build/2023121110/Test-Inter-1.10-0/blib/lib
/usr/local/lib/perl5/site_perl/mach/5.36
/usr/local/lib/perl5/site_perl
/usr/local/lib/perl5/5.36/mach
/usr/local/lib/perl5/5.36
.