Starman v0.4017 Perl 5 v5.38.0 armv6l-linux
- Status
- Pass
- From
- gregor herrmann
- Dist
-
Starman v0.4017
- Platform
- Perl 5 v5.38.0 armv6l-linux
- Date
- 2023-10-20 11:22:53
- ID
- 02ea8020-6f3b-11ee-9d3a-4ca6c4ed414f
This distribution has been tested as part of the CPAN Testers
project, supporting the Perl programming language. See
http://wiki.cpantesters.org/ for more information or email
questions to cpan-testers-discuss@perl.org
--
Dear Tatsuhiko Miyagawa,
This is a computer-generated report for Starman-0.4017
on perl 5.38.0, created by CPAN-Reporter-1.2019.
Thank you for uploading your work to CPAN. Congratulations!
All tests were successful.
Sections of this report:
* Tester comments
* Program output
* Prerequisites
* Environment and other context
------------------------------
TESTER COMMENTS
------------------------------
Additional comments from tester:
this report is from an automated smoke testing program
and was not reviewed by a human for accuracy
------------------------------
PROGRAM OUTPUT
------------------------------
Output from './Build test':
t/00_compile.t ........... ok
t/author-pod-syntax.t .... skipped: these tests are for testing by the author
2023/10/20-13:19:35 Starman::Server (type Net::Server::PreFork) starting! pid(23113)
Binding to TCP port 40925 on host 127.0.0.1 with IPv4
Setting gid to "65534 65534 65534"
2023/10/20-13:19:36 Server closing!
t/chunked_req.t .......... ok
t/chunked_termination.t .. ok
2023/10/20-13:20:01 Starman::Server (type Net::Server::PreFork) starting! pid(23189)
Binding to TCP port 39217 on host 127.0.0.1 with IPv4
Setting gid to "65534 65534 65534"
2023/10/20-13:20:03 Server closing!
t/chunked_zero_length.t .. ok
2023/10/20-13:20:11 Starman::Server (type Net::Server::PreFork) starting! pid(23221)
Binding to TCP port 42601 on host 127.0.0.1 with IPv4
Setting gid to "65534 65534 65534"
2023/10/20-13:20:11 Server closing!
t/early-hints.t .......... ok
2023/10/20-13:20:17 Starman::Server (type Net::Server::PreFork) starting! pid(23230)
Binding to TCP port 39413 on host 127.0.0.1 with IPv4
Setting gid to "65534 65534 65534"
2023/10/20-13:20:18 Server closing!
t/eintr.t ................ ok
2023/10/20-13:20:28 Starman::Server (type Net::Server::PreFork) starting! pid(23241)
Binding to TCP port 36685 on host 127.0.0.1 with IPv4
Setting gid to "65534 65534 65534"
2023/10/20-13:20:29 Server closing!
t/expect.t ............... ok
2023/10/20-13:20:35 Starman::Server (type Net::Server::PreFork) starting! pid(23249)
Binding to TCP port 33319 on host 127.0.0.1 with IPv4
Setting gid to "65534 65534 65534"
2023/10/20-13:20:36 Server closing!
2023/10/20-13:20:37 Starman::Server (type Net::Server::PreFork) starting! pid(23256)
Binding to TCP port 34073 on host 127.0.0.1 with IPv4
Setting gid to "65534 65534 65534"
2023/10/20-13:20:41 Server closing!
t/harakiri.t ............. ok
2023/10/20-13:20:46 Starman::Server (type Net::Server::PreFork) starting! pid(23285)
Binding to TCP port 40199 on host 127.0.0.1 with IPv4
Setting gid to "65534 65534 65534"
2023/10/20-13:20:47 Server closing!
t/lf_only_request.t ...... ok
2023/10/20-13:20:52 Starman::Server (type Net::Server::PreFork) starting! pid(23294)
Binding to TCP port 33881 on host 127.0.0.1 with IPv4
Setting gid to "65534 65534 65534"
2023/10/20-13:20:53 Server closing!
t/no_chunked_head.t ...... ok
t/release-findbin.t ...... skipped: these tests are for release candidate testing
t/release-rand.t ......... skipped: these tests are for release candidate testing
2023/10/20-13:20:59 Starman::Server (type Net::Server::PreFork) starting! pid(23305)
Binding to TCP port 45039 on host 127.0.0.1 with IPv4
Setting gid to "65534 65534 65534"
2023/10/20-13:21:00 Server closing!
t/single_zero.t .......... ok
2023/10/20-13:21:09 Starman::Server (type Net::Server::PreFork) starting! pid(23316)
Resolved [localhost]:36635 to [127.0.0.1]:36635, IPv4
Resolved [localhost]:36635 to [127.0.0.1]:36635, IPv4
Duplicate configuration (SSL) on [127.0.0.1]:36635 with IPv4) - skipping
Binding to SSL port 36635 on host 127.0.0.1 with IPv4
Setting gid to "65534 65534 65534"
Could not finalize SSL connection with client handle (SSL accept attempt failed error:0A000126:SSL routines::unexpected eof while reading)
2023/10/20-13:21:29 Server closing!
t/ssl.t .................. ok
2023/10/20-13:21:36 Starman::Server (type Net::Server::PreFork) starting! pid(23333)
Resolved [localhost]:43911 to [127.0.0.1]:43911, IPv4
Resolved [localhost]:43911 to [127.0.0.1]:43911, IPv4
Duplicate configuration (SSL) on [127.0.0.1]:43911 with IPv4) - skipping
Binding to SSL port 43911 on host 127.0.0.1 with IPv4
Setting gid to "65534 65534 65534"
Could not finalize SSL connection with client handle (SSL accept attempt failed error:0A000126:SSL routines::unexpected eof while reading)
2023/10/20-13:21:40 Server closing!
t/ssl_largebody.t ........ ok
2023/10/20-13:21:48 Starman::Server (type Net::Server::PreFork) starting! pid(23344)
Binding to TCP port 36399 on host 127.0.0.1 with IPv4
Setting gid to "65534 65534 65534"
2023/10/20-13:21:50 Server closing!
t/suite.t ................ ok
All tests successful.
Files=17, Tests=125, 159 wallclock secs ( 1.48 usr 0.11 sys + 82.48 cusr 7.29 csys = 91.36 CPU)
Result: PASS
------------------------------
PREREQUISITES
------------------------------
Prerequisite modules loaded:
requires:
Module Need Have
------------------- -------- --------
Data::Dump 0 1.25
HTTP::Date 0 6.06
HTTP::Parser::XS 0 0.17
HTTP::Status 0 6.45
Net::Server 2.007 2.014
parent 0 0.241
perl 5.008001 5.038000
Plack 0.9971 1.0050
Test::TCP 2.00 2.22
build_requires:
Module Need Have
------------------- -------- --------
LWP::UserAgent 0 6.72
Test::More 0 1.302195
Test::Requires 0 0.11
configure_requires:
Module Need Have
------------------- -------- --------
Module::Build::Tiny 0.034 0.047
------------------------------
ENVIRONMENT AND OTHER CONTEXT
------------------------------
Environment variables:
AUTOMATED_TESTING = 1
LC_CTYPE = de_AT.utf8
LD_LIBRARY_PATH = /usr/lib/libeatmydata
NONINTERACTIVE_TESTING = 1
PATH = /srv/smoker/bin:/usr/lib/ccache:/srv/smoker/perl5/perlbrew/bin:/srv/smoker/perl5/perlbrew/perls/perl-5.38.0/bin:/usr/local/bin:/usr/bin:/bin:/usr/local/games:/usr/games
PERL5LIB =
PERL5OPT =
PERL5_CPANPLUS_IS_RUNNING = 19147
PERL5_CPAN_IS_RUNNING = 19147
PERL5_CPAN_IS_RUNNING_IN_RECURSION = 25014,19147
PERLBREW_HOME = /srv/smoker/.perlbrew
PERLBREW_MANPATH = /srv/smoker/perl5/perlbrew/perls/perl-5.38.0/man
PERLBREW_PATH = /srv/smoker/perl5/perlbrew/bin:/srv/smoker/perl5/perlbrew/perls/perl-5.38.0/bin
PERLBREW_PERL = perl-5.38.0
PERLBREW_ROOT = /srv/smoker/perl5/perlbrew
PERLBREW_SHELLRC_VERSION = 0.98
PERLBREW_VERSION = 0.98
PERL_CPANM_OPT = --prompt --configure-timeout 300 --build-timeout 18000 --test-timeout 18000 --from https://www.cpan.org
PERL_CR_SMOKER_CURRENT = Dancer2-Plugin-WebService-4.4.6
PERL_EXTUTILS_AUTOINSTALL = --defaultdeps
PERL_LOCAL_LIB_ROOT = /srv/smoker/perl5
PERL_MM_USE_DEFAULT = 1
PERL_TEST_TIME_OUT_FACTOR = 3
PERL_TEST_TIME_OUT_FACTOR = 3
PERL_USE_UNSAFE_INC = 1
SHELL = /bin/bash
TERM = screen-256color
Perl special variables (and OS-specific diagnostics, for MSWin32):
$^X = /srv/smoker/perl5/perlbrew/perls/perl-5.38.0/bin/perl
$UID/$EUID = 1111 / 1111
$GID = 65534 65534
$EGID = 65534 65534
Perl module toolchain versions installed:
Module Have
------------------- --------
CPAN 2.36
CPAN::Meta 2.150010
Cwd 3.89
ExtUtils::CBuilder 0.280238
ExtUtils::Command 7.70
ExtUtils::Install 2.22
ExtUtils::MakeMaker 7.70
ExtUtils::Manifest 1.75
ExtUtils::ParseXS 3.51
File::Spec 3.88
JSON 4.10
JSON::PP 4.16
Module::Build 0.4234
Module::Signature n/a
Parse::CPAN::Meta 2.150010
Test2 1.302195
Test::Harness 3.48
Test::More 1.302195
YAML 1.30
YAML::Syck n/a
version 0.9930
--
Summary of my perl5 (revision 5 version 38 subversion 0) configuration:
Platform:
osname=linux
osvers=5.10.103+
archname=armv6l-linux
uname='linux smoker 5.10.103+ #1529 tue mar 8 12:19:18 gmt 2022 armv6l gnulinux '
config_args='-de -Dprefix=/srv/smoker/perl5/perlbrew/perls/perl-5.38.0 -Aeval:scriptdir=/srv/smoker/perl5/perlbrew/perls/perl-5.38.0/bin'
hint=recommended
useposix=true
d_sigaction=define
useithreads=undef
usemultiplicity=undef
use64bitint=undef
use64bitall=undef
uselongdouble=undef
usemymalloc=n
default_inc_excludes_dot=define
Compiler:
cc='cc'
ccflags ='-fwrapv -fno-strict-aliasing -pipe -fstack-protector-strong -I/usr/local/include -D_LARGEFILE_SOURCE -D_FILE_OFFSET_BITS=64 -D_FORTIFY_SOURCE=2'
optimize='-O2'
cppflags='-fwrapv -fno-strict-aliasing -pipe -fstack-protector-strong -I/usr/local/include'
ccversion=''
gccversion='12.2.0'
gccosandvers=''
intsize=4
longsize=4
ptrsize=4
doublesize=8
byteorder=1234
doublekind=3
d_longlong=define
longlongsize=8
d_longdbl=define
longdblsize=8
longdblkind=0
ivtype='long'
ivsize=4
nvtype='double'
nvsize=8
Off_t='off_t'
lseeksize=8
alignbytes=8
prototype=define
Linker and Libraries:
ld='cc'
ldflags =' -fstack-protector-strong -L/usr/local/lib'
libpth=/usr/local/lib /usr/lib/arm-linux-gnueabihf /usr/lib
libs=-lpthread -ldb -ldl -lm -lcrypt -lutil -lc
perllibs=-lpthread -ldl -lm -lcrypt -lutil -lc
libc=/lib/arm-linux-gnueabihf/libc.so.6
so=so
useshrplib=false
libperl=libperl.a
gnulibc_version='2.36'
Dynamic Linking:
dlsrc=dl_dlopen.xs
dlext=so
d_dlsymun=undef
ccdlflags='-Wl,-E'
cccdlflags='-fPIC'
lddlflags='-shared -O2 -L/usr/local/lib -fstack-protector-strong'
Characteristics of this binary (from libperl):
Compile-time options:
HAS_LONG_DOUBLE
HAS_STRTOLD
HAS_TIMES
PERLIO_LAYERS
PERL_COPY_ON_WRITE
PERL_DONT_CREATE_GVSV
PERL_HASH_FUNC_ZAPHOD32
PERL_HASH_USE_SBOX32
PERL_MALLOC_WRAP
PERL_OP_PARENT
PERL_PRESERVE_IVUV
PERL_USE_SAFE_PUTENV
USE_LARGE_FILES
USE_LOCALE
USE_LOCALE_COLLATE
USE_LOCALE_CTYPE
USE_LOCALE_NUMERIC
USE_LOCALE_TIME
USE_PERLIO
USE_PERL_ATOF
Built under linux
Compiled at Sep 11 2023 16:58:07
%ENV:
PERL5LIB=""
PERL5OPT=""
PERL5_CPANPLUS_IS_RUNNING="19147"
PERL5_CPAN_IS_RUNNING="19147"
PERL5_CPAN_IS_RUNNING_IN_RECURSION="25014,19147"
PERLBREW_HOME="/srv/smoker/.perlbrew"
PERLBREW_MANPATH="/srv/smoker/perl5/perlbrew/perls/perl-5.38.0/man"
PERLBREW_PATH="/srv/smoker/perl5/perlbrew/bin:/srv/smoker/perl5/perlbrew/perls/perl-5.38.0/bin"
PERLBREW_PERL="perl-5.38.0"
PERLBREW_ROOT="/srv/smoker/perl5/perlbrew"
PERLBREW_SHELLRC_VERSION="0.98"
PERLBREW_VERSION="0.98"
PERL_CPANM_OPT="--prompt --configure-timeout 300 --build-timeout 18000 --test-timeout 18000 --from https://www.cpan.org"
PERL_CR_SMOKER_CURRENT="Dancer2-Plugin-WebService-4.4.6"
PERL_EXTUTILS_AUTOINSTALL="--defaultdeps"
PERL_LOCAL_LIB_ROOT="/srv/smoker/perl5"
PERL_MM_USE_DEFAULT="1"
PERL_TEST_TIME_OUT_FACTOR="3"
PERL_USE_UNSAFE_INC="1"
@INC:
/srv/smoker/perl5/perlbrew/perls/perl-5.38.0/lib/site_perl/5.38.0/armv6l-linux
/srv/smoker/perl5/perlbrew/perls/perl-5.38.0/lib/site_perl/5.38.0
/srv/smoker/perl5/perlbrew/perls/perl-5.38.0/lib/5.38.0/armv6l-linux
/srv/smoker/perl5/perlbrew/perls/perl-5.38.0/lib/5.38.0
.