Plack-Middleware-Status v1.101150 Perl 5 v5.8.6 i386-linux-thread-multi

Status
Pass
From
Jakub Narębski
Dist
Plack-Middleware-Status v1.101150
Platform
Perl 5 v5.8.6 i386-linux-thread-multi
Date
2012-03-03 12:54:28
ID
02ff73d0-6530-11e1-978c-cea0a89eba3c
This distribution has been tested as part of the CPAN Testers
project, supporting the Perl programming language.  See
http://wiki.cpantesters.org/ for more information or email
questions to cpan-testers-discuss@perl.org


--
Dear Patrick Donelan,

This is a computer-generated report for Plack-Middleware-Status-1.101150
on perl 5.8.6, created by CPAN-Reporter-1.1803.

Thank you for uploading your work to CPAN.  Congratulations!
All tests were successful.

Sections of this report:

    * Tester comments
    * Program output
    * Prerequisites
    * Environment and other context

------------------------------
TESTER COMMENTS
------------------------------

Additional comments from tester:

none provided

------------------------------
PROGRAM OUTPUT
------------------------------

Output from './Build test':

t/00-compile.t ............... ok
t/release-check-changes.t .... skipped: these tests are for release candidate testing
t/release-distmeta.t ......... skipped: these tests are for release candidate testing
t/release-has-version.t ...... skipped: these tests are for release candidate testing
t/release-minimum-version.t .. skipped: these tests are for release candidate testing
t/release-pod-coverage.t ..... skipped: these tests are for release candidate testing
t/release-pod-syntax.t ....... skipped: these tests are for release candidate testing
t/release-portability.t ...... skipped: these tests are for release candidate testing
Invalid HTTP status: 999 at /home/jnareb/perl5/lib/perl5/Plack/Test/MockHTTP.pm line 24
t/test.t ..................... ok
All tests successful.
Files=9, Tests=9,  2 wallclock secs ( 0.18 usr  0.04 sys +  1.55 cusr  0.54 csys =  2.31 CPU)
Result: PASS

------------------------------
PREREQUISITES
------------------------------

Prerequisite modules loaded:

requires:

    Module                Need   Have  
    --------------------- ------ ------
    Carp                  0      1.03  
    HTTP::Status          0      5.817 
    parent                0      0.223 
    Plack::Middleware     0      0     
    Plack::Util::Accessor 0      0     

build_requires:

    Module                Need   Have  
    --------------------- ------ ------
    File::Find            0      1.07  
    File::Temp            0      0.22  
    HTTP::Request::Common 0      5.824 
    Module::Build         0.3601 0.3607
    Plack::Builder        0      0     
    Plack::Test           0      0     
    Test::More            0      0.98  

configure_requires:

    Module                Need   Have  
    --------------------- ------ ------
    ExtUtils::MakeMaker   6.31   6.62  
    Module::Build         0.3601 0.3607


------------------------------
ENVIRONMENT AND OTHER CONTEXT
------------------------------

Environment variables:

    LANG = pl_PL
    LC_ALL = pl_PL
    LD_LIBRARY_PATH = /usr/local/lf9560/lib:/usr/local/lf9560/lib:
    PATH = /home/jnareb/perl5/bin:/usr/local/lf9560/bin:/home/jnareb/perl5/bin:/usr/local/lf9560/bin:/usr/kerberos/bin:/usr/local/bin:/usr/bin:/bin:/usr/X11R6/bin:/usr/games:/usr/lib/jre/bin:/usr/games:/home/jnareb/bin:/usr/lib/jre/bin
    PERL5LIB = /home/jnareb/perl5/lib/perl5:/home/jnareb/perl5/lib/perl5/i386-linux-thread-multi:/home/jnareb/perl5/lib/perl5:/home/jnareb/perl5/lib/perl5/i386-linux-thread-multi:
    PERL5OPT = 
    PERL5_CPANPLUS_IS_RUNNING = 4144
    PERL5_CPAN_IS_RUNNING = 4144
    PERLLIB = /home/jnareb/perl
    PERL_MM_OPT = INSTALL_BASE=/home/jnareb/perl5
    SHELL = /bin/bash
    TERM = xterm

Perl special variables (and OS-specific diagnostics, for MSWin32):

    $^X = /usr/bin/perl
    $UID/$EUID = 500 / 500
    $GID = 100 601 600 501 100
    $EGID = 100 601 600 501 100

Perl module toolchain versions installed:

    Module              Have  
    ------------------- ------
    CPAN                1.9800
    Cwd                 3.31  
    ExtUtils::CBuilder  0.2703
    ExtUtils::Command   1.16  
    ExtUtils::Install   1.54  
    ExtUtils::MakeMaker 6.62  
    ExtUtils::Manifest  1.58  
    ExtUtils::ParseXS   2.2205
    File::Spec          3.31  
    Module::Build       0.3607
    Module::Signature   n/a   
    Test::Harness       3.21  
    Test::More          0.98  
    YAML                0.72  
    YAML::Syck          n/a   
    version             0.95  


--

Summary of my perl5 (revision 5 version 8 subversion 6) configuration:
  Platform:
    osname=linux, osvers=2.6.9-34.elsmp, archname=i386-linux-thread-multi
    uname='linux hs20-bc1-4.build.redhat.com 2.6.9-34.elsmp #1 smp fri feb 24 16:56:28 est 2006 i686 i686 i386 gnulinux '
    config_args='-des -Doptimize=-O2 -g -pipe -Wp,-D_FORTIFY_SOURCE=2 -fexceptions -m32 -march=i386 -mtune=pentium4 -fasynchronous-unwind-tables -Dversion=5.8.6 -Dmyhostname=localhost -Dperladmin=root@localhost -Dcc=gcc -Dcf_by=Red Hat, Inc. -Dinstallprefix=/usr -Dprefix=/usr -Darchname=i386-linux -Dvendorprefix=/usr -Dsiteprefix=/usr -Duseshrplib -Dusethreads -Duseithreads -Duselargefiles -Dd_dosuid -Dd_semctl_semun -Di_db -Ui_ndbm -Di_gdbm -Di_shadow -Di_syslog -Dman3ext=3pm -Duseperlio -Dinstallusrbinperl=n -Ubincompat5005 -Uversiononly -Dpager=/usr/bin/less -isr -Dd_gethostent_r_proto -Ud_endhostent_r_proto -Ud_endprotoent_r_proto -Ud_endservent_r_proto -Ud_sethostent_r_proto -Ud_setprotoent_r_proto -Ud_setservent_r_proto -Dinc_version_list=5.8.5 5.8.4 5.8.3'
    hint=recommended, useposix=true, d_sigaction=define
    usethreads=define use5005threads=undef useithreads=define usemultiplicity=define
    useperlio=define d_sfio=undef uselargefiles=define usesocks=undef
    use64bitint=undef use64bitall=undef uselongdouble=undef
    usemymalloc=n, bincompat5005=undef
  Compiler:
    cc='gcc', ccflags ='-D_REENTRANT -D_GNU_SOURCE -DDEBUGGING -fno-strict-aliasing -pipe -I/usr/local/include -D_LARGEFILE_SOURCE -D_FILE_OFFSET_BITS=64 -I/usr/include/gdbm',
    optimize='-O2 -g -pipe -Wp,-D_FORTIFY_SOURCE=2 -fexceptions -m32 -march=i386 -mtune=pentium4 -fasynchronous-unwind-tables',
    cppflags='-D_REENTRANT -D_GNU_SOURCE -DDEBUGGING -fno-strict-aliasing -pipe -I/usr/local/include -I/usr/include/gdbm'
    ccversion='', gccversion='4.0.2 20051125 (Red Hat 4.0.2-8)', gccosandvers=''
    intsize=4, longsize=4, ptrsize=4, doublesize=8, byteorder=1234
    d_longlong=define, longlongsize=8, d_longdbl=define, longdblsize=12
    ivtype='long', ivsize=4, nvtype='double', nvsize=8, Off_t='off_t', lseeksize=8
    alignbytes=4, prototype=define
  Linker and Libraries:
    ld='gcc', ldflags =' -L/usr/local/lib'
    libpth=/usr/local/lib /lib /usr/lib
    libs=-lresolv -lnsl -lgdbm -ldb -ldl -lm -lcrypt -lutil -lpthread -lc
    perllibs=-lresolv -lnsl -ldl -lm -lcrypt -lutil -lpthread -lc
    libc=/lib/libc-2.3.5.so, so=so, useshrplib=true, libperl=libperl.so
    gnulibc_version='2.3.5'
  Dynamic Linking:
    dlsrc=dl_dlopen.xs, dlext=so, d_dlsymun=undef, ccdlflags='-Wl,-E -Wl,-rpath,/usr/lib/perl5/5.8.6/i386-linux-thread-multi/CORE'
    cccdlflags='-fPIC', lddlflags='-shared -L/usr/local/lib'


Characteristics of this binary (from libperl): 
  Compile-time options: DEBUGGING MULTIPLICITY USE_ITHREADS USE_LARGE_FILES PERL_IMPLICIT_CONTEXT
  Built under linux
  Compiled at Mar 13 2006 16:40:06
  %ENV:
    PERL5LIB="/home/jnareb/perl5/lib/perl5:/home/jnareb/perl5/lib/perl5/i386-linux-thread-multi:/home/jnareb/perl5/lib/perl5:/home/jnareb/perl5/lib/perl5/i386-linux-thread-multi:"
    PERL5OPT=""
    PERL5_CPANPLUS_IS_RUNNING="4144"
    PERL5_CPAN_IS_RUNNING="4144"
    PERLLIB="/home/jnareb/perl"
    PERL_MM_OPT="INSTALL_BASE=/home/jnareb/perl5"
  @INC:
    /home/jnareb/perl5/lib/perl5/5.8.6/i386-linux-thread-multi
    /home/jnareb/perl5/lib/perl5/5.8.6
    /home/jnareb/perl5/lib/perl5/i386-linux-thread-multi
    /home/jnareb/perl5/lib/perl5/5.8.5
    /home/jnareb/perl5/lib/perl5/5.8.4
    /home/jnareb/perl5/lib/perl5/5.8.3
    /home/jnareb/perl5/lib/perl5
    /home/jnareb/perl5/lib/perl5/i386-linux-thread-multi/5.8.6/i386-linux-thread-multi
    /home/jnareb/perl5/lib/perl5/i386-linux-thread-multi/5.8.6
    /home/jnareb/perl5/lib/perl5/i386-linux-thread-multi/i386-linux-thread-multi
    /home/jnareb/perl5/lib/perl5/i386-linux-thread-multi/5.8.5
    /home/jnareb/perl5/lib/perl5/i386-linux-thread-multi/5.8.4
    /home/jnareb/perl5/lib/perl5/i386-linux-thread-multi/5.8.3
    /home/jnareb/perl5/lib/perl5/i386-linux-thread-multi
    /home/jnareb/perl5/lib/perl5/5.8.6/i386-linux-thread-multi
    /home/jnareb/perl5/lib/perl5/5.8.6
    /home/jnareb/perl5/lib/perl5/i386-linux-thread-multi
    /home/jnareb/perl5/lib/perl5/5.8.5
    /home/jnareb/perl5/lib/perl5/5.8.4
    /home/jnareb/perl5/lib/perl5/5.8.3
    /home/jnareb/perl5/lib/perl5
    /home/jnareb/perl5/lib/perl5/i386-linux-thread-multi/5.8.6/i386-linux-thread-multi
    /home/jnareb/perl5/lib/perl5/i386-linux-thread-multi/5.8.6
    /home/jnareb/perl5/lib/perl5/i386-linux-thread-multi/i386-linux-thread-multi
    /home/jnareb/perl5/lib/perl5/i386-linux-thread-multi/5.8.5
    /home/jnareb/perl5/lib/perl5/i386-linux-thread-multi/5.8.4
    /home/jnareb/perl5/lib/perl5/i386-linux-thread-multi/5.8.3
    /home/jnareb/perl5/lib/perl5/i386-linux-thread-multi
    /usr/lib/perl5/site_perl/5.8.6/i386-linux-thread-multi
    /usr/lib/perl5/site_perl/5.8.5/i386-linux-thread-multi
    /usr/lib/perl5/site_perl/5.8.4/i386-linux-thread-multi
    /usr/lib/perl5/site_perl/5.8.3/i386-linux-thread-multi
    /usr/lib/perl5/site_perl/5.8.6
    /usr/lib/perl5/site_perl/5.8.5
    /usr/lib/perl5/site_perl/5.8.4
    /usr/lib/perl5/site_perl/5.8.3
    /usr/lib/perl5/site_perl
    /usr/lib/perl5/vendor_perl/5.8.6/i386-linux-thread-multi
    /usr/lib/perl5/vendor_perl/5.8.5/i386-linux-thread-multi
    /usr/lib/perl5/vendor_perl/5.8.4/i386-linux-thread-multi
    /usr/lib/perl5/vendor_perl/5.8.3/i386-linux-thread-multi
    /usr/lib/perl5/vendor_perl/5.8.6
    /usr/lib/perl5/vendor_perl/5.8.5
    /usr/lib/perl5/vendor_perl/5.8.4
    /usr/lib/perl5/vendor_perl/5.8.3
    /usr/lib/perl5/vendor_perl
    /usr/lib/perl5/5.8.6/i386-linux-thread-multi
    /usr/lib/perl5/5.8.6
    .