Venus v4.15 Perl 5 v5.41.4 x86_64-dragonfly-thread-multi
- Status
- Pass
- From
- Carlos Guevara
- Dist
-
Venus v4.15
- Platform
- Perl 5 v5.41.4 x86_64-dragonfly-thread-multi
- Date
- 2024-09-18 01:19:12
- ID
- 0310b7cc-755c-11ef-922f-8f770e7d7a9d
This distribution has been tested as part of the CPAN Testers
project, supporting the Perl programming language. See
http://wiki.cpantesters.org/ for more information or email
questions to cpan-testers-discuss@perl.org
--
Dear Al Newkirk,
This is a computer-generated report for Venus-4.15
on perl 5.41.4, created by CPAN-Reporter-1.2020.
Thank you for uploading your work to CPAN. Congratulations!
All tests were successful.
Sections of this report:
* Tester comments
* Program output
* Prerequisites
* Environment and other context
------------------------------
TESTER COMMENTS
------------------------------
Additional comments from tester:
this report is from an automated smoke testing program
and was not reviewed by a human for accuracy
------------------------------
PROGRAM OUTPUT
------------------------------
Output from '/usr/bin/make test':
PERL_DL_NONLAZY=1 "/home/cpan/bin/perl/bin/perl5.41.4" "-MExtUtils::Command::MM" "-MTest::Harness" "-e" "undef *Test::Harness::Switches; test_harness(0, 'blib/lib', 'blib/arch')" t/*.t
overload arg '~~' is invalid at /home/cpan/.cpan/build/Venus-4.15-0/blib/lib/Venus/Process.pm line 9.
overload arg '~~' is invalid at /home/cpan/.cpan/build/Venus-4.15-0/blib/lib/Venus/Path.pm line 22.
overload arg '~~' is invalid at /home/cpan/.cpan/build/Venus-4.15-0/blib/lib/Venus/Throw.pm line 17.
overload arg '~~' is invalid at /home/cpan/.cpan/build/Venus-4.15-0/blib/lib/Venus/Error.pm line 20.
overload arg '~~' is invalid at /home/cpan/.cpan/build/Venus-4.15-0/blib/lib/Venus/Kind/Value.pm line 9.
overload arg '~~' is invalid at /home/cpan/.cpan/build/Venus-4.15-0/blib/lib/Venus/Dump.pm line 9.
overload arg '~~' is invalid at /home/cpan/.cpan/build/Venus-4.15-0/blib/lib/Venus/Atom.pm line 18.
overload arg '~~' is invalid at /home/cpan/.cpan/build/Venus-4.15-0/blib/lib/Venus/Name.pm line 22.
overload arg '~~' is invalid at /home/cpan/.cpan/build/Venus-4.15-0/blib/lib/Venus/Date.pm line 28.
overload arg '~~' is invalid at /home/cpan/.cpan/build/Venus-4.15-0/blib/lib/Venus/Enum.pm line 18.
overload arg '~~' is invalid at /home/cpan/.cpan/build/Venus-4.15-0/blib/lib/Venus/Fault.pm line 13.
overload arg '~~' is invalid at /home/cpan/.cpan/build/Venus-4.15-0/blib/lib/Venus/Json.pm line 9.
overload arg '~~' is invalid at /home/cpan/.cpan/build/Venus-4.15-0/blib/lib/Venus/Replace.pm line 20.
overload arg '~~' is invalid at /home/cpan/.cpan/build/Venus-4.15-0/blib/lib/Venus/Template.pm line 22.
overload arg '~~' is invalid at /home/cpan/.cpan/build/Venus-4.15-0/blib/lib/Venus/Search.pm line 20.
overload arg '~~' is invalid at /home/cpan/.cpan/build/Venus-4.15-0/blib/lib/Venus/Yaml.pm line 9.
t/Venus.t .................... ok
overload arg '~~' is invalid at /home/cpan/.cpan/build/Venus-4.15-0/blib/lib/Venus/Path.pm line 22.
overload arg '~~' is invalid at /home/cpan/.cpan/build/Venus-4.15-0/blib/lib/Venus/Error.pm line 20.
t/Venus_Args.t ............... ok
overload arg '~~' is invalid at /home/cpan/.cpan/build/Venus-4.15-0/blib/lib/Venus/Path.pm line 22.
overload arg '~~' is invalid at /home/cpan/.cpan/build/Venus-4.15-0/blib/lib/Venus/Kind/Value.pm line 9.
t/Venus_Array.t .............. ok
overload arg '~~' is invalid at /home/cpan/.cpan/build/Venus-4.15-0/blib/lib/Venus/Path.pm line 22.
overload arg '~~' is invalid at /home/cpan/.cpan/build/Venus-4.15-0/blib/lib/Venus/Name.pm line 22.
overload arg '~~' is invalid at /home/cpan/.cpan/build/Venus-4.15-0/blib/lib/Venus/Throw.pm line 17.
overload arg '~~' is invalid at /home/cpan/.cpan/build/Venus-4.15-0/blib/lib/Venus/Error.pm line 20.
t/Venus_Assert.t ............. ok
overload arg '~~' is invalid at /home/cpan/.cpan/build/Venus-4.15-0/blib/lib/Venus/Path.pm line 22.
overload arg '~~' is invalid at /home/cpan/.cpan/build/Venus-4.15-0/blib/lib/Venus/Atom.pm line 18.
overload arg '~~' is invalid at /home/cpan/.cpan/build/Venus-4.15-0/blib/lib/Venus/Error.pm line 20.
overload arg '~~' is invalid at /home/cpan/.cpan/build/Venus-4.15-0/blib/lib/Venus/Throw.pm line 17.
t/Venus_Atom.t ............... ok
overload arg '~~' is invalid at /home/cpan/.cpan/build/Venus-4.15-0/blib/lib/Venus/Path.pm line 22.
overload arg '~~' is invalid at /home/cpan/.cpan/build/Venus-4.15-0/blib/lib/Venus/Kind/Value.pm line 9.
t/Venus_Boolean.t ............ ok
overload arg '~~' is invalid at /home/cpan/.cpan/build/Venus-4.15-0/blib/lib/Venus/Path.pm line 22.
overload arg '~~' is invalid at /home/cpan/.cpan/build/Venus-4.15-0/blib/lib/Venus/Kind/Value.pm line 9.
overload arg '~~' is invalid at /home/cpan/.cpan/build/Venus-4.15-0/blib/lib/Venus/Error.pm line 20.
t/Venus_Box.t ................ ok
overload arg '~~' is invalid at /home/cpan/.cpan/build/Venus-4.15-0/blib/lib/Venus/Path.pm line 22.
overload arg '~~' is invalid at /home/cpan/.cpan/build/Venus-4.15-0/blib/lib/Venus/Throw.pm line 17.
overload arg '~~' is invalid at /home/cpan/.cpan/build/Venus-4.15-0/blib/lib/Venus/Error.pm line 20.
overload arg '~~' is invalid at /home/cpan/.cpan/build/Venus-4.15-0/blib/lib/Venus/Name.pm line 22.
t/Venus_Check.t .............. ok
overload arg '~~' is invalid at /home/cpan/.cpan/build/Venus-4.15-0/blib/lib/Venus/Path.pm line 22.
overload arg '~~' is invalid at /home/cpan/.cpan/build/Venus-4.15-0/blib/lib/Venus/Throw.pm line 17.
overload arg '~~' is invalid at /home/cpan/.cpan/build/Venus-4.15-0/blib/lib/Venus/Error.pm line 20.
t/Venus_Class.t .............. ok
overload arg '~~' is invalid at /home/cpan/.cpan/build/Venus-4.15-0/blib/lib/Venus/Path.pm line 22.
overload arg '~~' is invalid at /home/cpan/.cpan/build/Venus-4.15-0/blib/lib/Venus/Kind/Value.pm line 9.
overload arg '~~' is invalid at /home/cpan/.cpan/build/Venus-4.15-0/blib/lib/Venus/Throw.pm line 17.
overload arg '~~' is invalid at /home/cpan/.cpan/build/Venus-4.15-0/blib/lib/Venus/Error.pm line 20.
t/Venus_Cli.t ................ ok
overload arg '~~' is invalid at /home/cpan/.cpan/build/Venus-4.15-0/blib/lib/Venus/Path.pm line 22.
overload arg '~~' is invalid at /home/cpan/.cpan/build/Venus-4.15-0/blib/lib/Venus/Kind/Value.pm line 9.
t/Venus_Code.t ............... ok
overload arg '~~' is invalid at /home/cpan/.cpan/build/Venus-4.15-0/blib/lib/Venus/Path.pm line 22.
overload arg '~~' is invalid at /home/cpan/.cpan/build/Venus-4.15-0/blib/lib/Venus/Name.pm line 22.
overload arg '~~' is invalid at /home/cpan/.cpan/build/Venus-4.15-0/blib/lib/Venus/Kind/Value.pm line 9.
overload arg '~~' is invalid at /home/cpan/.cpan/build/Venus-4.15-0/blib/lib/Venus/Throw.pm line 17.
overload arg '~~' is invalid at /home/cpan/.cpan/build/Venus-4.15-0/blib/lib/Venus/Error.pm line 20.
t/Venus_Coercion.t ........... ok
overload arg '~~' is invalid at /home/cpan/.cpan/build/Venus-4.15-0/blib/lib/Venus/Path.pm line 22.
overload arg '~~' is invalid at /home/cpan/.cpan/build/Venus-4.15-0/blib/lib/Venus/Dump.pm line 9.
overload arg '~~' is invalid at /home/cpan/.cpan/build/Venus-4.15-0/blib/lib/Venus/Kind/Value.pm line 9.
overload arg '~~' is invalid at /home/cpan/.cpan/build/Venus-4.15-0/blib/lib/Venus/Json.pm line 9.
overload arg '~~' is invalid at /home/cpan/.cpan/build/Venus-4.15-0/blib/lib/Venus/Yaml.pm line 9.
t/Venus_Config.t ............. ok
overload arg '~~' is invalid at /home/cpan/.cpan/build/Venus-4.15-0/blib/lib/Venus/Path.pm line 22.
overload arg '~~' is invalid at /home/cpan/.cpan/build/Venus-4.15-0/blib/lib/Venus/Name.pm line 22.
t/Venus_Constraint.t ......... ok
overload arg '~~' is invalid at /home/cpan/.cpan/build/Venus-4.15-0/blib/lib/Venus/Path.pm line 22.
overload arg '~~' is invalid at /home/cpan/.cpan/build/Venus-4.15-0/blib/lib/Venus/Name.pm line 22.
overload arg '~~' is invalid at /home/cpan/.cpan/build/Venus-4.15-0/blib/lib/Venus/Kind/Value.pm line 9.
overload arg '~~' is invalid at /home/cpan/.cpan/build/Venus-4.15-0/blib/lib/Venus/Date.pm line 28.
t/Venus_Container.t .......... ok
overload arg '~~' is invalid at /home/cpan/.cpan/build/Venus-4.15-0/blib/lib/Venus/Path.pm line 22.
overload arg '~~' is invalid at /home/cpan/.cpan/build/Venus-4.15-0/blib/lib/Venus/Fault.pm line 13.
t/Venus_Core.t ............... ok
overload arg '~~' is invalid at /home/cpan/.cpan/build/Venus-4.15-0/blib/lib/Venus/Path.pm line 22.
t/Venus_Core_Class.t ......... ok
overload arg '~~' is invalid at /home/cpan/.cpan/build/Venus-4.15-0/blib/lib/Venus/Path.pm line 22.
t/Venus_Core_Mixin.t ......... ok
overload arg '~~' is invalid at /home/cpan/.cpan/build/Venus-4.15-0/blib/lib/Venus/Path.pm line 22.
t/Venus_Core_Role.t .......... ok
overload arg '~~' is invalid at /home/cpan/.cpan/build/Venus-4.15-0/blib/lib/Venus/Path.pm line 22.
t/Venus_Data.t ............... ok
overload arg '~~' is invalid at /home/cpan/.cpan/build/Venus-4.15-0/blib/lib/Venus/Path.pm line 22.
overload arg '~~' is invalid at /home/cpan/.cpan/build/Venus-4.15-0/blib/lib/Venus/Date.pm line 28.
t/Venus_Date.t ............... ok
overload arg '~~' is invalid at /home/cpan/.cpan/build/Venus-4.15-0/blib/lib/Venus/Path.pm line 22.
overload arg '~~' is invalid at /home/cpan/.cpan/build/Venus-4.15-0/blib/lib/Venus/Dump.pm line 9.
overload arg '~~' is invalid at /home/cpan/.cpan/build/Venus-4.15-0/blib/lib/Venus/Kind/Value.pm line 9.
t/Venus_Dump.t ............... ok
overload arg '~~' is invalid at /home/cpan/.cpan/build/Venus-4.15-0/blib/lib/Venus/Path.pm line 22.
overload arg '~~' is invalid at /home/cpan/.cpan/build/Venus-4.15-0/blib/lib/Venus/Enum.pm line 18.
overload arg '~~' is invalid at /home/cpan/.cpan/build/Venus-4.15-0/blib/lib/Venus/Error.pm line 20.
t/Venus_Enum.t ............... ok
overload arg '~~' is invalid at /home/cpan/.cpan/build/Venus-4.15-0/blib/lib/Venus/Path.pm line 22.
overload arg '~~' is invalid at /home/cpan/.cpan/build/Venus-4.15-0/blib/lib/Venus/Error.pm line 20.
overload arg '~~' is invalid at /home/cpan/.cpan/build/Venus-4.15-0/blib/lib/Venus/Throw.pm line 17.
t/Venus_Error.t .............. ok
overload arg '~~' is invalid at /home/cpan/.cpan/build/Venus-4.15-0/blib/lib/Venus/Path.pm line 22.
t/Venus_False.t .............. ok
overload arg '~~' is invalid at /home/cpan/.cpan/build/Venus-4.15-0/blib/lib/Venus/Path.pm line 22.
overload arg '~~' is invalid at /home/cpan/.cpan/build/Venus-4.15-0/blib/lib/Venus/Fault.pm line 13.
t/Venus_Fault.t .............. ok
overload arg '~~' is invalid at /home/cpan/.cpan/build/Venus-4.15-0/blib/lib/Venus/Path.pm line 22.
overload arg '~~' is invalid at /home/cpan/.cpan/build/Venus-4.15-0/blib/lib/Venus/Kind/Value.pm line 9.
t/Venus_Float.t .............. ok
overload arg '~~' is invalid at /home/cpan/.cpan/build/Venus-4.15-0/blib/lib/Venus/Path.pm line 22.
overload arg '~~' is invalid at /home/cpan/.cpan/build/Venus-4.15-0/blib/lib/Venus/Name.pm line 22.
overload arg '~~' is invalid at /home/cpan/.cpan/build/Venus-4.15-0/blib/lib/Venus/Throw.pm line 17.
overload arg '~~' is invalid at /home/cpan/.cpan/build/Venus-4.15-0/blib/lib/Venus/Error.pm line 20.
t/Venus_Future.t ............. ok
overload arg '~~' is invalid at /home/cpan/.cpan/build/Venus-4.15-0/blib/lib/Venus/Path.pm line 22.
overload arg '~~' is invalid at /home/cpan/.cpan/build/Venus-4.15-0/blib/lib/Venus/Kind/Value.pm line 9.
t/Venus_Gather.t ............. ok
overload arg '~~' is invalid at /home/cpan/.cpan/build/Venus-4.15-0/blib/lib/Venus/Path.pm line 22.
overload arg '~~' is invalid at /home/cpan/.cpan/build/Venus-4.15-0/blib/lib/Venus/Kind/Value.pm line 9.
t/Venus_Hash.t ............... ok
overload arg '~~' is invalid at /home/cpan/.cpan/build/Venus-4.15-0/blib/lib/Venus/Json.pm line 9.
overload arg '~~' is invalid at /home/cpan/.cpan/build/Venus-4.15-0/blib/lib/Venus/Path.pm line 22.
overload arg '~~' is invalid at /home/cpan/.cpan/build/Venus-4.15-0/blib/lib/Venus/Kind/Value.pm line 9.
overload arg '~~' is invalid at /home/cpan/.cpan/build/Venus-4.15-0/blib/lib/Venus/Throw.pm line 17.
overload arg '~~' is invalid at /home/cpan/.cpan/build/Venus-4.15-0/blib/lib/Venus/Error.pm line 20.
t/Venus_Json.t ............... ok
overload arg '~~' is invalid at /home/cpan/.cpan/build/Venus-4.15-0/blib/lib/Venus/Path.pm line 22.
t/Venus_Kind.t ............... ok
overload arg '~~' is invalid at /home/cpan/.cpan/build/Venus-4.15-0/blib/lib/Venus/Path.pm line 22.
t/Venus_Kind_Utility.t ....... ok
overload arg '~~' is invalid at /home/cpan/.cpan/build/Venus-4.15-0/blib/lib/Venus/Path.pm line 22.
overload arg '~~' is invalid at /home/cpan/.cpan/build/Venus-4.15-0/blib/lib/Venus/Kind/Value.pm line 9.
t/Venus_Kind_Value.t ......... ok
overload arg '~~' is invalid at /home/cpan/.cpan/build/Venus-4.15-0/blib/lib/Venus/Path.pm line 22.
t/Venus_Log.t ................ ok
overload arg '~~' is invalid at /home/cpan/.cpan/build/Venus-4.15-0/blib/lib/Venus/Path.pm line 22.
overload arg '~~' is invalid at /home/cpan/.cpan/build/Venus-4.15-0/blib/lib/Venus/Kind/Value.pm line 9.
t/Venus_Match.t .............. ok
overload arg '~~' is invalid at /home/cpan/.cpan/build/Venus-4.15-0/blib/lib/Venus/Path.pm line 22.
t/Venus_Meta.t ............... ok
overload arg '~~' is invalid at /home/cpan/.cpan/build/Venus-4.15-0/blib/lib/Venus/Path.pm line 22.
overload arg '~~' is invalid at /home/cpan/.cpan/build/Venus-4.15-0/blib/lib/Venus/Throw.pm line 17.
overload arg '~~' is invalid at /home/cpan/.cpan/build/Venus-4.15-0/blib/lib/Venus/Error.pm line 20.
t/Venus_Mixin.t .............. ok
overload arg '~~' is invalid at /home/cpan/.cpan/build/Venus-4.15-0/blib/lib/Venus/Path.pm line 22.
overload arg '~~' is invalid at /home/cpan/.cpan/build/Venus-4.15-0/blib/lib/Venus/Name.pm line 22.
t/Venus_Name.t ............... ok
overload arg '~~' is invalid at /home/cpan/.cpan/build/Venus-4.15-0/blib/lib/Venus/Path.pm line 22.
overload arg '~~' is invalid at /home/cpan/.cpan/build/Venus-4.15-0/blib/lib/Venus/Kind/Value.pm line 9.
t/Venus_Number.t ............. ok
overload arg '~~' is invalid at /home/cpan/.cpan/build/Venus-4.15-0/blib/lib/Venus/Path.pm line 22.
overload arg '~~' is invalid at /home/cpan/.cpan/build/Venus-4.15-0/blib/lib/Venus/Error.pm line 20.
t/Venus_Opts.t ............... ok
overload arg '~~' is invalid at /home/cpan/.cpan/build/Venus-4.15-0/blib/lib/Venus/Path.pm line 22.
t/Venus_Os.t ................. ok
overload arg '~~' is invalid at /home/cpan/.cpan/build/Venus-4.15-0/blib/lib/Venus/Path.pm line 22.
overload arg '~~' is invalid at /home/cpan/.cpan/build/Venus-4.15-0/blib/lib/Venus/Throw.pm line 17.
overload arg '~~' is invalid at /home/cpan/.cpan/build/Venus-4.15-0/blib/lib/Venus/Error.pm line 20.
t/Venus_Path.t ............... ok
overload arg '~~' is invalid at /home/cpan/.cpan/build/Venus-4.15-0/blib/lib/Venus/Process.pm line 9.
overload arg '~~' is invalid at /home/cpan/.cpan/build/Venus-4.15-0/blib/lib/Venus/Path.pm line 22.
overload arg '~~' is invalid at /home/cpan/.cpan/build/Venus-4.15-0/blib/lib/Venus/Dump.pm line 9.
overload arg '~~' is invalid at /home/cpan/.cpan/build/Venus-4.15-0/blib/lib/Venus/Kind/Value.pm line 9.
overload arg '~~' is invalid at /home/cpan/.cpan/build/Venus-4.15-0/blib/lib/Venus/Throw.pm line 17.
overload arg '~~' is invalid at /home/cpan/.cpan/build/Venus-4.15-0/blib/lib/Venus/Error.pm line 20.
t/Venus_Process.t ............ ok
overload arg '~~' is invalid at /home/cpan/.cpan/build/Venus-4.15-0/blib/lib/Venus/Path.pm line 22.
overload arg '~~' is invalid at /home/cpan/.cpan/build/Venus-4.15-0/blib/lib/Venus/Error.pm line 20.
t/Venus_Prototype.t .......... ok
overload arg '~~' is invalid at /home/cpan/.cpan/build/Venus-4.15-0/blib/lib/Venus/Path.pm line 22.
t/Venus_Random.t ............. ok
overload arg '~~' is invalid at /home/cpan/.cpan/build/Venus-4.15-0/blib/lib/Venus/Path.pm line 22.
overload arg '~~' is invalid at /home/cpan/.cpan/build/Venus-4.15-0/blib/lib/Venus/Kind/Value.pm line 9.
overload arg '~~' is invalid at /home/cpan/.cpan/build/Venus-4.15-0/blib/lib/Venus/Replace.pm line 20.
overload arg '~~' is invalid at /home/cpan/.cpan/build/Venus-4.15-0/blib/lib/Venus/Search.pm line 20.
t/Venus_Regexp.t ............. ok
overload arg '~~' is invalid at /home/cpan/.cpan/build/Venus-4.15-0/blib/lib/Venus/Path.pm line 22.
overload arg '~~' is invalid at /home/cpan/.cpan/build/Venus-4.15-0/blib/lib/Venus/Replace.pm line 20.
overload arg '~~' is invalid at /home/cpan/.cpan/build/Venus-4.15-0/blib/lib/Venus/Throw.pm line 17.
overload arg '~~' is invalid at /home/cpan/.cpan/build/Venus-4.15-0/blib/lib/Venus/Error.pm line 20.
t/Venus_Replace.t ............ ok
overload arg '~~' is invalid at /home/cpan/.cpan/build/Venus-4.15-0/blib/lib/Venus/Path.pm line 22.
overload arg '~~' is invalid at /home/cpan/.cpan/build/Venus-4.15-0/blib/lib/Venus/Throw.pm line 17.
overload arg '~~' is invalid at /home/cpan/.cpan/build/Venus-4.15-0/blib/lib/Venus/Error.pm line 20.
t/Venus_Role.t ............... ok
overload arg '~~' is invalid at /home/cpan/.cpan/build/Venus-4.15-0/blib/lib/Venus/Path.pm line 22.
t/Venus_Role_Accessible.t .... ok
overload arg '~~' is invalid at /home/cpan/.cpan/build/Venus-4.15-0/blib/lib/Venus/Path.pm line 22.
overload arg '~~' is invalid at /home/cpan/.cpan/build/Venus-4.15-0/blib/lib/Venus/Throw.pm line 17.
overload arg '~~' is invalid at /home/cpan/.cpan/build/Venus-4.15-0/blib/lib/Venus/Error.pm line 20.
t/Venus_Role_Assertable.t .... ok
overload arg '~~' is invalid at /home/cpan/.cpan/build/Venus-4.15-0/blib/lib/Venus/Path.pm line 22.
overload arg '~~' is invalid at /home/cpan/.cpan/build/Venus-4.15-0/blib/lib/Venus/Kind/Value.pm line 9.
t/Venus_Role_Boxable.t ....... ok
overload arg '~~' is invalid at /home/cpan/.cpan/build/Venus-4.15-0/blib/lib/Venus/Path.pm line 22.
t/Venus_Role_Buildable.t ..... ok
overload arg '~~' is invalid at /home/cpan/.cpan/build/Venus-4.15-0/blib/lib/Venus/Path.pm line 22.
overload arg '~~' is invalid at /home/cpan/.cpan/build/Venus-4.15-0/blib/lib/Venus/Throw.pm line 17.
overload arg '~~' is invalid at /home/cpan/.cpan/build/Venus-4.15-0/blib/lib/Venus/Error.pm line 20.
t/Venus_Role_Catchable.t ..... ok
overload arg '~~' is invalid at /home/cpan/.cpan/build/Venus-4.15-0/blib/lib/Venus/Path.pm line 22.
overload arg '~~' is invalid at /home/cpan/.cpan/build/Venus-4.15-0/blib/lib/Venus/Name.pm line 22.
overload arg '~~' is invalid at /home/cpan/.cpan/build/Venus-4.15-0/blib/lib/Venus/Kind/Value.pm line 9.
t/Venus_Role_Coercible.t ..... ok
overload arg '~~' is invalid at /home/cpan/.cpan/build/Venus-4.15-0/blib/lib/Venus/Path.pm line 22.
overload arg '~~' is invalid at /home/cpan/.cpan/build/Venus-4.15-0/blib/lib/Venus/Kind/Value.pm line 9.
t/Venus_Role_Comparable.t .... ok
overload arg '~~' is invalid at /home/cpan/.cpan/build/Venus-4.15-0/blib/lib/Venus/Path.pm line 22.
t/Venus_Role_Defaultable.t ... ok
overload arg '~~' is invalid at /home/cpan/.cpan/build/Venus-4.15-0/blib/lib/Venus/Path.pm line 22.
t/Venus_Role_Deferrable.t .... ok
overload arg '~~' is invalid at /home/cpan/.cpan/build/Venus-4.15-0/blib/lib/Venus/Path.pm line 22.
t/Venus_Role_Digestable.t .... ok
overload arg '~~' is invalid at /home/cpan/.cpan/build/Venus-4.15-0/blib/lib/Venus/Path.pm line 22.
t/Venus_Role_Doable.t ........ ok
overload arg '~~' is invalid at /home/cpan/.cpan/build/Venus-4.15-0/blib/lib/Venus/Path.pm line 22.
t/Venus_Role_Dumpable.t ...... ok
overload arg '~~' is invalid at /home/cpan/.cpan/build/Venus-4.15-0/blib/lib/Venus/Path.pm line 22.
t/Venus_Role_Explainable.t ... ok
overload arg '~~' is invalid at /home/cpan/.cpan/build/Venus-4.15-0/blib/lib/Venus/Path.pm line 22.
overload arg '~~' is invalid at /home/cpan/.cpan/build/Venus-4.15-0/blib/lib/Venus/Name.pm line 22.
overload arg '~~' is invalid at /home/cpan/.cpan/build/Venus-4.15-0/blib/lib/Venus/Kind/Value.pm line 9.
t/Venus_Role_Makeable.t ...... ok
overload arg '~~' is invalid at /home/cpan/.cpan/build/Venus-4.15-0/blib/lib/Venus/Path.pm line 22.
t/Venus_Role_Mappable.t ...... ok
overload arg '~~' is invalid at /home/cpan/.cpan/build/Venus-4.15-0/blib/lib/Venus/Path.pm line 22.
t/Venus_Role_Matchable.t ..... ok
overload arg '~~' is invalid at /home/cpan/.cpan/build/Venus-4.15-0/blib/lib/Venus/Path.pm line 22.
t/Venus_Role_Mockable.t ...... ok
overload arg '~~' is invalid at /home/cpan/.cpan/build/Venus-4.15-0/blib/lib/Venus/Name.pm line 22.
overload arg '~~' is invalid at /home/cpan/.cpan/build/Venus-4.15-0/blib/lib/Venus/Path.pm line 22.
overload arg '~~' is invalid at /home/cpan/.cpan/build/Venus-4.15-0/blib/lib/Venus/Throw.pm line 17.
overload arg '~~' is invalid at /home/cpan/.cpan/build/Venus-4.15-0/blib/lib/Venus/Error.pm line 20.
overload arg '~~' is invalid at /home/cpan/.cpan/build/Venus-4.15-0/blib/lib/Venus/Kind/Value.pm line 9.
t/Venus_Role_Optional.t ...... ok
overload arg '~~' is invalid at /home/cpan/.cpan/build/Venus-4.15-0/blib/lib/Venus/Path.pm line 22.
overload arg '~~' is invalid at /home/cpan/.cpan/build/Venus-4.15-0/blib/lib/Venus/Name.pm line 22.
t/Venus_Role_Patchable.t ..... ok
overload arg '~~' is invalid at /home/cpan/.cpan/build/Venus-4.15-0/blib/lib/Venus/Path.pm line 22.
overload arg '~~' is invalid at /home/cpan/.cpan/build/Venus-4.15-0/blib/lib/Venus/Error.pm line 20.
overload arg '~~' is invalid at /home/cpan/.cpan/build/Venus-4.15-0/blib/lib/Venus/Name.pm line 22.
t/Venus_Role_Pluggable.t ..... ok
overload arg '~~' is invalid at /home/cpan/.cpan/build/Venus-4.15-0/blib/lib/Venus/Path.pm line 22.
overload arg '~~' is invalid at /home/cpan/.cpan/build/Venus-4.15-0/blib/lib/Venus/Json.pm line 9.
overload arg '~~' is invalid at /home/cpan/.cpan/build/Venus-4.15-0/blib/lib/Venus/Kind/Value.pm line 9.
overload arg '~~' is invalid at /home/cpan/.cpan/build/Venus-4.15-0/blib/lib/Venus/Yaml.pm line 9.
t/Venus_Role_Printable.t ..... ok
overload arg '~~' is invalid at /home/cpan/.cpan/build/Venus-4.15-0/blib/lib/Venus/Path.pm line 22.
overload arg '~~' is invalid at /home/cpan/.cpan/build/Venus-4.15-0/blib/lib/Venus/Error.pm line 20.
t/Venus_Role_Proxyable.t ..... ok
overload arg '~~' is invalid at /home/cpan/.cpan/build/Venus-4.15-0/blib/lib/Venus/Path.pm line 22.
overload arg '~~' is invalid at /home/cpan/.cpan/build/Venus-4.15-0/blib/lib/Venus/Kind/Value.pm line 9.
overload arg '~~' is invalid at /home/cpan/.cpan/build/Venus-4.15-0/blib/lib/Venus/Name.pm line 22.
t/Venus_Role_Reflectable.t ... ok
overload arg '~~' is invalid at /home/cpan/.cpan/build/Venus-4.15-0/blib/lib/Venus/Path.pm line 22.
t/Venus_Role_Rejectable.t .... ok
overload arg '~~' is invalid at /home/cpan/.cpan/build/Venus-4.15-0/blib/lib/Venus/Path.pm line 22.
overload arg '~~' is invalid at /home/cpan/.cpan/build/Venus-4.15-0/blib/lib/Venus/Kind/Value.pm line 9.
overload arg '~~' is invalid at /home/cpan/.cpan/build/Venus-4.15-0/blib/lib/Venus/Throw.pm line 17.
overload arg '~~' is invalid at /home/cpan/.cpan/build/Venus-4.15-0/blib/lib/Venus/Error.pm line 20.
t/Venus_Role_Serializable.t .. ok
overload arg '~~' is invalid at /home/cpan/.cpan/build/Venus-4.15-0/blib/lib/Venus/Path.pm line 22.
t/Venus_Role_Stashable.t ..... ok
overload arg '~~' is invalid at /home/cpan/.cpan/build/Venus-4.15-0/blib/lib/Venus/Path.pm line 22.
t/Venus_Role_Subscribable.t .. ok
overload arg '~~' is invalid at /home/cpan/.cpan/build/Venus-4.15-0/blib/lib/Venus/Path.pm line 22.
overload arg '~~' is invalid at /home/cpan/.cpan/build/Venus-4.15-0/blib/lib/Venus/Name.pm line 22.
t/Venus_Role_Superable.t ..... ok
overload arg '~~' is invalid at /home/cpan/.cpan/build/Venus-4.15-0/blib/lib/Venus/Path.pm line 22.
overload arg '~~' is invalid at /home/cpan/.cpan/build/Venus-4.15-0/blib/lib/Venus/Kind/Value.pm line 9.
t/Venus_Role_Testable.t ...... ok
overload arg '~~' is invalid at /home/cpan/.cpan/build/Venus-4.15-0/blib/lib/Venus/Path.pm line 22.
overload arg '~~' is invalid at /home/cpan/.cpan/build/Venus-4.15-0/blib/lib/Venus/Throw.pm line 17.
overload arg '~~' is invalid at /home/cpan/.cpan/build/Venus-4.15-0/blib/lib/Venus/Error.pm line 20.
t/Venus_Role_Throwable.t ..... ok
overload arg '~~' is invalid at /home/cpan/.cpan/build/Venus-4.15-0/blib/lib/Venus/Path.pm line 22.
overload arg '~~' is invalid at /home/cpan/.cpan/build/Venus-4.15-0/blib/lib/Venus/Throw.pm line 17.
overload arg '~~' is invalid at /home/cpan/.cpan/build/Venus-4.15-0/blib/lib/Venus/Error.pm line 20.
t/Venus_Role_Tryable.t ....... ok
overload arg '~~' is invalid at /home/cpan/.cpan/build/Venus-4.15-0/blib/lib/Venus/Path.pm line 22.
overload arg '~~' is invalid at /home/cpan/.cpan/build/Venus-4.15-0/blib/lib/Venus/Throw.pm line 17.
overload arg '~~' is invalid at /home/cpan/.cpan/build/Venus-4.15-0/blib/lib/Venus/Error.pm line 20.
t/Venus_Role_Unacceptable.t .. ok
overload arg '~~' is invalid at /home/cpan/.cpan/build/Venus-4.15-0/blib/lib/Venus/Path.pm line 22.
overload arg '~~' is invalid at /home/cpan/.cpan/build/Venus-4.15-0/blib/lib/Venus/Throw.pm line 17.
overload arg '~~' is invalid at /home/cpan/.cpan/build/Venus-4.15-0/blib/lib/Venus/Error.pm line 20.
t/Venus_Role_Unpackable.t .... ok
overload arg '~~' is invalid at /home/cpan/.cpan/build/Venus-4.15-0/blib/lib/Venus/Path.pm line 22.
t/Venus_Role_Valuable.t ...... ok
overload arg '~~' is invalid at /home/cpan/.cpan/build/Venus-4.15-0/blib/lib/Venus/Path.pm line 22.
overload arg '~~' is invalid at /home/cpan/.cpan/build/Venus-4.15-0/blib/lib/Venus/Dump.pm line 9.
overload arg '~~' is invalid at /home/cpan/.cpan/build/Venus-4.15-0/blib/lib/Venus/Kind/Value.pm line 9.
overload arg '~~' is invalid at /home/cpan/.cpan/build/Venus-4.15-0/blib/lib/Venus/Yaml.pm line 9.
overload arg '~~' is invalid at /home/cpan/.cpan/build/Venus-4.15-0/blib/lib/Venus/Json.pm line 9.
t/Venus_Run.t ................ ok
overload arg '~~' is invalid at /home/cpan/.cpan/build/Venus-4.15-0/blib/lib/Venus/Path.pm line 22.
overload arg '~~' is invalid at /home/cpan/.cpan/build/Venus-4.15-0/blib/lib/Venus/Kind/Value.pm line 9.
t/Venus_Scalar.t ............. ok
overload arg '~~' is invalid at /home/cpan/.cpan/build/Venus-4.15-0/blib/lib/Venus/Path.pm line 22.
overload arg '~~' is invalid at /home/cpan/.cpan/build/Venus-4.15-0/blib/lib/Venus/Throw.pm line 17.
overload arg '~~' is invalid at /home/cpan/.cpan/build/Venus-4.15-0/blib/lib/Venus/Error.pm line 20.
overload arg '~~' is invalid at /home/cpan/.cpan/build/Venus-4.15-0/blib/lib/Venus/Kind/Value.pm line 9.
t/Venus_Schema.t ............. ok
overload arg '~~' is invalid at /home/cpan/.cpan/build/Venus-4.15-0/blib/lib/Venus/Path.pm line 22.
overload arg '~~' is invalid at /home/cpan/.cpan/build/Venus-4.15-0/blib/lib/Venus/Error.pm line 20.
overload arg '~~' is invalid at /home/cpan/.cpan/build/Venus-4.15-0/blib/lib/Venus/Name.pm line 22.
t/Venus_Sealed.t ............. ok
overload arg '~~' is invalid at /home/cpan/.cpan/build/Venus-4.15-0/blib/lib/Venus/Path.pm line 22.
overload arg '~~' is invalid at /home/cpan/.cpan/build/Venus-4.15-0/blib/lib/Venus/Search.pm line 20.
overload arg '~~' is invalid at /home/cpan/.cpan/build/Venus-4.15-0/blib/lib/Venus/Throw.pm line 17.
overload arg '~~' is invalid at /home/cpan/.cpan/build/Venus-4.15-0/blib/lib/Venus/Error.pm line 20.
t/Venus_Search.t ............. ok
overload arg '~~' is invalid at /home/cpan/.cpan/build/Venus-4.15-0/blib/lib/Venus/Path.pm line 22.
overload arg '~~' is invalid at /home/cpan/.cpan/build/Venus-4.15-0/blib/lib/Venus/Kind/Value.pm line 9.
overload arg '~~' is invalid at /home/cpan/.cpan/build/Venus-4.15-0/blib/lib/Venus/Throw.pm line 17.
overload arg '~~' is invalid at /home/cpan/.cpan/build/Venus-4.15-0/blib/lib/Venus/Error.pm line 20.
t/Venus_Set.t ................ ok
overload arg '~~' is invalid at /home/cpan/.cpan/build/Venus-4.15-0/blib/lib/Venus/Path.pm line 22.
overload arg '~~' is invalid at /home/cpan/.cpan/build/Venus-4.15-0/blib/lib/Venus/Name.pm line 22.
overload arg '~~' is invalid at /home/cpan/.cpan/build/Venus-4.15-0/blib/lib/Venus/Throw.pm line 17.
overload arg '~~' is invalid at /home/cpan/.cpan/build/Venus-4.15-0/blib/lib/Venus/Error.pm line 20.
t/Venus_Space.t .............. ok
overload arg '~~' is invalid at /home/cpan/.cpan/build/Venus-4.15-0/blib/lib/Venus/Path.pm line 22.
overload arg '~~' is invalid at /home/cpan/.cpan/build/Venus-4.15-0/blib/lib/Venus/Kind/Value.pm line 9.
overload arg '~~' is invalid at /home/cpan/.cpan/build/Venus-4.15-0/blib/lib/Venus/Search.pm line 20.
overload arg '~~' is invalid at /home/cpan/.cpan/build/Venus-4.15-0/blib/lib/Venus/Replace.pm line 20.
overload arg '~~' is invalid at /home/cpan/.cpan/build/Venus-4.15-0/blib/lib/Venus/Template.pm line 22.
t/Venus_String.t ............. ok
overload arg '~~' is invalid at /home/cpan/.cpan/build/Venus-4.15-0/blib/lib/Venus/Name.pm line 22.
overload arg '~~' is invalid at /home/cpan/.cpan/build/Venus-4.15-0/blib/lib/Venus/Path.pm line 22.
overload arg '~~' is invalid at /home/cpan/.cpan/build/Venus-4.15-0/blib/lib/Venus/Kind/Value.pm line 9.
overload arg '~~' is invalid at /home/cpan/.cpan/build/Venus-4.15-0/blib/lib/Venus/Throw.pm line 17.
overload arg '~~' is invalid at /home/cpan/.cpan/build/Venus-4.15-0/blib/lib/Venus/Error.pm line 20.
t/Venus_Task.t ............... ok
overload arg '~~' is invalid at /home/cpan/.cpan/build/Venus-4.15-0/blib/lib/Venus/Path.pm line 22.
overload arg '~~' is invalid at /home/cpan/.cpan/build/Venus-4.15-0/blib/lib/Venus/Template.pm line 22.
overload arg '~~' is invalid at /home/cpan/.cpan/build/Venus-4.15-0/blib/lib/Venus/Kind/Value.pm line 9.
t/Venus_Template.t ........... ok
overload arg '~~' is invalid at /home/cpan/.cpan/build/Venus-4.15-0/blib/lib/Venus/Path.pm line 22.
overload arg '~~' is invalid at /home/cpan/.cpan/build/Venus-4.15-0/blib/lib/Venus/Name.pm line 22.
overload arg '~~' is invalid at /home/cpan/.cpan/build/Venus-4.15-0/blib/lib/Venus/Throw.pm line 17.
overload arg '~~' is invalid at /home/cpan/.cpan/build/Venus-4.15-0/blib/lib/Venus/Error.pm line 20.
t/Venus_Test.t ............... ok
overload arg '~~' is invalid at /home/cpan/.cpan/build/Venus-4.15-0/blib/lib/Venus/Path.pm line 22.
overload arg '~~' is invalid at /home/cpan/.cpan/build/Venus-4.15-0/blib/lib/Venus/Throw.pm line 17.
overload arg '~~' is invalid at /home/cpan/.cpan/build/Venus-4.15-0/blib/lib/Venus/Error.pm line 20.
t/Venus_Throw.t .............. ok
overload arg '~~' is invalid at /home/cpan/.cpan/build/Venus-4.15-0/blib/lib/Venus/Path.pm line 22.
t/Venus_True.t ............... ok
overload arg '~~' is invalid at /home/cpan/.cpan/build/Venus-4.15-0/blib/lib/Venus/Path.pm line 22.
overload arg '~~' is invalid at /home/cpan/.cpan/build/Venus-4.15-0/blib/lib/Venus/Throw.pm line 17.
overload arg '~~' is invalid at /home/cpan/.cpan/build/Venus-4.15-0/blib/lib/Venus/Error.pm line 20.
t/Venus_Try.t ................ ok
overload arg '~~' is invalid at /home/cpan/.cpan/build/Venus-4.15-0/blib/lib/Venus/Path.pm line 22.
overload arg '~~' is invalid at /home/cpan/.cpan/build/Venus-4.15-0/blib/lib/Venus/Kind/Value.pm line 9.
t/Venus_Type.t ............... ok
overload arg '~~' is invalid at /home/cpan/.cpan/build/Venus-4.15-0/blib/lib/Venus/Path.pm line 22.
overload arg '~~' is invalid at /home/cpan/.cpan/build/Venus-4.15-0/blib/lib/Venus/Kind/Value.pm line 9.
t/Venus_Undef.t .............. ok
overload arg '~~' is invalid at /home/cpan/.cpan/build/Venus-4.15-0/blib/lib/Venus/Path.pm line 22.
overload arg '~~' is invalid at /home/cpan/.cpan/build/Venus-4.15-0/blib/lib/Venus/Kind/Value.pm line 9.
overload arg '~~' is invalid at /home/cpan/.cpan/build/Venus-4.15-0/blib/lib/Venus/Throw.pm line 17.
overload arg '~~' is invalid at /home/cpan/.cpan/build/Venus-4.15-0/blib/lib/Venus/Error.pm line 20.
overload arg '~~' is invalid at /home/cpan/.cpan/build/Venus-4.15-0/blib/lib/Venus/Name.pm line 22.
t/Venus_Unpack.t ............. ok
overload arg '~~' is invalid at /home/cpan/.cpan/build/Venus-4.15-0/blib/lib/Venus/Path.pm line 22.
overload arg '~~' is invalid at /home/cpan/.cpan/build/Venus-4.15-0/blib/lib/Venus/Error.pm line 20.
t/Venus_Vars.t ............... ok
overload arg '~~' is invalid at /home/cpan/.cpan/build/Venus-4.15-0/blib/lib/Venus/Yaml.pm line 9.
overload arg '~~' is invalid at /home/cpan/.cpan/build/Venus-4.15-0/blib/lib/Venus/Path.pm line 22.
overload arg '~~' is invalid at /home/cpan/.cpan/build/Venus-4.15-0/blib/lib/Venus/Kind/Value.pm line 9.
overload arg '~~' is invalid at /home/cpan/.cpan/build/Venus-4.15-0/blib/lib/Venus/Throw.pm line 17.
overload arg '~~' is invalid at /home/cpan/.cpan/build/Venus-4.15-0/blib/lib/Venus/Error.pm line 20.
t/Venus_Yaml.t ............... ok
All tests successful.
Files=102, Tests=4843, 47 wallclock secs ( 2.27 usr 0.69 sys + 40.50 cusr 3.24 csys = 46.70 CPU)
Result: PASS
------------------------------
PREREQUISITES
------------------------------
Prerequisite modules loaded:
requires:
Module Need Have
------------------- ----- --------
perl 5.018 5.041004
build_requires:
Module Need Have
------------------- ----- --------
ExtUtils::MakeMaker 0 7.70
perl 5.018 5.041004
configure_requires:
Module Need Have
------------------- ----- --------
ExtUtils::MakeMaker 0 7.70
------------------------------
ENVIRONMENT AND OTHER CONTEXT
------------------------------
Environment variables:
AUTOMATED_TESTING = 1
DATE_MANIP_TEST_DM5 = 1
LC_ALL = C
NONINTERACTIVE_TESTING = 1
NO_NETWORK_TESTING = 1
PATH = /home/cpan/bin/perl/bin:/home/cpan/bin:/sbin:/bin:/usr/sbin:/usr/bin:/usr/games:/usr/local/sbin:/usr/local/bin:/usr/pkg/sbin:/usr/pkg/bin:/home/cpan/bin
PERL5LIB =
PERL5OPT =
PERL5_CPANPLUS_IS_RUNNING = 988968
PERL5_CPAN_IS_RUNNING = 988968
PERL_MM_USE_DEFAULT = 1
PERL_USE_UNSAFE_INC = 1
SHELL = /usr/local/bin/bash
TERM = screen
TMPDIR = /home/cpan/tmp
Perl special variables (and OS-specific diagnostics, for MSWin32):
$^X = /home/cpan/bin/perl/bin/perl5.41.4
$UID/$EUID = 1002 / 1002
$GID = 1002 1002
$EGID = 1002 1002
Perl module toolchain versions installed:
Module Have
------------------- --------
CPAN 2.37
CPAN::Meta 2.150010
Cwd 3.92
ExtUtils::CBuilder 0.280240
ExtUtils::Command 7.70
ExtUtils::Install 2.22
ExtUtils::MakeMaker 7.70
ExtUtils::Manifest 1.75
ExtUtils::ParseXS 3.54
File::Spec 3.93
JSON 4.10
JSON::PP 4.16
Module::Build 0.4234
Module::Signature 0.89
Parse::CPAN::Meta 2.150010
Test2 1.302204
Test::Harness 3.50
Test::More 1.302204
YAML 1.31
YAML::Syck 1.34
version 0.9933
--
Summary of my perl5 (revision 5 version 41 subversion 4) configuration:
Commit id: 5311f0ced8f73fb0f9e3e3664aff99662af28504
Platform:
osname=dragonfly
osvers=6.4-release
archname=x86_64-dragonfly-thread-multi
uname='dragonfly cjg-dragonfly6 6.4-release dragonfly v6.4.0-release #54: fri dec 30 09:06:50 pst 2022 root@pkgbox64.dragonflybsd.org:usrobjusrsrcsysx86_64_generic x86_64 '
config_args='-des -Dprefix=/home/cpan/bin/perl -Dscriptdir=/home/cpan/bin/perl/bin -Dusedevel -Duse64bitall -Duseithreads'
hint=recommended
useposix=true
d_sigaction=define
useithreads=define
usemultiplicity=define
use64bitint=define
use64bitall=define
uselongdouble=undef
usemymalloc=n
default_inc_excludes_dot=define
Compiler:
cc='cc'
ccflags ='-DHAS_FPSETMASK -DHAS_FLOATINGPOINT_H -DNO_POSIX_2008_LOCALE -fwrapv -fno-strict-aliasing -pipe -fstack-protector-strong -I/usr/local/include -D_FORTIFY_SOURCE=2'
optimize='-O2'
cppflags='-DHAS_FPSETMASK -DHAS_FLOATINGPOINT_H -DNO_POSIX_2008_LOCALE -fwrapv -fno-strict-aliasing -pipe -fstack-protector-strong -I/usr/local/include'
ccversion=''
gccversion='8.3 [DragonFly] Release/2019-02-22'
gccosandvers=''
intsize=4
longsize=8
ptrsize=8
doublesize=8
byteorder=12345678
doublekind=3
d_longlong=define
longlongsize=8
d_longdbl=define
longdblsize=16
longdblkind=3
ivtype='long'
ivsize=8
nvtype='double'
nvsize=8
Off_t='off_t'
lseeksize=8
alignbytes=8
prototype=define
Linker and Libraries:
ld='cc'
ldflags ='-pthread -Wl,-E -fstack-protector-strong -L/usr/local/lib'
libpth=/usr/lib /usr/local/lib
libs=-lpthread -lgdbm -ldl -lm -lcrypt -lutil -lc
perllibs=-lpthread -ldl -lm -lcrypt -lutil -lc
libc=
so=so
useshrplib=false
libperl=libperl.a
gnulibc_version=''
Dynamic Linking:
dlsrc=dl_dlopen.xs
dlext=so
d_dlsymun=undef
ccdlflags=' '
cccdlflags='-DPIC -fPIC'
lddlflags='-shared -L/usr/local/lib -fstack-protector-strong'
Characteristics of this binary (from libperl):
Compile-time options:
HAS_LONG_DOUBLE
HAS_STRTOLD
HAS_TIMES
MULTIPLICITY
PERLIO_LAYERS
PERL_COPY_ON_WRITE
PERL_DONT_CREATE_GVSV
PERL_HASH_FUNC_SIPHASH13
PERL_HASH_USE_SBOX32
PERL_MALLOC_WRAP
PERL_OP_PARENT
PERL_PRESERVE_IVUV
PERL_USE_DEVEL
PERL_USE_SAFE_PUTENV
USE_64_BIT_ALL
USE_64_BIT_INT
USE_ITHREADS
USE_LARGE_FILES
USE_LOCALE
USE_LOCALE_COLLATE
USE_LOCALE_CTYPE
USE_LOCALE_NUMERIC
USE_LOCALE_TIME
USE_PERLIO
USE_PERL_ATOF
USE_REENTRANT_API
Built under dragonfly
Compiled at Sep 17 2024 08:50:31
%ENV:
PERL5LIB=""
PERL5OPT=""
PERL5_CPANPLUS_IS_RUNNING="988968"
PERL5_CPAN_IS_RUNNING="988968"
PERL_MM_USE_DEFAULT="1"
PERL_USE_UNSAFE_INC="1"
@INC:
/home/cpan/bin/perl/lib/site_perl/5.41.4/x86_64-dragonfly-thread-multi
/home/cpan/bin/perl/lib/site_perl/5.41.4
/home/cpan/bin/perl/lib/5.41.4/x86_64-dragonfly-thread-multi
/home/cpan/bin/perl/lib/5.41.4
.