Hubot-Scripts-Bundle v0.1.5 Perl 5 v5.16.2 i686-linux-thread-multi
- Status
- Pass
- From
- Alexandr Ciornii (CHORNY)
- Dist
-
Hubot-Scripts-Bundle v0.1.5
- Platform
- Perl 5 v5.16.2 i686-linux-thread-multi
- Date
- 2013-07-09 08:10:26
- ID
- 031848f6-e86f-11e2-884c-0e9acfdee8dd
This distribution has been tested as part of the CPAN Testers
project, supporting the Perl programming language. See
http://wiki.cpantesters.org/ for more information or email
questions to cpan-testers-discuss@perl.org
--
Dear Hyungsuk Hong,
This is a computer-generated report for Hubot-Scripts-Bundle-0.1.5
on perl 5.16.2, created by CPAN-Reporter-1.2010.
Thank you for uploading your work to CPAN. Congratulations!
All tests were successful.
Sections of this report:
* Tester comments
* Program output
* Prerequisites
* Environment and other context
------------------------------
TESTER COMMENTS
------------------------------
Additional comments from tester:
this report is from an automated smoke testing program
and was not reviewed by a human for accuracy
------------------------------
PROGRAM OUTPUT
------------------------------
Output from '/usr/bin/make test':
PERL_DL_NONLAZY=1 /home/c/perl5/perlbrew/perls/5.16.2i/bin/perl "-MExtUtils::Command::MM" "-e" "test_harness(0, 'blib/lib', 'blib/arch')" t/*.t
t/00_compile.t ............... ok
Too late to run CHECK block at /home/c/perl5/perlbrew/perls/5.16.2i/lib/site_perl/5.16.2/i686-linux-thread-multi/EV.pm line 123.
t/01_bugzilla.t .............. ok
Too late to run CHECK block at /home/c/perl5/perlbrew/perls/5.16.2i/lib/site_perl/5.16.2/i686-linux-thread-multi/EV.pm line 123.
t/02_eval.t .................. ok
Too late to run CHECK block at /home/c/perl5/perlbrew/perls/5.16.2i/lib/site_perl/5.16.2/i686-linux-thread-multi/EV.pm line 123.
t/03_ping.t .................. ok
Too late to run CHECK block at /home/c/perl5/perlbrew/perls/5.16.2i/lib/site_perl/5.16.2/i686-linux-thread-multi/EV.pm line 123.
t/04_uptime.t ................ ok
Too late to run CHECK block at /home/c/perl5/perlbrew/perls/5.16.2i/lib/site_perl/5.16.2/i686-linux-thread-multi/EV.pm line 123.
t/05_tell.t .................. ok
Too late to run CHECK block at /home/c/perl5/perlbrew/perls/5.16.2i/lib/site_perl/5.16.2/i686-linux-thread-multi/EV.pm line 123.
t/06_googleImage.t ........... ok
Too late to run CHECK block at /home/c/perl5/perlbrew/perls/5.16.2i/lib/site_perl/5.16.2/i686-linux-thread-multi/EV.pm line 123.
t/07_macboogi.t .............. ok
Too late to run CHECK block at /home/c/perl5/perlbrew/perls/5.16.2i/lib/site_perl/5.16.2/i686-linux-thread-multi/EV.pm line 123.
you have to set env HUBOT_BLACKLIST_MANAGERt/08_blacklist.t ............. ok
Too late to run CHECK block at /home/c/perl5/perlbrew/perls/5.16.2i/lib/site_perl/5.16.2/i686-linux-thread-multi/EV.pm line 123.
you have to set env HUBOT_BLACKLIST_MANAGERt/09_blacklist_permission.t .. ok
Too late to run CHECK block at /home/c/perl5/perlbrew/perls/5.16.2i/lib/site_perl/5.16.2/i686-linux-thread-multi/EV.pm line 123.
t/10_backup.t ................ ok
Too late to run CHECK block at /home/c/perl5/perlbrew/perls/5.16.2i/lib/site_perl/5.16.2/i686-linux-thread-multi/EV.pm line 123.
t/11_dice.t .................. ok
Too late to run CHECK block at /home/c/perl5/perlbrew/perls/5.16.2i/lib/site_perl/5.16.2/i686-linux-thread-multi/EV.pm line 123.
t/12_print.t ................. ok
All tests successful.
Files=13, Tests=45, 51 wallclock secs ( 0.00 usr 0.12 sys + 7.21 cusr 0.98 csys = 8.31 CPU)
Result: PASS
------------------------------
PREREQUISITES
------------------------------
Prerequisite modules loaded:
requires:
Module Need Have
---------------------------- ---- -------
AnyEvent 0 7.04
AnyEvent::HTTP::ScopedClient 0 0.0.5
DateTime 0 1.03
DateTime::Format::Duration 0 1.03
Encode 0 2.44
JSON::XS 0 2.33
Lingua::KO::Hangul::Util 0 0.26
List::Util 0 1.25
Redis 0 1.961
Storable 0 2.34
strict 0 1.07
Try::Tiny 0 0.12
utf8 0 1.09
warnings 0 1.13
build_requires:
Module Need Have
---------------------------- ---- -------
Hubot::Adapter 0 0.2.3
Hubot::Message 0 0.2.3
Hubot::Robot 0 0.2.3
Hubot::User 0 0.2.3
Moose 0 2.0802
namespace::autoclean 0 0.13
Test::More 0 0.98
configure_requires:
Module Need Have
---------------------------- ---- -------
ExtUtils::MakeMaker 6.30 6.63_02
------------------------------
ENVIRONMENT AND OTHER CONTEXT
------------------------------
Environment variables:
AUTOMATED_TESTING = 1
LANG = ru_RU.utf8
PATH = /home/c/perl5/perlbrew/bin:/home/c/perl5/perlbrew/perls/5.16.2i/bin:/usr/local/bin:/usr/bin:/bin:/usr/local/games:/usr/games
PERL5LIB = /home/c/.cpan/build/Lingua-KO-Hangul-Util-0.26-FY4Yy4/blib/arch:/home/c/.cpan/build/Lingua-KO-Hangul-Util-0.26-FY4Yy4/blib/lib:/home/c/.cpan/build/Hubot-0.2.3-icpou9/blib/arch:/home/c/.cpan/build/Hubot-0.2.3-icpou9/blib/lib:/home/c/.cpan/build/AnyEvent-Campfire-Client-0.0.2-evXKTi/blib/arch:/home/c/.cpan/build/AnyEvent-Campfire-Client-0.0.2-evXKTi/blib/lib:/home/c/.cpan/build/AnyEvent-Campfire-Stream-0.0.3-Vz7cwJ/blib/arch:/home/c/.cpan/build/AnyEvent-Campfire-Stream-0.0.3-Vz7cwJ/blib/lib:/home/c/.cpan/build/AnyEvent-IRC-0.97-Hcg7kx/blib/arch:/home/c/.cpan/build/AnyEvent-IRC-0.97-Hcg7kx/blib/lib:/home/c/.cpan/build/AnyEvent-HTTPD-0.93-U6jt8r/blib/arch:/home/c/.cpan/build/AnyEvent-HTTPD-0.93-U6jt8r/blib/lib:/home/c/.cpan/build/AnyEvent-HTTP-ScopedClient-0.0.5-OfqNvf/blib/arch:/home/c/.cpan/build/AnyEvent-HTTP-ScopedClient-0.0.5-OfqNvf/blib/lib
PERL5OPT =
PERL5_CPANPLUS_IS_RUNNING = 3671
PERL5_CPAN_IS_RUNNING = 3671
PERL5_CPAN_IS_RUNNING_IN_RECURSION = 2415,3671
PERLBREW_MANPATH = /home/c/perl5/perlbrew/perls/5.16.2i/man
PERLBREW_PATH = /home/c/perl5/perlbrew/bin:/home/c/perl5/perlbrew/perls/5.16.2i/bin
PERLBREW_PERL = 5.16.2i
PERLBREW_ROOT = /home/c/perl5/perlbrew
PERLBREW_SKIP_INIT = 1
PERLBREW_VERSION = 0.58
PERL_CR_SMOKER_CURRENT = Hubot-Scripts-Bundle-0.1.5
PERL_EXTUTILS_AUTOINSTALL = --defaultdeps
PERL_MM_USE_DEFAULT = 1
SHELL = /bin/bash
TERM = xterm
Perl special variables (and OS-specific diagnostics, for MSWin32):
$^X = /home/c/perl5/perlbrew/perls/5.16.2i/bin/perl
$UID/$EUID = 1000 / 1000
$GID = 1000 24 25 27 29 30 44 46 108 109 115 1000 1001
$EGID = 1000 24 25 27 29 30 44 46 108 109 115 1000 1001
Perl module toolchain versions installed:
Module Have
------------------- --------
CPAN 2.00
CPAN::Meta 2.120921
Cwd 3.40
ExtUtils::CBuilder 0.280206
ExtUtils::Command 1.17
ExtUtils::Install 1.58
ExtUtils::MakeMaker 6.63_02
ExtUtils::Manifest 1.61
ExtUtils::ParseXS 3.16
File::Spec 3.40
JSON 2.53
JSON::PP 2.27200
Module::Build 0.4005
Module::Signature 0.70
Parse::CPAN::Meta 1.4404
Test::Harness 3.28
Test::More 0.98
YAML 0.84
YAML::Syck 1.22
version 0.9901
--
Summary of my perl5 (revision 5 version 16 subversion 2) configuration:
Platform:
osname=linux, osvers=2.6.32-5-686, archname=i686-linux-thread-multi
uname='linux deb1 2.6.32-5-686 #1 smp sun sep 23 09:49:36 utc 2012 i686 gnulinux '
config_args='-de -Dprefix=/home/c/perl5/perlbrew/perls/5.16.2i -Dusethreads -Aeval:scriptdir=/home/c/perl5/perlbrew/perls/5.16.2i/bin'
hint=recommended, useposix=true, d_sigaction=define
useithreads=define, usemultiplicity=define
useperlio=define, d_sfio=undef, uselargefiles=define, usesocks=undef
use64bitint=undef, use64bitall=undef, uselongdouble=undef
usemymalloc=n, bincompat5005=undef
Compiler:
cc='cc', ccflags ='-D_REENTRANT -D_GNU_SOURCE -fno-strict-aliasing -pipe -fstack-protector -I/usr/local/include -D_LARGEFILE_SOURCE -D_FILE_OFFSET_BITS=64',
optimize='-O2',
cppflags='-D_REENTRANT -D_GNU_SOURCE -fno-strict-aliasing -pipe -fstack-protector -I/usr/local/include'
ccversion='', gccversion='4.4.5', gccosandvers=''
intsize=4, longsize=4, ptrsize=4, doublesize=8, byteorder=1234
d_longlong=define, longlongsize=8, d_longdbl=define, longdblsize=12
ivtype='long', ivsize=4, nvtype='double', nvsize=8, Off_t='off_t', lseeksize=8
alignbytes=4, prototype=define
Linker and Libraries:
ld='cc', ldflags =' -fstack-protector -L/usr/local/lib'
libpth=/usr/local/lib /lib/../lib /usr/lib/../lib /lib /usr/lib /usr/lib/i486-linux-gnu /usr/lib64
libs=-lnsl -lgdbm -ldb -ldl -lm -lcrypt -lutil -lpthread -lc -lgdbm_compat
perllibs=-lnsl -ldl -lm -lcrypt -lutil -lpthread -lc
libc=/lib/libc-2.11.3.so, so=so, useshrplib=false, libperl=libperl.a
gnulibc_version='2.11.3'
Dynamic Linking:
dlsrc=dl_dlopen.xs, dlext=so, d_dlsymun=undef, ccdlflags='-Wl,-E'
cccdlflags='-fPIC', lddlflags='-shared -O2 -L/usr/local/lib -fstack-protector'
Characteristics of this binary (from libperl):
Compile-time options: HAS_TIMES MULTIPLICITY PERLIO_LAYERS
PERL_DONT_CREATE_GVSV PERL_IMPLICIT_CONTEXT
PERL_MALLOC_WRAP PERL_PRESERVE_IVUV USE_ITHREADS
USE_LARGE_FILES USE_LOCALE USE_LOCALE_COLLATE
USE_LOCALE_CTYPE USE_LOCALE_NUMERIC USE_PERLIO
USE_PERL_ATOF USE_REENTRANT_API
Built under linux
Compiled at Jan 26 2013 16:12:36
%ENV:
PERL5LIB="/home/c/.cpan/build/Lingua-KO-Hangul-Util-0.26-FY4Yy4/blib/arch:/home/c/.cpan/build/Lingua-KO-Hangul-Util-0.26-FY4Yy4/blib/lib:/home/c/.cpan/build/Hubot-0.2.3-icpou9/blib/arch:/home/c/.cpan/build/Hubot-0.2.3-icpou9/blib/lib:/home/c/.cpan/build/AnyEvent-Campfire-Client-0.0.2-evXKTi/blib/arch:/home/c/.cpan/build/AnyEvent-Campfire-Client-0.0.2-evXKTi/blib/lib:/home/c/.cpan/build/AnyEvent-Campfire-Stream-0.0.3-Vz7cwJ/blib/arch:/home/c/.cpan/build/AnyEvent-Campfire-Stream-0.0.3-Vz7cwJ/blib/lib:/home/c/.cpan/build/AnyEvent-IRC-0.97-Hcg7kx/blib/arch:/home/c/.cpan/build/AnyEvent-IRC-0.97-Hcg7kx/blib/lib:/home/c/.cpan/build/AnyEvent-HTTPD-0.93-U6jt8r/blib/arch:/home/c/.cpan/build/AnyEvent-HTTPD-0.93-U6jt8r/blib/lib:/home/c/.cpan/build/AnyEvent-HTTP-ScopedClient-0.0.5-OfqNvf/blib/arch:/home/c/.cpan/build/AnyEvent-HTTP-ScopedClient-0.0.5-OfqNvf/blib/lib"
PERL5OPT=""
PERL5_CPANPLUS_IS_RUNNING="3671"
PERL5_CPAN_IS_RUNNING="3671"
PERL5_CPAN_IS_RUNNING_IN_RECURSION="2415,3671"
PERLBREW_MANPATH="/home/c/perl5/perlbrew/perls/5.16.2i/man"
PERLBREW_PATH="/home/c/perl5/perlbrew/bin:/home/c/perl5/perlbrew/perls/5.16.2i/bin"
PERLBREW_PERL="5.16.2i"
PERLBREW_ROOT="/home/c/perl5/perlbrew"
PERLBREW_SKIP_INIT="1"
PERLBREW_VERSION="0.58"
PERL_CR_SMOKER_CURRENT="Hubot-Scripts-Bundle-0.1.5"
PERL_EXTUTILS_AUTOINSTALL="--defaultdeps"
PERL_MM_USE_DEFAULT="1"
@INC:
/home/c/.cpan/build/Lingua-KO-Hangul-Util-0.26-FY4Yy4/blib/arch
/home/c/.cpan/build/Lingua-KO-Hangul-Util-0.26-FY4Yy4/blib/lib
/home/c/.cpan/build/Hubot-0.2.3-icpou9/blib/arch
/home/c/.cpan/build/Hubot-0.2.3-icpou9/blib/lib
/home/c/.cpan/build/AnyEvent-Campfire-Client-0.0.2-evXKTi/blib/arch
/home/c/.cpan/build/AnyEvent-Campfire-Client-0.0.2-evXKTi/blib/lib
/home/c/.cpan/build/AnyEvent-Campfire-Stream-0.0.3-Vz7cwJ/blib/arch
/home/c/.cpan/build/AnyEvent-Campfire-Stream-0.0.3-Vz7cwJ/blib/lib
/home/c/.cpan/build/AnyEvent-IRC-0.97-Hcg7kx/blib/arch
/home/c/.cpan/build/AnyEvent-IRC-0.97-Hcg7kx/blib/lib
/home/c/.cpan/build/AnyEvent-HTTPD-0.93-U6jt8r/blib/arch
/home/c/.cpan/build/AnyEvent-HTTPD-0.93-U6jt8r/blib/lib
/home/c/.cpan/build/AnyEvent-HTTP-ScopedClient-0.0.5-OfqNvf/blib/arch
/home/c/.cpan/build/AnyEvent-HTTP-ScopedClient-0.0.5-OfqNvf/blib/lib
/home/c/perl5/perlbrew/perls/5.16.2i/lib/site_perl/5.16.2/i686-linux-thread-multi
/home/c/perl5/perlbrew/perls/5.16.2i/lib/site_perl/5.16.2
/home/c/perl5/perlbrew/perls/5.16.2i/lib/5.16.2/i686-linux-thread-multi
/home/c/perl5/perlbrew/perls/5.16.2i/lib/5.16.2
.