Catalyst-Controller-Atompub v0.5.6 Perl 5 v5.16.2 x86_64-linux

Status
Pass
From
Thomas Fahle (TOMFAHLE)
Dist
Catalyst-Controller-Atompub v0.5.6
Platform
Perl 5 v5.16.2 x86_64-linux
Date
2012-12-20 07:43:57
ID
032ef4be-4a79-11e2-a70d-4a3a0790eac1
This distribution has been tested as part of the CPAN Testers
project, supporting the Perl programming language.  See
http://wiki.cpantesters.org/ for more information or email
questions to cpan-testers-discuss@perl.org


--
Dear Takeru INOUE,

This is a computer-generated report for Catalyst-Controller-Atompub-0.5.6
on perl 5.16.2, created by CPAN-Reporter-1.2009.

Thank you for uploading your work to CPAN.  Congratulations!
All tests were successful.

Sections of this report:

    * Tester comments
    * Program output
    * Prerequisites
    * Environment and other context

------------------------------
TESTER COMMENTS
------------------------------

Additional comments from tester:

this report is from an automated smoke testing program
and was not reviewed by a human for accuracy

------------------------------
PROGRAM OUTPUT
------------------------------

Output from '/usr/bin/make test':

PERL_DL_NONLAZY=1 /opt/perl/nothreads/5.16.2/bin/perl "-MExtUtils::Command::MM" "-e" "test_harness(0, 'inc', 'blib/lib', 'blib/arch')" t/00.load.t t/01.service-default.t t/02.service.t t/03.collection.t t/perlcritic.t t/pod-coverage.t t/pod.t
# Testing Catalyst::Controller::Atompub 0.5.6
t/00.load.t ............. ok
Catalyst::Controller::Atompub::Base uses NEXT, which is deprecated. Please see the Class::C3::Adopt::NEXT documentation for details. NEXT used  at /home/tf/.cpan/build/Catalyst-Controller-Atompub-0.5.6-XyzjEv/blib/lib/Catalyst/Controller/Atompub/Base.pm line 18.
Use of uninitialized value in lc at /home/tf/.cpan/build/Catalyst-Controller-Atompub-0.5.6-XyzjEv/blib/lib/Catalyst/Controller/Atompub/Collection.pm line 457.
Catalyst::Controller::Atompub::Collection uses NEXT, which is deprecated. Please see the Class::C3::Adopt::NEXT documentation for details. NEXT used  at /home/tf/.cpan/build/Catalyst-Controller-Atompub-0.5.6-XyzjEv/blib/lib/Catalyst/Controller/Atompub/Collection.pm line 467.
Use of uninitialized value in lc at /home/tf/.cpan/build/Catalyst-Controller-Atompub-0.5.6-XyzjEv/blib/lib/Catalyst/Controller/Atompub/Collection.pm line 457.
Use of uninitialized value in lc at /home/tf/.cpan/build/Catalyst-Controller-Atompub-0.5.6-XyzjEv/blib/lib/Catalyst/Controller/Atompub/Collection.pm line 457.
Use of uninitialized value in lc at /home/tf/.cpan/build/Catalyst-Controller-Atompub-0.5.6-XyzjEv/blib/lib/Catalyst/Controller/Atompub/Collection.pm line 457.
Use of uninitialized value in lc at /home/tf/.cpan/build/Catalyst-Controller-Atompub-0.5.6-XyzjEv/blib/lib/Catalyst/Controller/Atompub/Collection.pm line 457.
Use of uninitialized value in lc at /home/tf/.cpan/build/Catalyst-Controller-Atompub-0.5.6-XyzjEv/blib/lib/Catalyst/Controller/Atompub/Collection.pm line 457.
Use of uninitialized value in lc at /home/tf/.cpan/build/Catalyst-Controller-Atompub-0.5.6-XyzjEv/blib/lib/Catalyst/Controller/Atompub/Collection.pm line 457.
Use of uninitialized value in lc at /home/tf/.cpan/build/Catalyst-Controller-Atompub-0.5.6-XyzjEv/blib/lib/Catalyst/Controller/Atompub/Collection.pm line 457.
[debug] Debug messages enabled
[debug] Statistics enabled
[debug] Loaded plugins:
.----------------------------------------------------------------------------.
| Catalyst::Plugin::ConfigLoader  0.30                                       |
'----------------------------------------------------------------------------'

[debug] Loaded dispatcher "Catalyst::Dispatcher"
[debug] Loaded engine "Catalyst::Engine"
[debug] Found home "/home/tf/.cpan/build/Catalyst-Controller-Atompub-0.5.6-XyzjEv/t/lib/TestAtompub"
[debug] Loaded components:
.-----------------------------------------------------------------+----------.
| Class                                                           | Type     |
+-----------------------------------------------------------------+----------+
| TestAtompub::Controller::Collection                             | instance |
| TestAtompub::Controller::Service                                | instance |
'-----------------------------------------------------------------+----------'

[debug] Loaded Private actions:
.----------------------+--------------------------------------+--------------.
| Private              | Class                                | Method       |
+----------------------+--------------------------------------+--------------+
| /collection/edit_uri | TestAtompub::Controller::Collection  | edit_uri     |
| /collection/default  | TestAtompub::Controller::Collection  | default      |
| /collection/auto     | TestAtompub::Controller::Collection  | auto         |
| /collection/get_feed | TestAtompub::Controller::Collection  | get_feed     |
| /collection/get_res- | TestAtompub::Controller::Collection  | get_resource |
| ource                |                                      |              |
| /service/default     | TestAtompub::Controller::Service     | default      |
'----------------------+--------------------------------------+--------------'

[debug] Loaded Regex actions:
.-------------------------------------+--------------------------------------.
| Regex                               | Private                              |
+-------------------------------------+--------------------------------------+
| ^collection/([^-?&#][^?&#]*)        | /collection/edit_uri                 |
'-------------------------------------+--------------------------------------'

[info] AtompubServer powered by Catalyst 5.90019
[info] *** Request 1 (1.000/s) [2189] [Thu Dec 20 08:43:52 2012] ***
[debug] Arguments are "service"
[debug] "GET" request for "service" from "127.0.0.1"
[debug] Response Code: 200; Content-Type: application/atomsvc+xml; Content-Length: 359
[info] Request took 0.005579s (179.244/s)
.------------------------------------------------------------+-----------.
| Action                                                     | Time      |
+------------------------------------------------------------+-----------+
| /service/default                                           | 0.002356s |
'------------------------------------------------------------+-----------'

t/01.service-default.t .. ok
Catalyst::Controller::Atompub::Base uses NEXT, which is deprecated. Please see the Class::C3::Adopt::NEXT documentation for details. NEXT used  at /home/tf/.cpan/build/Catalyst-Controller-Atompub-0.5.6-XyzjEv/blib/lib/Catalyst/Controller/Atompub/Base.pm line 18.
Use of uninitialized value in lc at /home/tf/.cpan/build/Catalyst-Controller-Atompub-0.5.6-XyzjEv/blib/lib/Catalyst/Controller/Atompub/Collection.pm line 457.
Catalyst::Controller::Atompub::Collection uses NEXT, which is deprecated. Please see the Class::C3::Adopt::NEXT documentation for details. NEXT used  at /home/tf/.cpan/build/Catalyst-Controller-Atompub-0.5.6-XyzjEv/blib/lib/Catalyst/Controller/Atompub/Collection.pm line 467.
Use of uninitialized value in lc at /home/tf/.cpan/build/Catalyst-Controller-Atompub-0.5.6-XyzjEv/blib/lib/Catalyst/Controller/Atompub/Collection.pm line 457.
Use of uninitialized value in lc at /home/tf/.cpan/build/Catalyst-Controller-Atompub-0.5.6-XyzjEv/blib/lib/Catalyst/Controller/Atompub/Collection.pm line 457.
Use of uninitialized value in lc at /home/tf/.cpan/build/Catalyst-Controller-Atompub-0.5.6-XyzjEv/blib/lib/Catalyst/Controller/Atompub/Collection.pm line 457.
Use of uninitialized value in lc at /home/tf/.cpan/build/Catalyst-Controller-Atompub-0.5.6-XyzjEv/blib/lib/Catalyst/Controller/Atompub/Collection.pm line 457.
Use of uninitialized value in lc at /home/tf/.cpan/build/Catalyst-Controller-Atompub-0.5.6-XyzjEv/blib/lib/Catalyst/Controller/Atompub/Collection.pm line 457.
Use of uninitialized value in lc at /home/tf/.cpan/build/Catalyst-Controller-Atompub-0.5.6-XyzjEv/blib/lib/Catalyst/Controller/Atompub/Collection.pm line 457.
Use of uninitialized value in lc at /home/tf/.cpan/build/Catalyst-Controller-Atompub-0.5.6-XyzjEv/blib/lib/Catalyst/Controller/Atompub/Collection.pm line 457.
[debug] Debug messages enabled
[debug] Statistics enabled
[debug] Loaded plugins:
.----------------------------------------------------------------------------.
| Catalyst::Plugin::ConfigLoader  0.30                                       |
'----------------------------------------------------------------------------'

[debug] Loaded dispatcher "Catalyst::Dispatcher"
[debug] Loaded engine "Catalyst::Engine"
[debug] Found home "/home/tf/.cpan/build/Catalyst-Controller-Atompub-0.5.6-XyzjEv/t/lib/TestAtompub"
[debug] Loaded components:
.-----------------------------------------------------------------+----------.
| Class                                                           | Type     |
+-----------------------------------------------------------------+----------+
| TestAtompub::Controller::Collection                             | instance |
| TestAtompub::Controller::Service                                | instance |
'-----------------------------------------------------------------+----------'

[debug] Loaded Private actions:
.----------------------+--------------------------------------+--------------.
| Private              | Class                                | Method       |
+----------------------+--------------------------------------+--------------+
| /collection/edit_uri | TestAtompub::Controller::Collection  | edit_uri     |
| /collection/default  | TestAtompub::Controller::Collection  | default      |
| /collection/auto     | TestAtompub::Controller::Collection  | auto         |
| /collection/get_feed | TestAtompub::Controller::Collection  | get_feed     |
| /collection/get_res- | TestAtompub::Controller::Collection  | get_resource |
| ource                |                                      |              |
| /service/default     | TestAtompub::Controller::Service     | default      |
'----------------------+--------------------------------------+--------------'

[debug] Loaded Regex actions:
.-------------------------------------+--------------------------------------.
| Regex                               | Private                              |
+-------------------------------------+--------------------------------------+
| ^collection/([^-?&#][^?&#]*)        | /collection/edit_uri                 |
'-------------------------------------+--------------------------------------'

[info] AtompubServer powered by Catalyst 5.90019
[info] *** Request 1 (1.000/s) [2190] [Thu Dec 20 08:43:53 2012] ***
[debug] Arguments are "service"
[debug] "GET" request for "service" from "127.0.0.1"
[debug] Response Code: 200; Content-Type: application/atomsvc+xml; Content-Length: 740
[info] Request took 0.005340s (187.266/s)
.------------------------------------------------------------+-----------.
| Action                                                     | Time      |
+------------------------------------------------------------+-----------+
| /service/default                                           | 0.002176s |
'------------------------------------------------------------+-----------'

t/02.service.t .......... ok
Catalyst::Controller::Atompub::Base uses NEXT, which is deprecated. Please see the Class::C3::Adopt::NEXT documentation for details. NEXT used  at /home/tf/.cpan/build/Catalyst-Controller-Atompub-0.5.6-XyzjEv/blib/lib/Catalyst/Controller/Atompub/Base.pm line 18.
Use of uninitialized value in lc at /home/tf/.cpan/build/Catalyst-Controller-Atompub-0.5.6-XyzjEv/blib/lib/Catalyst/Controller/Atompub/Collection.pm line 457.
Catalyst::Controller::Atompub::Collection uses NEXT, which is deprecated. Please see the Class::C3::Adopt::NEXT documentation for details. NEXT used  at /home/tf/.cpan/build/Catalyst-Controller-Atompub-0.5.6-XyzjEv/blib/lib/Catalyst/Controller/Atompub/Collection.pm line 467.
Use of uninitialized value in lc at /home/tf/.cpan/build/Catalyst-Controller-Atompub-0.5.6-XyzjEv/blib/lib/Catalyst/Controller/Atompub/Collection.pm line 457.
Use of uninitialized value in lc at /home/tf/.cpan/build/Catalyst-Controller-Atompub-0.5.6-XyzjEv/blib/lib/Catalyst/Controller/Atompub/Collection.pm line 457.
Use of uninitialized value in lc at /home/tf/.cpan/build/Catalyst-Controller-Atompub-0.5.6-XyzjEv/blib/lib/Catalyst/Controller/Atompub/Collection.pm line 457.
Use of uninitialized value in lc at /home/tf/.cpan/build/Catalyst-Controller-Atompub-0.5.6-XyzjEv/blib/lib/Catalyst/Controller/Atompub/Collection.pm line 457.
Use of uninitialized value in lc at /home/tf/.cpan/build/Catalyst-Controller-Atompub-0.5.6-XyzjEv/blib/lib/Catalyst/Controller/Atompub/Collection.pm line 457.
Use of uninitialized value in lc at /home/tf/.cpan/build/Catalyst-Controller-Atompub-0.5.6-XyzjEv/blib/lib/Catalyst/Controller/Atompub/Collection.pm line 457.
Use of uninitialized value in lc at /home/tf/.cpan/build/Catalyst-Controller-Atompub-0.5.6-XyzjEv/blib/lib/Catalyst/Controller/Atompub/Collection.pm line 457.
[debug] Debug messages enabled
[debug] Statistics enabled
[debug] Loaded plugins:
.----------------------------------------------------------------------------.
| Catalyst::Plugin::ConfigLoader  0.30                                       |
'----------------------------------------------------------------------------'

[debug] Loaded dispatcher "Catalyst::Dispatcher"
[debug] Loaded engine "Catalyst::Engine"
[debug] Found home "/home/tf/.cpan/build/Catalyst-Controller-Atompub-0.5.6-XyzjEv/t/lib/TestAtompub"
[debug] Loaded components:
.-----------------------------------------------------------------+----------.
| Class                                                           | Type     |
+-----------------------------------------------------------------+----------+
| TestAtompub::Controller::Collection                             | instance |
| TestAtompub::Controller::Service                                | instance |
'-----------------------------------------------------------------+----------'

[debug] Loaded Private actions:
.----------------------+--------------------------------------+--------------.
| Private              | Class                                | Method       |
+----------------------+--------------------------------------+--------------+
| /collection/edit_uri | TestAtompub::Controller::Collection  | edit_uri     |
| /collection/default  | TestAtompub::Controller::Collection  | default      |
| /collection/auto     | TestAtompub::Controller::Collection  | auto         |
| /collection/get_feed | TestAtompub::Controller::Collection  | get_feed     |
| /collection/get_res- | TestAtompub::Controller::Collection  | get_resource |
| ource                |                                      |              |
| /service/default     | TestAtompub::Controller::Service     | default      |
'----------------------+--------------------------------------+--------------'

[debug] Loaded Regex actions:
.-------------------------------------+--------------------------------------.
| Regex                               | Private                              |
+-------------------------------------+--------------------------------------+
| ^collection/([^-?&#][^?&#]*)        | /collection/edit_uri                 |
'-------------------------------------+--------------------------------------'

[info] AtompubServer powered by Catalyst 5.90019
[info] *** Request 1 (1.000/s) [2191] [Thu Dec 20 08:43:54 2012] ***
[debug] Arguments are "collection"
[debug] "GET" request for "collection" from "127.0.0.1"
[debug] Response Code: 200; Content-Type: application/atom+xml;type=feed; Content-Length: 630
[info] Request took 0.038511s (25.967/s)
.------------------------------------------------------------+-----------.
| Action                                                     | Time      |
+------------------------------------------------------------+-----------+
| /collection/auto                                           | 0.000102s |
| /collection/default                                        | 0.035204s |
'------------------------------------------------------------+-----------'

[info] *** Request 2 (2.000/s) [2191] [Thu Dec 20 08:43:54 2012] ***
[debug] Path is "collection/entry_1.atom"
[debug] "GET" request for "collection/entry_1.atom" from "127.0.0.1"
[debug] Response Code: 200; Content-Type: application/atom+xml;type=entry; Content-Length: 427
[info] Request took 0.003544s (282.167/s)
.------------------------------------------------------------+-----------.
| Action                                                     | Time      |
+------------------------------------------------------------+-----------+
| /collection/auto                                           | 0.000129s |
| /collection/edit_uri                                       | 0.001222s |
'------------------------------------------------------------+-----------'

t/03.collection.t ....... ok
t/perlcritic.t .......... skipped: $ENV{TEST_CRITIC} must be set to enable this test
t/pod-coverage.t ........ ok
t/pod.t ................. ok
All tests successful.
Files=7, Tests=49,  5 wallclock secs ( 0.03 usr  0.02 sys +  4.58 cusr  0.32 csys =  4.95 CPU)
Result: PASS

------------------------------
PREREQUISITES
------------------------------

Prerequisite modules loaded:

requires:

    Module                         Need  Have   
    ------------------------------ ----- -------
    Atompub                        0.003 0.3.7  
    Catalyst::Devel                0     1.37   
    Catalyst::Plugin::ConfigLoader 0     0.30   
    Catalyst::Runtime              5.7   5.90019
    English                        0     1.05   
    File::Slurp                    0     9999.19
    FindBin                        0     1.51   
    HTTP::Status                   0     6.03   
    MIME::Base64                   0     3.13   
    Test::More                     0     0.98   
    Test::Perl::Critic             0     1.02   
    Test::WWW::Mechanize::Catalyst 0     0.58   
    Text::CSV                      0     1.21   
    Time::HiRes                    0     1.9725 
    URI::Escape                    0     3.31   
    version                        0.74  0.9901 

build_requires:

    Module                         Need  Have   
    ------------------------------ ----- -------
    ExtUtils::MakeMaker            6.36  6.64   
    Test::More                     0     0.98   
    Test::Perl::Critic             0     1.02   
    Test::WWW::Mechanize::Catalyst 0     0.58   

configure_requires:

    Module                         Need  Have   
    ------------------------------ ----- -------
    ExtUtils::MakeMaker            6.36  6.64   


------------------------------
ENVIRONMENT AND OTHER CONTEXT
------------------------------

Environment variables:

    AUTOMATED_TESTING = 1
    LANG = C
    PATH = /opt/perl/nothreads/5.16.2/bin:/usr/local/sbin:/usr/local/bin:/usr/sbin:/usr/bin:/sbin:/bin:/usr/games
    PERL5LIB = 
    PERL5OPT = 
    PERL5_CPANPLUS_IS_RUNNING = 1695
    PERL5_CPAN_IS_RUNNING = 1695
    PERL5_CPAN_IS_RUNNING_IN_RECURSION = 29456,1695
    PERL_CR_SMOKER_CURRENT = Catalyst-Controller-Atompub-0.5.6
    PERL_EXTUTILS_AUTOINSTALL = --defaultdeps
    PERL_MM_USE_DEFAULT = 1
    SHELL = /bin/bash
    TERM = screen

Perl special variables (and OS-specific diagnostics, for MSWin32):

    $^X = /opt/perl/nothreads/5.16.2/bin/perl
    $UID/$EUID = 1000 / 1000
    $GID = 1000 4 24 27 30 46 112 113 1000
    $EGID = 1000 4 24 27 30 46 112 113 1000

Perl module toolchain versions installed:

    Module              Have    
    ------------------- --------
    CPAN                1.9800  
    CPAN::Meta          2.120921
    Cwd                 3.33    
    ExtUtils::CBuilder  0.280205
    ExtUtils::Command   1.17    
    ExtUtils::Install   1.58    
    ExtUtils::MakeMaker 6.64    
    ExtUtils::Manifest  1.61    
    ExtUtils::ParseXS   3.18    
    File::Spec          3.33    
    JSON                2.53    
    JSON::PP            2.27200 
    Module::Build       0.4003  
    Module::Signature   0.70    
    Parse::CPAN::Meta   1.4404  
    Test::Harness       3.25    
    Test::More          0.98    
    YAML                0.84    
    YAML::Syck          1.22    
    version             0.9901  


--

Summary of my perl5 (revision 5 version 16 subversion 2) configuration:
   
  Platform:
    osname=linux, osvers=3.2.0-34-virtual, archname=x86_64-linux
    uname='linux cpansmoker 3.2.0-34-virtual #53-ubuntu smp thu nov 15 11:08:40 utc 2012 x86_64 x86_64 x86_64 gnulinux '
    config_args='-des -Dprefix=/opt/perl/nothreads/5.16.2'
    hint=recommended, useposix=true, d_sigaction=define
    useithreads=undef, usemultiplicity=undef
    useperlio=define, d_sfio=undef, uselargefiles=define, usesocks=undef
    use64bitint=define, use64bitall=define, uselongdouble=undef
    usemymalloc=n, bincompat5005=undef
  Compiler:
    cc='cc', ccflags ='-fno-strict-aliasing -pipe -fstack-protector -I/usr/local/include -D_LARGEFILE_SOURCE -D_FILE_OFFSET_BITS=64',
    optimize='-O2',
    cppflags='-fno-strict-aliasing -pipe -fstack-protector -I/usr/local/include'
    ccversion='', gccversion='4.6.3', gccosandvers=''
    intsize=4, longsize=8, ptrsize=8, doublesize=8, byteorder=12345678
    d_longlong=define, longlongsize=8, d_longdbl=define, longdblsize=16
    ivtype='long', ivsize=8, nvtype='double', nvsize=8, Off_t='off_t', lseeksize=8
    alignbytes=8, prototype=define
  Linker and Libraries:
    ld='cc', ldflags =' -fstack-protector -L/usr/local/lib'
    libpth=/usr/local/lib /lib/x86_64-linux-gnu /lib/../lib /usr/lib/x86_64-linux-gnu /usr/lib/../lib /lib /usr/lib
    libs=-lnsl -lgdbm -ldb -ldl -lm -lcrypt -lutil -lc -lgdbm_compat
    perllibs=-lnsl -ldl -lm -lcrypt -lutil -lc
    libc=, so=so, useshrplib=false, libperl=libperl.a
    gnulibc_version='2.15'
  Dynamic Linking:
    dlsrc=dl_dlopen.xs, dlext=so, d_dlsymun=undef, ccdlflags='-Wl,-E'
    cccdlflags='-fPIC', lddlflags='-shared -O2 -L/usr/local/lib -fstack-protector'


Characteristics of this binary (from libperl): 
  Compile-time options: HAS_TIMES PERLIO_LAYERS PERL_DONT_CREATE_GVSV
                        PERL_MALLOC_WRAP PERL_PRESERVE_IVUV USE_64_BIT_ALL
                        USE_64_BIT_INT USE_LARGE_FILES USE_LOCALE
                        USE_LOCALE_COLLATE USE_LOCALE_CTYPE
                        USE_LOCALE_NUMERIC USE_PERLIO USE_PERL_ATOF
  Built under linux
  Compiled at Dec  8 2012 10:32:31
  %ENV:
    PERL5LIB=""
    PERL5OPT=""
    PERL5_CPANPLUS_IS_RUNNING="1695"
    PERL5_CPAN_IS_RUNNING="1695"
    PERL5_CPAN_IS_RUNNING_IN_RECURSION="29456,1695"
    PERL_CR_SMOKER_CURRENT="Catalyst-Controller-Atompub-0.5.6"
    PERL_EXTUTILS_AUTOINSTALL="--defaultdeps"
    PERL_MM_USE_DEFAULT="1"
  @INC:
    /opt/perl/nothreads/5.16.2/lib/site_perl/5.16.2/x86_64-linux
    /opt/perl/nothreads/5.16.2/lib/site_perl/5.16.2
    /opt/perl/nothreads/5.16.2/lib/5.16.2/x86_64-linux
    /opt/perl/nothreads/5.16.2/lib/5.16.2
    .