Net-Lighthouse v0.06 Perl 5 v5.25.11 x86_64-linux-thread-multi-ld
- Status
- Pass
- From
- Andreas J. König (ANDK)
- Dist
-
Net-Lighthouse v0.06
- Platform
- Perl 5 v5.25.11 x86_64-linux-thread-multi-ld
- Date
- 2017-04-21 19:30:44
- ID
- 03454b52-26c9-11e7-8cd9-b70fc79fca1a
This distribution has been tested as part of the CPAN Testers
project, supporting the Perl programming language. See
http://wiki.cpantesters.org/ for more information or email
questions to cpan-testers-discuss@perl.org
--
Dear sunnavy,
This is a computer-generated report for Net-Lighthouse-0.06
on perl 5.25.11, created by CPAN-Reporter-1.2018.
Thank you for uploading your work to CPAN. Congratulations!
All tests were successful.
Sections of this report:
* Tester comments
* Program output
* Prerequisites
* Environment and other context
------------------------------
TESTER COMMENTS
------------------------------
Additional comments from tester:
this report is from an automated smoke testing program
and was not reviewed by a human for accuracy
------------------------------
PROGRAM OUTPUT
------------------------------
Output from '/usr/bin/make test':
PERL_DL_NONLAZY=1 "/home/sand/src/perl/repoperls/installed-perls/host/k93msid/v5.25.11/a1a1/bin/perl" "-MExtUtils::Command::MM" "-MTest::Harness" "-e" "undef *Test::Harness::Switches; test_harness(0, 'inc', 'blib/lib', 'blib/arch')" t/00.load.t t/01-base.t t/02-project.t t/03-ticket.t t/04-ticket-version.t t/05-ticket-attachment.t t/06-user.t t/07-user-membership.t t/08-token.t t/09-milestone.t t/10-changeset.t t/11-message.t t/12-ticket-bin.t t/20-lighthouse.t
Any::Moose is deprecated. Please use Moo instead at /tmp/loop_over_bdir-13644-RyUpLO/Net-Lighthouse-0.06-0/blib/lib/Net/Lighthouse/Project.pm line 2.
t/00.load.t ............... ok
Any::Moose is deprecated. Please use Moo instead at /tmp/loop_over_bdir-13644-RyUpLO/Net-Lighthouse-0.06-0/blib/lib/Net/Lighthouse/Base.pm line 3.
t/01-base.t ............... ok
Any::Moose is deprecated. Please use Moo instead at /tmp/loop_over_bdir-13644-RyUpLO/Net-Lighthouse-0.06-0/blib/lib/Net/Lighthouse/Project.pm line 2.
t/02-project.t ............ ok
Any::Moose is deprecated. Please use Moo instead at /tmp/loop_over_bdir-13644-RyUpLO/Net-Lighthouse-0.06-0/blib/lib/Net/Lighthouse/Project.pm line 2.
t/03-ticket.t ............. ok
Any::Moose is deprecated. Please use Moo instead at /tmp/loop_over_bdir-13644-RyUpLO/Net-Lighthouse-0.06-0/blib/lib/Net/Lighthouse/Project/Ticket/Version.pm line 2.
t/04-ticket-version.t ..... ok
Any::Moose is deprecated. Please use Moo instead at /tmp/loop_over_bdir-13644-RyUpLO/Net-Lighthouse-0.06-0/blib/lib/Net/Lighthouse/Project/Ticket/Attachment.pm line 2.
t/05-ticket-attachment.t .. ok
Any::Moose is deprecated. Please use Moo instead at /tmp/loop_over_bdir-13644-RyUpLO/Net-Lighthouse-0.06-0/blib/lib/Net/Lighthouse/User.pm line 2.
t/06-user.t ............... ok
Any::Moose is deprecated. Please use Moo instead at /tmp/loop_over_bdir-13644-RyUpLO/Net-Lighthouse-0.06-0/blib/lib/Net/Lighthouse/User/Membership.pm line 2.
t/07-user-membership.t .... ok
Any::Moose is deprecated. Please use Moo instead at /tmp/loop_over_bdir-13644-RyUpLO/Net-Lighthouse-0.06-0/blib/lib/Net/Lighthouse/Token.pm line 2.
t/08-token.t .............. ok
Any::Moose is deprecated. Please use Moo instead at /tmp/loop_over_bdir-13644-RyUpLO/Net-Lighthouse-0.06-0/blib/lib/Net/Lighthouse/Project.pm line 2.
t/09-milestone.t .......... ok
Any::Moose is deprecated. Please use Moo instead at /tmp/loop_over_bdir-13644-RyUpLO/Net-Lighthouse-0.06-0/blib/lib/Net/Lighthouse/Project.pm line 2.
t/10-changeset.t .......... ok
Any::Moose is deprecated. Please use Moo instead at /tmp/loop_over_bdir-13644-RyUpLO/Net-Lighthouse-0.06-0/blib/lib/Net/Lighthouse/Project.pm line 2.
t/11-message.t ............ ok
Any::Moose is deprecated. Please use Moo instead at /tmp/loop_over_bdir-13644-RyUpLO/Net-Lighthouse-0.06-0/blib/lib/Net/Lighthouse/Project.pm line 2.
t/12-ticket-bin.t ......... ok
Any::Moose is deprecated. Please use Moo instead at /tmp/loop_over_bdir-13644-RyUpLO/Net-Lighthouse-0.06-0/blib/lib/Net/Lighthouse/Project.pm line 2.
t/20-lighthouse.t ......... ok
All tests successful.
Files=14, Tests=501, 13 wallclock secs ( 0.06 usr 0.11 sys + 4.98 cusr 0.70 csys = 5.85 CPU)
Result: PASS
------------------------------
PREREQUISITES
------------------------------
Prerequisite modules loaded:
requires:
Module Need Have
------------------- ---- --------
Any::Moose 0 0.27
DateTime 0 1.42
LWP 0 6.26
MIME::Base64 0 3.15
Params::Validate 0 1.26
Test::Mock::LWP 0 0.08
Test::More 0 1.302083
URI::Escape 0 3.31
XML::TreePP 0 0.43
YAML::Syck 0 1.30_01
build_requires:
Module Need Have
------------------- ---- --------
ExtUtils::MakeMaker 6.42 7.24
Test::Mock::LWP 0 0.08
Test::More 0 1.302083
configure_requires:
Module Need Have
------------------- ---- --------
ExtUtils::MakeMaker 6.42 7.24
------------------------------
ENVIRONMENT AND OTHER CONTEXT
------------------------------
Environment variables:
AUTOMATED_TESTING = 1
LANG = en_US.UTF-8
PATH = /home/sand/bin:/usr/local/bin:/usr/bin:/bin:/usr/games:/usr/local/perl/bin:/usr/X11/bin:/sbin:/usr/sbin
PERL5LIB =
PERL5OPT =
PERL5_CPANPLUS_IS_RUNNING = 13648
PERL5_CPAN_IS_RUNNING = 13648
PERL_CANARY_STABILITY_NOPROMPT = 1
PERL_MM_USE_DEFAULT = 1
PERL_USE_UNSAFE_INC = 1
SHELL = /usr/bin/zsh
TERM = screen
Perl special variables (and OS-specific diagnostics, for MSWin32):
$^X = /home/sand/src/perl/repoperls/installed-perls/host/k93msid/v5.25.11/a1a1/bin/perl
$UID/$EUID = 1005 / 1005
$GID = 1005 1005
$EGID = 1005 1005
Perl module toolchain versions installed:
Module Have
------------------- ----------
CPAN 2.18
CPAN::Meta 2.150010
Cwd 3.62
ExtUtils::CBuilder 0.280225
ExtUtils::Command 7.24
ExtUtils::Install 2.04
ExtUtils::MakeMaker 7.24
ExtUtils::Manifest 1.70
ExtUtils::ParseXS 3.34
File::Spec 3.62
JSON 2.90
JSON::PP 2.27400_02
Module::Build 0.4222
Module::Signature 0.81
Parse::CPAN::Meta 2.150010
Test::Harness 3.39
Test::More 1.302083
YAML 1.23
YAML::Syck 1.30_01
version 0.9918
--
Summary of my perl5 (revision 5 version 25 subversion 11) configuration:
Commit id: 295d6d042a7c8bac9b1d5d201a473c7723b50d3f
Platform:
osname=linux
osvers=4.9.0-2-amd64
archname=x86_64-linux-thread-multi-ld
uname='linux k93msid 4.9.0-2-amd64 #1 smp debian 4.9.18-1 (2017-03-30) x86_64 gnulinux '
config_args='-Dprefix=/home/sand/src/perl/repoperls/installed-perls/host/k93msid/v5.25.11/a1a1 -Dmyhostname=k93msid -Dinstallusrbinperl=n -Uversiononly -Dusedevel -des -Ui_db -Dlibswanted=cl pthread socket inet nsl gdbm dbm malloc dl ld sun m crypt sec util c cposix posix ucb BSD gdbm_compat -Duseithreads -Duselongdouble -DDEBUGGING=both'
hint=recommended
useposix=true
d_sigaction=define
useithreads=define
usemultiplicity=define
use64bitint=define
use64bitall=define
uselongdouble=define
usemymalloc=n
default_inc_excludes_dot=define
bincompat5005=undef
Compiler:
cc='cc'
ccflags ='-D_REENTRANT -D_GNU_SOURCE -fwrapv -DDEBUGGING -fno-strict-aliasing -pipe -fstack-protector-strong -I/usr/local/include -D_LARGEFILE_SOURCE -D_FILE_OFFSET_BITS=64'
optimize='-O2 -g'
cppflags='-D_REENTRANT -D_GNU_SOURCE -fwrapv -DDEBUGGING -fno-strict-aliasing -pipe -fstack-protector-strong -I/usr/local/include'
ccversion=''
gccversion='6.3.0 20170406'
gccosandvers=''
intsize=4
longsize=8
ptrsize=8
doublesize=8
byteorder=12345678
doublekind=3
d_longlong=define
longlongsize=8
d_longdbl=define
longdblsize=16
longdblkind=3
ivtype='long'
ivsize=8
nvtype='long double'
nvsize=16
Off_t='off_t'
lseeksize=8
alignbytes=16
prototype=define
Linker and Libraries:
ld='cc'
ldflags =' -fstack-protector-strong -L/usr/local/lib'
libpth=/usr/local/lib /usr/lib/gcc/x86_64-linux-gnu/6/include-fixed /usr/include/x86_64-linux-gnu /usr/lib /lib/x86_64-linux-gnu /lib/../lib /usr/lib/x86_64-linux-gnu /usr/lib/../lib /lib
libs=-lpthread -lnsl -ldl -lm -lcrypt -lutil -lc
perllibs=-lpthread -lnsl -ldl -lm -lcrypt -lutil -lc
libc=libc-2.24.so
so=so
useshrplib=false
libperl=libperl.a
gnulibc_version='2.24'
Dynamic Linking:
dlsrc=dl_dlopen.xs
dlext=so
d_dlsymun=undef
ccdlflags='-Wl,-E'
cccdlflags='-fPIC'
lddlflags='-shared -O2 -g -L/usr/local/lib -fstack-protector-strong'
Characteristics of this binary (from libperl):
Compile-time options:
DEBUGGING
HAS_TIMES
MULTIPLICITY
PERLIO_LAYERS
PERL_COPY_ON_WRITE
PERL_DONT_CREATE_GVSV
PERL_IMPLICIT_CONTEXT
PERL_MALLOC_WRAP
PERL_OP_PARENT
PERL_PRESERVE_IVUV
PERL_TRACK_MEMPOOL
PERL_USE_DEVEL
USE_64_BIT_ALL
USE_64_BIT_INT
USE_ITHREADS
USE_LARGE_FILES
USE_LOCALE
USE_LOCALE_COLLATE
USE_LOCALE_CTYPE
USE_LOCALE_NUMERIC
USE_LOCALE_TIME
USE_LONG_DOUBLE
USE_PERLIO
USE_PERL_ATOF
USE_REENTRANT_API
Built under linux
Compiled at Apr 14 2017 16:14:42
%ENV:
PERL5LIB=""
PERL5OPT=""
PERL5_CPANPLUS_IS_RUNNING="13648"
PERL5_CPAN_IS_RUNNING="13648"
PERL_CANARY_STABILITY_NOPROMPT="1"
PERL_MM_USE_DEFAULT="1"
PERL_USE_UNSAFE_INC="1"
@INC:
/home/sand/src/perl/repoperls/installed-perls/host/k93msid/v5.25.11/a1a1/lib/site_perl/5.25.11/x86_64-linux-thread-multi-ld
/home/sand/src/perl/repoperls/installed-perls/host/k93msid/v5.25.11/a1a1/lib/site_perl/5.25.11
/home/sand/src/perl/repoperls/installed-perls/host/k93msid/v5.25.11/a1a1/lib/5.25.11/x86_64-linux-thread-multi-ld
/home/sand/src/perl/repoperls/installed-perls/host/k93msid/v5.25.11/a1a1/lib/5.25.11
.