MooseX-Types-Structured v0.36 Perl 5 v5.43.2 x86_64-linux
- Status
- Pass
- From
- John SJ Anderson
- Dist
-
MooseX-Types-Structured v0.36
- Platform
- Perl 5 v5.43.2 x86_64-linux
- Date
- 2025-08-21 00:08:49
- ID
- 03639d2c-7e23-11f0-881c-f8aa05a44f5c
This distribution has been tested as part of the CPAN Testers
project, supporting the Perl programming language. See
http://wiki.cpantesters.org/ for more information or email
questions to cpan-testers-discuss@perl.org
--
Dear ETHER,
This is a computer-generated report for MooseX-Types-Structured-0.36
on perl 5.43.2, created by App::cpanminus::reporter 0.22 (1.7048).
Thank you for uploading your work to CPAN. Congratulations!
All tests were successful.
Sections of this report:
* Tester comments
* Program output
* Prerequisites
* Environment and other context
------------------------------
TESTER COMMENTS
------------------------------
Additional comments from tester:
none provided
------------------------------
PROGRAM OUTPUT
------------------------------
Output from '':
Building and testing MooseX-Types-Structured-0.36
cp lib/MooseX/Meta/TypeCoercion/Structured/Optional.pm blib/lib/MooseX/Meta/TypeCoercion/Structured/Optional.pm
cp lib/MooseX/Types/Structured/MessageStack.pm blib/lib/MooseX/Types/Structured/MessageStack.pm
cp lib/MooseX/Meta/TypeCoercion/Structured.pm blib/lib/MooseX/Meta/TypeCoercion/Structured.pm
cp lib/MooseX/Types/Structured.pm blib/lib/MooseX/Types/Structured.pm
cp lib/MooseX/Meta/TypeConstraint/Structured/Optional.pm blib/lib/MooseX/Meta/TypeConstraint/Structured/Optional.pm
cp lib/MooseX/Types/Structured/OverflowHandler.pm blib/lib/MooseX/Types/Structured/OverflowHandler.pm
cp lib/MooseX/Meta/TypeConstraint/Structured.pm blib/lib/MooseX/Meta/TypeConstraint/Structured.pm
t/00-load.t .................... ok
#
# Versions for all modules listed in MYMETA.json (including optional ones):
#
# === Configure Requires ===
#
# Module Want Have
# ------------------- ----- -----
# Module::Build::Tiny 0.034 0.052
#
# === Configure Suggests ===
#
# Module Want Have
# -------- ------- ----
# JSON::PP 2.27300 4.16
#
# === Test Requires ===
#
# Module Want Have
# -------------------- ---- --------
# Data::Dumper any 2.192
# DateTime any 1.66
# File::Spec any 3.94
# Module::Metadata any 1.000038
# MooseX::Types::Moose any 0.51
# Test::Fatal any 0.017
# Test::More 0.88 1.302214
# Test::Needs any 0.002010
# strict any 1.14
# warnings any 1.74
#
# === Test Recommends ===
#
# Module Want Have
# ---------- -------- --------
# CPAN::Meta 2.120900 2.150010
#
# === Test Suggests ===
#
# Module Want Have
# ----------------------- ---- -------
# MooseX::Types::DateTime any missing
#
# === Runtime Requires ===
#
# Module Want Have
# -------------------------------------------- ----- ------
# Devel::PartialDump 0.13 0.20
# Moose any 2.4000
# Moose::Meta::TypeCoercion any 2.4000
# Moose::Meta::TypeConstraint any 2.4000
# Moose::Meta::TypeConstraint::Parameterizable any 2.4000
# Moose::Util::TypeConstraints 1.06 2.4000
# MooseX::Types 0.22 0.51
# Scalar::Util any 1.70
# Sub::Exporter 0.982 0.991
# if any 0.0610
# namespace::clean 0.19 0.27
# overload any 1.40
#
# === Other Modules ===
#
# Module Have
# -------------------- ----
# Dist::CheckConflicts 0.11
# JSON::PP 4.16
# Sub::Name 0.28
# YAML 1.31
# autodie 2.37
#
t/00-report-prereqs.t .......... ok
t/01-basic.t ................... ok
t/02-tuple.t ................... ok
t/03-dict.t .................... ok
t/04-combined.t ................ ok
t/04-map.t ..................... ok
t/05-advanced.t ................ ok
t/06-api.t ..................... ok
t/07-coerce.t .................. ok
t/08-examples.t ................ skipped: Need MooseX::Types::DateTime
t/09-optional.t ................ ok
t/10-recursion.t ............... ok
t/11-overflow.t ................ ok
t/12-error.t ................... ok
t/13-deeper_error.t ............ ok
t/14-fully-qualified.t ......... ok
t/bug-incorrect-message.t ...... ok
t/bug-is-subtype.t ............. ok
t/bug-mixed-stringy.t .......... ok
t/bug-optional.t ............... ok
t/regressions/01-is_type_of.t .. ok
t/zzz-check-breaks.t ........... ok
All tests successful.
Files=23, Tests=352, 4 wallclock secs ( 0.06 usr 0.03 sys + 4.16 cusr 0.35 csys = 4.60 CPU)
Result: PASS
------------------------------
PREREQUISITES
------------------------------
Prerequisite modules loaded:
runtime:
Module Need Have
-------------------------------------------- ----- --------
Devel::PartialDump 0.13 0.20
if 0 0.0610
Moose 0 2.4000
Moose::Meta::TypeCoercion 0 2.4000
Moose::Meta::TypeConstraint 0 2.4000
Moose::Meta::TypeConstraint::Parameterizable 0 2.4000
Moose::Util::TypeConstraints 1.06 2.4000
MooseX::Types 0.22 0.51
namespace::clean 0.19 0.27
overload 0 1.40
perl 5.008 5.043002
Scalar::Util 0 1.70
Sub::Exporter 0.982 0.991
configure:
Module Need Have
-------------------------------------------- ----- --------
Module::Build::Tiny 0.034 0.052
perl 5.008 5.043002
------------------------------
ENVIRONMENT AND OTHER CONTEXT
------------------------------
Environment variables:
LANG = en_US.UTF-8
LC_ALL = en_US.UTF-8
LC_TERMINAL = iTerm2
LC_TERMINAL_VERSION = 3.5.10
PATH = /opt/plenv/versions/5.43.2/bin:/opt/plenv/libexec:/opt/plenv/plugins/perl-build/bin:/opt/local/bin:/home/genehack/bin:/opt/miniconda3/condabin:/opt/plenv/shims:/opt/plenv/bin:/opt/go/bin:/opt/git/bin:/opt/emacs/bin:/opt/local/bin:/usr/local/bin:/usr/bin:/bin:/usr/games:/opt/rust/cargo/bin
PERL_CPANM_OPT = --skip-installed --prompt
SHELL = /bin/zsh
TERM = screen-256color
Perl special variables (and OS-specific diagnostics, for MSWin32):
EGID = 1001 113 122 1001
EUID = 1001
EXECUTABLE_NAME = /opt/plenv/versions/5.43.2/bin/perl5.43.2
GID = 1001 113 122 1001
UID = 1001
Perl module toolchain versions installed:
Module Have
------------------- --------
CPAN 2.38
CPAN::Meta 2.150010
Cwd 3.94
ExtUtils::CBuilder 0.280242
ExtUtils::Command 7.76
ExtUtils::Install 2.22
ExtUtils::MakeMaker 7.76
ExtUtils::Manifest 1.75
ExtUtils::ParseXS 3.59
File::Spec 3.94
JSON 4.10
JSON::PP 4.16
Module::Build 0.4234
Module::Signature n/a
Parse::CPAN::Meta 2.150010
Test::Harness 3.52
Test::More 1.302214
YAML 1.31
YAML::Syck n/a
version 0.9933
--
Summary of my perl5 (revision 5 version 43 subversion 2) configuration:
Platform:
osname=linux
osvers=5.10.0-20-amd64
archname=x86_64-linux
uname='linux doof 5.10.0-20-amd64 #1 smp debian 5.10.158-2 (2022-12-13) x86_64 gnulinux '
config_args='-Dprefix=/opt/plenv/versions/5.43.2 -de -Dversiononly -Dusedevel -A'eval:scriptdir=/opt/plenv/versions/5.43.2/bin''
hint=recommended
useposix=true
d_sigaction=define
useithreads=undef
usemultiplicity=undef
use64bitint=define
use64bitall=define
uselongdouble=undef
usemymalloc=n
default_inc_excludes_dot=define
Compiler:
cc='cc'
ccflags ='-fwrapv -fno-strict-aliasing -pipe -fstack-protector-strong -I/usr/local/include -D_LARGEFILE_SOURCE -D_FILE_OFFSET_BITS=64 -D_FORTIFY_SOURCE=2'
optimize='-O2'
cppflags='-fwrapv -fno-strict-aliasing -pipe -fstack-protector-strong -I/usr/local/include'
ccversion=''
gccversion='14.2.0'
gccosandvers=''
intsize=4
longsize=8
ptrsize=8
doublesize=8
byteorder=12345678
doublekind=3
d_longlong=define
longlongsize=8
d_longdbl=define
longdblsize=16
longdblkind=3
ivtype='long'
ivsize=8
nvtype='double'
nvsize=8
Off_t='off_t'
lseeksize=8
alignbytes=8
prototype=define
Linker and Libraries:
ld='cc'
ldflags =' -fstack-protector-strong -L/usr/local/lib'
libpth=/usr/local/lib /usr/lib/x86_64-linux-gnu /usr/lib /usr/lib64
libs=-lpthread -lgdbm -ldl -lm -lcrypt -lutil -lc
perllibs=-lpthread -ldl -lm -lcrypt -lutil -lc
libc=/lib/x86_64-linux-gnu/libc.so.6
so=so
useshrplib=false
libperl=libperl.a
gnulibc_version='2.41'
Dynamic Linking:
dlsrc=dl_dlopen.xs
dlext=so
d_dlsymun=undef
ccdlflags='-Wl,-E'
cccdlflags='-fPIC'
lddlflags='-shared -O2 -L/usr/local/lib -fstack-protector-strong'
Characteristics of this binary (from libperl):
Compile-time options:
HAS_LONG_DOUBLE
HAS_STRTOLD
HAS_TIMES
PERLIO_LAYERS
PERL_COPY_ON_WRITE
PERL_DONT_CREATE_GVSV
PERL_HASH_FUNC_SIPHASH13
PERL_HASH_USE_SBOX32
PERL_MALLOC_WRAP
PERL_OP_PARENT
PERL_PRESERVE_IVUV
PERL_USE_DEVEL
PERL_USE_SAFE_PUTENV
USE_64_BIT_ALL
USE_64_BIT_INT
USE_LARGE_FILES
USE_LOCALE
USE_LOCALE_COLLATE
USE_LOCALE_CTYPE
USE_LOCALE_NUMERIC
USE_LOCALE_TIME
USE_PERLIO
USE_PERL_ATOF
Built under linux
Compiled at Aug 20 2025 15:38:45
%ENV:
PERL_CPANM_OPT="--skip-installed --prompt"
@INC:
/opt/plenv/versions/5.43.2/lib/perl5/site_perl/5.43.2/x86_64-linux
/opt/plenv/versions/5.43.2/lib/perl5/site_perl/5.43.2
/opt/plenv/versions/5.43.2/lib/perl5/5.43.2/x86_64-linux
/opt/plenv/versions/5.43.2/lib/perl5/5.43.2