DBIx-Pg-CallFunction v0.019 Perl 5 v5.12.2 OpenBSD.amd64-openbsd
- Status
- Pass
- From
- Chris Williams (BINGOS)
- Dist
-
DBIx-Pg-CallFunction v0.019
- Platform
- Perl 5 v5.12.2 OpenBSD.amd64-openbsd
- Date
- 2014-05-07 14:58:13
- ID
- 03732d1c-d5f8-11e3-9f96-e4d5e82f99b1
This distribution has been tested as part of the CPAN Testers
project, supporting the Perl programming language. See
http://wiki.cpantesters.org/ for more information or email
questions to cpan-testers-discuss@perl.org
--
Dear JOELJAC,
This is a computer-generated error report created automatically by
CPANPLUS, version 0.9148. Testers personal comments may appear
at the end of this report.
Thank you for uploading your work to CPAN. Congratulations!
All tests were successful.
TEST RESULTS:
Below is the error stack from stage 'make test':
PERL_DL_NONLAZY=1 /home/cpan/pit/bare/perl-5.12.2/bin/perl "-MExtUtils::Command::MM" "-MTest::Harness" "-e" "undef *Test::Harness::Switches; test_harness(0, 'inc', 'blib/lib', 'blib/arch')" t/*.t
t/00-load.t ............... ok
t/release-pod-coverage.t .. skipped: these tests are for release candidate testing
t/release-pod-syntax.t .... skipped: these tests are for release candidate testing
createdb: could not connect to database template1: could not connect to server: No such file or directory
Is the server running locally and accepting
connections on Unix domain socket "/tmp/.s.PGSQL.5432"?
dropdb: could not connect to database template1: could not connect to server: No such file or directory
Is the server running locally and accepting
connections on Unix domain socket "/tmp/.s.PGSQL.5432"?
t/test10-call.t ........... skipped: Can't run createdb (PostgreSQL not installed?)
All tests successful.
Files=4, Tests=1, 0 wallclock secs ( 0.03 usr 0.01 sys + 0.12 cusr 0.06 csys = 0.22 CPU)
Result: PASS
PREREQUISITES:
Here is a list of prerequisites you specified and versions we
managed to load:
Module Name Have Want
Carp 1.17 0
DBD::Pg 3.1.1 0
DBI 1.631 1.605
ExtUtils::MakeMaker 6.94 6.59
Test::Exception 0.32 0.32
Test::More 1.001003 0
Perl module toolchain versions installed:
Module Name Have
CPANPLUS 0.9148
CPANPLUS::Dist::Build 0.76
Cwd 3.40
ExtUtils::CBuilder 0.280216
ExtUtils::Command 1.16
ExtUtils::Install 1.64
ExtUtils::MakeMaker 6.94
ExtUtils::Manifest 1.63
ExtUtils::ParseXS 3.24
File::Spec 3.40
Module::Build 0.4205
Pod::Parser 1.37
Pod::Simple 3.14
Test::Harness 3.30
Test::More 1.001003
version 0.9908
******************************** NOTE ********************************
The comments above are created mechanically, possibly without manual
checking by the sender. As there are many people performing automatic
tests on each upload to CPAN, it is likely that you will receive
identical messages about the same problem.
If you believe that the message is mistaken, please reply to the first
one with correction and/or additional informations, and do not take
it personally. We appreciate your patience. :)
**********************************************************************
Additional comments:
This report was machine-generated by CPANPLUS::Dist::YACSmoke 0.90.
Powered by minismokebox version 0.58
------------------------------
ENVIRONMENT AND OTHER CONTEXT
------------------------------
Environment variables:
AUTOMATED_TESTING = 1
NONINTERACTIVE_TESTING = 1
PATH = /home/cpan/pit/bare/conf/perl-5.12.2/.cpanplus/5.12.2/build/DBI-1.631/blib/script:/home/cpan/bin:/bin:/sbin:/usr/bin:/usr/sbin:/usr/X11R6/bin:/usr/local/bin:/usr/local/sbin:/usr/games:.
PERL5LIB = :/home/cpan/pit/bare/conf/perl-5.12.2/.cpanplus/5.12.2/build/DBI-1.631/blib/lib:/home/cpan/pit/bare/conf/perl-5.12.2/.cpanplus/5.12.2/build/DBI-1.631/blib/arch:/home/cpan/pit/bare/conf/perl-5.12.2/.cpanplus/5.12.2/build/DBD-Pg-3.1.1/blib/lib:/home/cpan/pit/bare/conf/perl-5.12.2/.cpanplus/5.12.2/build/DBD-Pg-3.1.1/blib/arch:/home/cpan/pit/bare/conf/perl-5.12.2/.cpanplus/5.12.2/build/Sub-Uplevel-0.24/blib/lib:/home/cpan/pit/bare/conf/perl-5.12.2/.cpanplus/5.12.2/build/Sub-Uplevel-0.24/blib/arch:/home/cpan/pit/bare/conf/perl-5.12.2/.cpanplus/5.12.2/build/Test-Exception-0.32/blib/lib:/home/cpan/pit/bare/conf/perl-5.12.2/.cpanplus/5.12.2/build/Test-Exception-0.32/blib/arch
PERL5_CPANPLUS_IS_RUNNING = 15708
PERL5_CPANPLUS_IS_VERSION = 0.9148
PERL5_MINISMOKEBOX = 0.58
PERL5_YACSMOKE_BASE = /home/cpan/pit/bare/conf/perl-5.12.2
PERL_EXTUTILS_AUTOINSTALL = --defaultdeps
PERL_MM_USE_DEFAULT = 1
SHELL = /usr/local/bin/bash
TERM = screen
Perl special variables (and OS-specific diagnostics, for MSWin32):
Perl: $^X = /home/cpan/pit/bare/perl-5.12.2/bin/perl
UID: $< = 1001
EUID: $> = 1001
GID: $( = 1001 1001
EGID: $) = 1001 1001
-------------------------------
--
Summary of my perl5 (revision 5 version 12 subversion 2) configuration:
Platform:
osname=openbsd, osvers=5.4, archname=OpenBSD.amd64-openbsd
uname='openbsd oarcock.bingosnet.co.uk 5.4 generic#37 amd64 '
config_args='-des -Dprefix=/home/cpan/pit/bare/perl-5.12.2'
hint=recommended, useposix=true, d_sigaction=define
useithreads=undef, usemultiplicity=undef
useperlio=define, d_sfio=undef, uselargefiles=define, usesocks=undef
use64bitint=define, use64bitall=define, uselongdouble=undef
usemymalloc=y, bincompat5005=undef
Compiler:
cc='cc', ccflags ='-fno-strict-aliasing -pipe -fstack-protector -I/usr/local/include',
optimize='-O2',
cppflags='-fno-strict-aliasing -pipe -fstack-protector -I/usr/local/include'
ccversion='', gccversion='4.2.1 20070719 ', gccosandvers='openbsd5.4'
intsize=4, longsize=8, ptrsize=8, doublesize=8, byteorder=12345678
d_longlong=define, longlongsize=8, d_longdbl=define, longdblsize=16
ivtype='long', ivsize=8, nvtype='double', nvsize=8, Off_t='off_t', lseeksize=8
alignbytes=8, prototype=define
Linker and Libraries:
ld='cc', ldflags ='-Wl,-E -fstack-protector -L/usr/local/lib'
libpth=/usr/local/lib /usr/lib
libs=-lgdbm -lm -lutil -lc
perllibs=-lm -lutil -lc
libc=/usr/lib/libc.so.69.0, so=so, useshrplib=false, libperl=libperl.a
gnulibc_version=''
Dynamic Linking:
dlsrc=dl_dlopen.xs, dlext=so, d_dlsymun=undef, ccdlflags=' '
cccdlflags='-DPIC -fPIC ', lddlflags='-shared -fPIC -L/usr/local/lib -fstack-protector'
Characteristics of this binary (from libperl):
Compile-time options: MYMALLOC PERL_DONT_CREATE_GVSV PERL_MALLOC_WRAP
USE_64_BIT_ALL USE_64_BIT_INT USE_LARGE_FILES
USE_PERLIO USE_PERL_ATOF
Built under openbsd
Compiled at Nov 4 2013 17:18:44
%ENV:
PERL5LIB=":/home/cpan/pit/bare/conf/perl-5.12.2/.cpanplus/5.12.2/build/DBI-1.631/blib/lib:/home/cpan/pit/bare/conf/perl-5.12.2/.cpanplus/5.12.2/build/DBI-1.631/blib/arch:/home/cpan/pit/bare/conf/perl-5.12.2/.cpanplus/5.12.2/build/DBD-Pg-3.1.1/blib/lib:/home/cpan/pit/bare/conf/perl-5.12.2/.cpanplus/5.12.2/build/DBD-Pg-3.1.1/blib/arch:/home/cpan/pit/bare/conf/perl-5.12.2/.cpanplus/5.12.2/build/Sub-Uplevel-0.24/blib/lib:/home/cpan/pit/bare/conf/perl-5.12.2/.cpanplus/5.12.2/build/Sub-Uplevel-0.24/blib/arch:/home/cpan/pit/bare/conf/perl-5.12.2/.cpanplus/5.12.2/build/Test-Exception-0.32/blib/lib:/home/cpan/pit/bare/conf/perl-5.12.2/.cpanplus/5.12.2/build/Test-Exception-0.32/blib/arch"
PERL5_CPANPLUS_IS_RUNNING="15708"
PERL5_CPANPLUS_IS_VERSION="0.9148"
PERL5_MINISMOKEBOX="0.58"
PERL5_YACSMOKE_BASE="/home/cpan/pit/bare/conf/perl-5.12.2"
PERL_EXTUTILS_AUTOINSTALL="--defaultdeps"
PERL_MM_USE_DEFAULT="1"
@INC:
/home/cpan/pit/bare/conf/perl-5.12.2/.cpanplus/5.12.2/build/DBI-1.631/blib/lib
/home/cpan/pit/bare/conf/perl-5.12.2/.cpanplus/5.12.2/build/DBI-1.631/blib/arch
/home/cpan/pit/bare/conf/perl-5.12.2/.cpanplus/5.12.2/build/DBD-Pg-3.1.1/blib/lib
/home/cpan/pit/bare/conf/perl-5.12.2/.cpanplus/5.12.2/build/DBD-Pg-3.1.1/blib/arch
/home/cpan/pit/bare/conf/perl-5.12.2/.cpanplus/5.12.2/build/Sub-Uplevel-0.24/blib/lib
/home/cpan/pit/bare/conf/perl-5.12.2/.cpanplus/5.12.2/build/Sub-Uplevel-0.24/blib/arch
/home/cpan/pit/bare/conf/perl-5.12.2/.cpanplus/5.12.2/build/Test-Exception-0.32/blib/lib
/home/cpan/pit/bare/conf/perl-5.12.2/.cpanplus/5.12.2/build/Test-Exception-0.32/blib/arch
/home/cpan/pit/bare/perl-5.12.2/lib/site_perl/5.12.2/OpenBSD.amd64-openbsd
/home/cpan/pit/bare/perl-5.12.2/lib/site_perl/5.12.2
/home/cpan/pit/bare/perl-5.12.2/lib/5.12.2/OpenBSD.amd64-openbsd
/home/cpan/pit/bare/perl-5.12.2/lib/5.12.2
.