App-CSE v0.010 Perl 5 v5.22.1 x86_64-linux-thread-multi

Status
Pass
From
David Cantrell (DCANTRELL)
Dist
App-CSE v0.010
Platform
Perl 5 v5.22.1 x86_64-linux-thread-multi
Date
2016-12-05 16:22:27
ID
03746ca8-bb07-11e6-986f-88b7ca56a595
This distribution has been tested as part of the CPAN Testers
project, supporting the Perl programming language.  See
http://wiki.cpantesters.org/ for more information or email
questions to cpan-testers-discuss@perl.org


--
Dear Jerome Eteve,

This is a computer-generated report for App-CSE-0.010
on perl 5.22.1, created by CPAN-Reporter-1.2018.

Thank you for uploading your work to CPAN.  Congratulations!
All tests were successful.

Sections of this report:

    * Tester comments
    * Program output
    * Prerequisites
    * Environment and other context

------------------------------
TESTER COMMENTS
------------------------------

Additional comments from tester:

this report is from an automated smoke testing program
and was not reviewed by a human for accuracy

------------------------------
PROGRAM OUTPUT
------------------------------

Output from '/usr/bin/make test':

PERL_DL_NONLAZY=1 "/home/david/cpantesting/perl-5.22.1/bin/perl" "-MExtUtils::Command::MM" "-MTest::Harness" "-e" "undef *Test::Harness::Switches; test_harness(0, 'blib/lib', 'blib/arch')" t/*.t t/toindex/perl/*.t
t/00-load.t ............. ok
t/01-help.t ............. ok
t/02-check.t ............ ok
t/03-index.t ............ skipped: No mime-info database on the machine. The shared-mime-info package is available from http://freedesktop.org/
t/04-search.t ........... skipped: No mime-info database on the machine. The shared-mime-info package is available from http://freedesktop.org/
t/05-more-search.t ...... skipped: No mime-info database on the machine. The shared-mime-info package is available from http://freedesktop.org/
t/06-update.t ........... skipped: No mime-info database on the machine. The shared-mime-info package is available from http://freedesktop.org/
t/07-decl.t ............. skipped: No mime-info database on the machine. The shared-mime-info package is available from http://freedesktop.org/
t/08-meta.t ............. skipped: No mime-info database on the machine. The shared-mime-info package is available from http://freedesktop.org/
t/09-watch.t ............ skipped: No mime-info database on the machine. The shared-mime-info package is available from http://freedesktop.org/
t/10-hidden.t ........... skipped: No mime-info database on the machine. The shared-mime-info package is available from http://freedesktop.org/
# this_is_a_test
t/toindex/perl/hello.t .. ok
All tests successful.
Files=12, Tests=17, 12 wallclock secs ( 0.04 usr  0.04 sys +  4.15 cusr  0.46 csys =  4.69 CPU)
Result: PASS

------------------------------
PREREQUISITES
------------------------------

Prerequisite modules loaded:

requires:

    Module                  Need        Have       
    ----------------------- ----------- -----------
    Carp                    0           1.36       
    Class::InsideOut        0           1.13       
    Class::Load             0           0.23       
    DateTime                0           1.41       
    Encode                  0           2.72       
    File::BaseDir           0           0.07       
    File::Find              0           1.29       
    File::MimeInfo::Magic   0           0.28       
    File::Slurp             0           9999.19    
    File::stat              0           1.07       
    Filesys::Notify::Simple 0           0.12       
    Getopt::Long            0           2.45       
    IO::Interactive         0           1.022      
    JSON                    0           2.90       
    Linux::Inotify2         0           1.22       
    Log::Dispatch::Syslog   0           2.58       
    Log::Log4perl           0           1.48       
    Lucy                    0.006000004 0.006000004
    Moose                   0           2.1806     
    Path::Class::Dir        0           0.37       
    Pod::Text               0           3.18       
    PPI                     0           1.220      
    Regexp::Assemble        0           0.37       
    Scalar::Util            0           1.46       
    String::CamelCase       0           0.02       
    Term::ProgressBar       2.17        2.17       
    Text::Glob              0.09        0.10       
    Time::HiRes             0           1.9726     
    XML::LibXML             0           2.0128     

build_requires:

    Module                  Need        Have       
    ----------------------- ----------- -----------
    Carp::Always            0           0.13       
    ExtUtils::MakeMaker     0           7.24       
    File::Copy::Recursive   0           0.38       
    File::Slurp             0           9999.19    
    File::Temp              0           0.2304     
    Test::More              0           1.302067   

configure_requires:

    Module                  Need        Have       
    ----------------------- ----------- -----------
    ExtUtils::MakeMaker     0           7.24       


------------------------------
ENVIRONMENT AND OTHER CONTEXT
------------------------------

Environment variables:

    AUTOMATED_TESTING = 1
    NONINTERACTIVE_TESTING = 1
    PATH = /usr/local/bin:/usr/bin:/bin:/usr/local/games:/usr/games
    PERL = 5.22.1
    PERL5LIB = 
    PERL5OPT = 
    PERL5_CPANPLUS_IS_RUNNING = 26840
    PERL5_CPAN_IS_RUNNING = 26840
    PERLVER = 5.22.1
    PERL_INLINE_DIRECTORY = /home/david/.Inline-5.22.1
    PERL_MM_USE_DEFAULT = 1
    SHELL = /bin/bash
    TERM = screen

Perl special variables (and OS-specific diagnostics, for MSWin32):

    $^X = /home/david/cpantesting/perl-5.22.1/bin/perl
    $UID/$EUID = 1000 / 1000
    $GID = 1000 1000
    $EGID = 1000 1000

Perl module toolchain versions installed:

    Module              Have    
    ------------------- --------
    CPAN                2.11    
    CPAN::Meta          2.150001
    Cwd                 3.56    
    ExtUtils::CBuilder  0.280221
    ExtUtils::Command   7.24    
    ExtUtils::Install   2.04    
    ExtUtils::MakeMaker 7.24    
    ExtUtils::Manifest  1.70    
    ExtUtils::ParseXS   3.28    
    File::Spec          3.56    
    JSON                2.90    
    JSON::PP            2.27300 
    Module::Build       0.4220  
    Module::Signature   n/a     
    Parse::CPAN::Meta   1.4414  
    Test::Harness       3.35    
    Test::More          1.302067
    YAML                1.20    
    YAML::Syck          n/a     
    version             0.9909  


--

Summary of my perl5 (revision 5 version 22 subversion 1) configuration:
   
  Platform:
    osname=linux, osvers=3.16.0-4-amd64, archname=x86_64-linux-thread-multi
    uname='linux pigsty.barnyard.co.uk 3.16.0-4-amd64 #1 smp debian 3.16.36-1+deb8u1 (2016-09-03) x86_64 gnulinux '
    config_args='-de -Duse64bitall -Dusethreads -Dprefix=/home/david/cpantesting/perl-5.22.1'
    hint=recommended, useposix=true, d_sigaction=define
    useithreads=define, usemultiplicity=define
    use64bitint=define, use64bitall=define, uselongdouble=undef
    usemymalloc=n, bincompat5005=undef
  Compiler:
    cc='cc', ccflags ='-D_REENTRANT -D_GNU_SOURCE -fwrapv -fno-strict-aliasing -pipe -fstack-protector-strong -I/usr/local/include -D_LARGEFILE_SOURCE -D_FILE_OFFSET_BITS=64 -D_FORTIFY_SOURCE=2',
    optimize='-O2',
    cppflags='-D_REENTRANT -D_GNU_SOURCE -fwrapv -fno-strict-aliasing -pipe -fstack-protector-strong -I/usr/local/include'
    ccversion='', gccversion='4.9.2', gccosandvers=''
    intsize=4, longsize=8, ptrsize=8, doublesize=8, byteorder=12345678, doublekind=3
    d_longlong=define, longlongsize=8, d_longdbl=define, longdblsize=16, longdblkind=3
    ivtype='long', ivsize=8, nvtype='double', nvsize=8, Off_t='off_t', lseeksize=8
    alignbytes=8, prototype=define
  Linker and Libraries:
    ld='cc', ldflags =' -fstack-protector-strong -L/usr/local/lib'
    libpth=/usr/local/lib /usr/lib/gcc/x86_64-linux-gnu/4.9/include-fixed /usr/include/x86_64-linux-gnu /usr/lib /lib/x86_64-linux-gnu /lib/../lib /usr/lib/x86_64-linux-gnu /usr/lib/../lib /lib
    libs=-lpthread -lnsl -ldb -ldl -lm -lcrypt -lutil -lc
    perllibs=-lpthread -lnsl -ldl -lm -lcrypt -lutil -lc
    libc=libc-2.19.so, so=so, useshrplib=false, libperl=libperl.a
    gnulibc_version='2.19'
  Dynamic Linking:
    dlsrc=dl_dlopen.xs, dlext=so, d_dlsymun=undef, ccdlflags='-Wl,-E'
    cccdlflags='-fPIC', lddlflags='-shared -O2 -L/usr/local/lib -fstack-protector-strong'


Characteristics of this binary (from libperl): 
  Compile-time options: HAS_TIMES MULTIPLICITY PERLIO_LAYERS
                        PERL_DONT_CREATE_GVSV
                        PERL_HASH_FUNC_ONE_AT_A_TIME_HARD
                        PERL_IMPLICIT_CONTEXT PERL_MALLOC_WRAP
                        PERL_NEW_COPY_ON_WRITE PERL_PRESERVE_IVUV
                        USE_64_BIT_ALL USE_64_BIT_INT USE_ITHREADS
                        USE_LARGE_FILES USE_LOCALE USE_LOCALE_COLLATE
                        USE_LOCALE_CTYPE USE_LOCALE_NUMERIC USE_LOCALE_TIME
                        USE_PERLIO USE_PERL_ATOF USE_REENTRANT_API
  Locally applied patches:
	Devel::PatchPerl 1.44
  Built under linux
  Compiled at Oct 12 2016 16:20:06
  %ENV:
    PERL="5.22.1"
    PERL5LIB=""
    PERL5OPT=""
    PERL5_CPANPLUS_IS_RUNNING="26840"
    PERL5_CPAN_IS_RUNNING="26840"
    PERLVER="5.22.1"
    PERL_INLINE_DIRECTORY="/home/david/.Inline-5.22.1"
    PERL_MM_USE_DEFAULT="1"
  @INC:
    /home/david/cpantesting/perl-5.22.1/lib/site_perl/5.22.1/x86_64-linux-thread-multi
    /home/david/cpantesting/perl-5.22.1/lib/site_perl/5.22.1
    /home/david/cpantesting/perl-5.22.1/lib/5.22.1/x86_64-linux-thread-multi
    /home/david/cpantesting/perl-5.22.1/lib/5.22.1
    .