HTML-Mason v1.56 Perl 5 v5.20.1 x86_64-linux

Status
Pass
From
NONAME
Dist
HTML-Mason v1.56
Platform
Perl 5 v5.20.1 x86_64-linux
Date
2015-02-18 21:28:00
ID
038acdba-b7b5-11e4-a53b-d0ab5e8d18db
This distribution has been tested as part of the CPAN Testers
project, supporting the Perl programming language.  See
http://wiki.cpantesters.org/ for more information or email
questions to cpan-testers-discuss@perl.org


--
Dear DROLSKY,

This is a computer-generated report for HTML-Mason-1.56
on perl 5.20.1, created by App::cpanminus::reporter 0.12 (1.7024).

Thank you for uploading your work to CPAN.  Congratulations!
All tests were successful.

Sections of this report:

    * Tester comments
    * Program output
    * Prerequisites
    * Environment and other context

------------------------------
TESTER COMMENTS
------------------------------

Additional comments from tester:

none provided

------------------------------
PROGRAM OUTPUT
------------------------------

Output from '':

Building and testing HTML-Mason-1.56
cp lib/HTML/Mason/Handler.pm blib/lib/HTML/Mason/Handler.pm
cp lib/HTML/Mason/Devel.pod blib/lib/HTML/Mason/Devel.pod
cp lib/HTML/Mason/Tests.pm blib/lib/HTML/Mason/Tests.pm
cp lib/HTML/Mason/ComponentSource.pm blib/lib/HTML/Mason/ComponentSource.pm
cp lib/HTML/Mason/Component/Subcomponent.pm blib/lib/HTML/Mason/Component/Subcomponent.pm
cp lib/HTML/Mason/Cache/BaseCache.pm blib/lib/HTML/Mason/Cache/BaseCache.pm
cp lib/HTML/Mason/FakeApache.pm blib/lib/HTML/Mason/FakeApache.pm
cp lib/HTML/Mason/CGIHandler.pm blib/lib/HTML/Mason/CGIHandler.pm
cp lib/HTML/Mason/Compiler.pm blib/lib/HTML/Mason/Compiler.pm
cp lib/HTML/Mason/Lexer.pm blib/lib/HTML/Mason/Lexer.pm
cp lib/HTML/Mason.pm blib/lib/HTML/Mason.pm
cp lib/HTML/Mason/Compiler/ToObject.pm blib/lib/HTML/Mason/Compiler/ToObject.pm
cp lib/HTML/Mason/Resolver.pm blib/lib/HTML/Mason/Resolver.pm
cp lib/HTML/Mason/Plugin.pm blib/lib/HTML/Mason/Plugin.pm
cp lib/HTML/Mason/MethodMaker.pm blib/lib/HTML/Mason/MethodMaker.pm
cp lib/HTML/Mason/Utils.pm blib/lib/HTML/Mason/Utils.pm
cp lib/HTML/Mason/Subclassing.pod blib/lib/HTML/Mason/Subclassing.pod
cp lib/HTML/Mason/Tools.pm blib/lib/HTML/Mason/Tools.pm
cp lib/HTML/Mason/Params.pod blib/lib/HTML/Mason/Params.pod
cp lib/HTML/Mason/Component.pm blib/lib/HTML/Mason/Component.pm
cp lib/HTML/Mason/Component/FileBased.pm blib/lib/HTML/Mason/Component/FileBased.pm
cp lib/HTML/Mason/Resolver/Null.pm blib/lib/HTML/Mason/Resolver/Null.pm
cp lib/HTML/Mason/Admin.pod blib/lib/HTML/Mason/Admin.pod
cp lib/HTML/Mason/ApacheHandler.pm blib/lib/HTML/Mason/ApacheHandler.pm
cp lib/HTML/Mason/Escapes.pm blib/lib/HTML/Mason/Escapes.pm
cp lib/HTML/Mason/Request.pm blib/lib/HTML/Mason/Request.pm
cp lib/HTML/Mason/Exceptions.pm blib/lib/HTML/Mason/Exceptions.pm
cp lib/HTML/Mason/FAQ.pod blib/lib/HTML/Mason/FAQ.pod
cp lib/HTML/Mason/Plugin/Context.pm blib/lib/HTML/Mason/Plugin/Context.pm
cp lib/HTML/Mason/Apache/Request.pm blib/lib/HTML/Mason/Apache/Request.pm
cp lib/HTML/Mason/Interp.pm blib/lib/HTML/Mason/Interp.pm
cp lib/HTML/Mason/Parser.pm blib/lib/HTML/Mason/Parser.pm
cp lib/HTML/Mason/Resolver/File.pm blib/lib/HTML/Mason/Resolver/File.pm
cp bin/mason.pl blib/script/mason.pl
"/home/mojolicious/perl5/perlbrew/perls/perl-5.21.8/bin/perl5.21.8" -MExtUtils::MY -e 'MY->fixin(shift)' -- blib/script/mason.pl
cp bin/convert0.8.pl blib/script/convert0.8.pl
"/home/mojolicious/perl5/perlbrew/perls/perl-5.21.8/bin/perl5.21.8" -MExtUtils::MY -e 'MY->fixin(shift)' -- blib/script/convert0.8.pl
cp bin/convert0.6.README blib/script/convert0.6.README
"/home/mojolicious/perl5/perlbrew/perls/perl-5.21.8/bin/perl5.21.8" -MExtUtils::MY -e 'MY->fixin(shift)' -- blib/script/convert0.6.README
cp bin/convert0.8.README blib/script/convert0.8.README
"/home/mojolicious/perl5/perlbrew/perls/perl-5.21.8/bin/perl5.21.8" -MExtUtils::MY -e 'MY->fixin(shift)' -- blib/script/convert0.8.README
cp bin/convert0.6.pl blib/script/convert0.6.pl
"/home/mojolicious/perl5/perlbrew/perls/perl-5.21.8/bin/perl5.21.8" -MExtUtils::MY -e 'MY->fixin(shift)' -- blib/script/convert0.6.pl
Manifying 31 pod documents
PERL_DL_NONLAZY=1 "/home/mojolicious/perl5/perlbrew/perls/perl-5.21.8/bin/perl5.21.8" "-MExtUtils::Command::MM" "-MTest::Harness" "-e" "undef *Test::Harness::Switches; test_harness(0, 'blib/lib', 'blib/arch')" t/*.t

# Versions for all modules listed in MYMETA.json (including optional ones):
# 
# === Configure Requires ===
# 
#     Module              Want Have
#     ------------------- ---- ----
#     ExtUtils::MakeMaker  any 7.04
# 
# === Build Requires ===
# 
#     Module              Want Have
#     ------------------- ---- ----
#     ExtUtils::MakeMaker  any 7.04
# 
# === Test Requires ===
# 
#     Module              Want         Have
#     ------------------- ---- ------------
#     ExtUtils::MakeMaker  any         7.04
#     File::Spec           0.8         3.53
#     Test::Deep           any        0.115
#     Test::More          0.88 1.301001_097
# 
# === Test Recommends ===
# 
#     Module         Want     Have
#     ---------- -------- --------
#     CPAN::Meta 2.120900 2.143240
# 
# === Runtime Requires ===
# 
#     Module           Want Have
#     ---------------- ---- ----
#     CGI              2.46 4.13
#     Cache::Cache     1.00 1.08
#     Class::Container 0.07 0.12
#     Exception::Class 1.15 1.39
#     File::Spec        0.8 3.53
#     HTML::Entities    any 3.69
#     Log::Any         0.08 1.03
#     Params::Validate 0.70 1.18
#     Scalar::Util     1.01 1.41
# 
t/00-report-prereqs.t ......... ok
t/01-syntax.t ................. ok
t/01a-comp-calls.t ............ ok
t/02-sections.t ............... ok
t/02a-filter.t ................ ok
t/04-misc.t ................... ok
t/05-request.t ................ ok
t/05a-stack-corruption.t ...... ok
t/06-compiler.t ............... ok
t/06a-compiler_obj.t .......... ok
t/06b-compiler-named-subs.t ... ok
t/06c-compiler-spaces-path.t .. ok
t/07-interp.t ................. ok
t/07a-interp-mcr.t ............ ok
t/07b-interp-static-source.t .. ok
t/09-component.t .............. ok
t/09a-comp_content.t .......... ok
t/10-cache.t .................. ok
t/10a-cache-1.0x.t ............ ok
t/10b-cache-chi.t ............. skipped: CHI 0.21+ is not installed
t/11-inherit.t ................ ok
t/12-taint.t .................. ok
t/13-errors.t ................. ok
t/14-cgi.t .................... ok
t/14a-fake_apache.t ........... ok
t/15-subclass.t ............... ok
t/17-print.t .................. ok
t/18-leak.t ................... ok
t/19-subrequest.t ............. ok
t/20-plugins.t ................ ok
t/21-escapes.t ................ ok
t/22-path-security.t .......... ok
t/23-leak2.t .................. skipped: These tests require Test::Memory::Cycle to run.
t/24-tools.t .................. ok
t/25-flush-in-content.t ....... ok
t/25-log.t .................... ok
t/author-no-tabs.t ............ skipped: these tests are for testing by the author
t/author-pod-spell.t .......... skipped: these tests are for testing by the author
t/release-pod-syntax.t ........ skipped: these tests are for release candidate testing
All tests successful.
Files=39, Tests=515, 27 wallclock secs ( 0.18 usr  0.06 sys +  6.95 cusr  1.51 csys =  8.70 CPU)
Result: PASS

------------------------------
PREREQUISITES
------------------------------

Prerequisite modules loaded:

    No requirements found

------------------------------
ENVIRONMENT AND OTHER CONTEXT
------------------------------

Environment variables:

    LANG = de_DE.UTF-8
    PATH = /home/mojolicious/perl5/perlbrew/bin:/home/mojolicious/perl5/perlbrew/perls/perl-5.20.1/bin:/usr/local/bin:/usr/bin:/bin:/usr/local/games:/usr/games
    PERLBREW_BASHRC_VERSION = 0.71
    PERLBREW_HOME = /home/mojolicious/.perlbrew
    PERLBREW_MANPATH = /home/mojolicious/perl5/perlbrew/perls/perl-5.20.1/man
    PERLBREW_PATH = /home/mojolicious/perl5/perlbrew/bin:/home/mojolicious/perl5/perlbrew/perls/perl-5.20.1/bin
    PERLBREW_PERL = perl-5.20.1
    PERLBREW_ROOT = /home/mojolicious/perl5/perlbrew
    PERLBREW_VERSION = 0.71
    SHELL = /bin/sh
    TERM = xterm

Perl special variables (and OS-specific diagnostics, for MSWin32):

    EGID = 1019 1019
    EUID = 1019
    EXECUTABLE_NAME = /home/mojolicious/perl5/perlbrew/perls/perl-5.20.1/bin/perl
    GID = 1019 1019
    UID = 1019

Perl module toolchain versions installed:

    Module              Have    
    ------------------- --------
    CPAN                2.05    
    CPAN::Meta          2.143240
    Cwd                 3.48    
    ExtUtils::CBuilder  0.280217
    ExtUtils::Command   1.18    
    ExtUtils::Install   1.67    
    ExtUtils::MakeMaker 6.98    
    ExtUtils::Manifest  1.63    
    ExtUtils::ParseXS   3.24    
    File::Spec          3.48    
    JSON                2.90    
    JSON::PP            2.27203 
    Module::Build       0.4210  
    Module::Signature   n/a     
    Parse::CPAN::Meta   1.4414  
    Test::Harness       3.30    
    Test::More          1.001014
    YAML                n/a     
    YAML::Syck          n/a     
    version             0.9909  


--

Summary of my perl5 (revision 5 version 20 subversion 1) configuration:
   
  Platform:
    osname=linux, osvers=2.6.18-028stab101.1, archname=x86_64-linux
    uname='linux lvps83-169-36-161.dedicated.hosteurope.de 2.6.18-028stab101.1 #1 smp sun jun 24 19:50:48 msd 2012 x86_64 gnulinux '
    config_args='-de -Dprefix=/home/mojolicious/perl5/perlbrew/perls/perl-5.20.1 -Aeval:scriptdir=/home/mojolicious/perl5/perlbrew/perls/perl-5.20.1/bin'
    hint=recommended, useposix=true, d_sigaction=define
    useithreads=undef, usemultiplicity=undef
    use64bitint=define, use64bitall=define, uselongdouble=undef
    usemymalloc=n, bincompat5005=undef
  Compiler:
    cc='cc', ccflags ='-fwrapv -fno-strict-aliasing -pipe -fstack-protector -I/usr/local/include -D_LARGEFILE_SOURCE -D_FILE_OFFSET_BITS=64',
    optimize='-O2',
    cppflags='-fwrapv -fno-strict-aliasing -pipe -fstack-protector -I/usr/local/include'
    ccversion='', gccversion='4.4.3', gccosandvers=''
    intsize=4, longsize=8, ptrsize=8, doublesize=8, byteorder=12345678
    d_longlong=define, longlongsize=8, d_longdbl=define, longdblsize=16
    ivtype='long', ivsize=8, nvtype='double', nvsize=8, Off_t='off_t', lseeksize=8
    alignbytes=8, prototype=define
  Linker and Libraries:
    ld='cc', ldflags =' -fstack-protector -L/usr/local/lib'
    libpth=/usr/local/lib /usr/lib/gcc/x86_64-linux-gnu/4.4.3/include-fixed /usr/lib /lib/../lib /usr/lib/../lib /lib /lib64 /usr/lib64
    libs=-lnsl -ldl -lm -lcrypt -lutil -lc
    perllibs=-lnsl -ldl -lm -lcrypt -lutil -lc
    libc=libc-2.11.1.so, so=so, useshrplib=false, libperl=libperl.a
    gnulibc_version='2.11.1'
  Dynamic Linking:
    dlsrc=dl_dlopen.xs, dlext=so, d_dlsymun=undef, ccdlflags='-Wl,-E'
    cccdlflags='-fPIC', lddlflags='-shared -O2 -L/usr/local/lib -fstack-protector'


Characteristics of this binary (from libperl): 
  Compile-time options: HAS_TIMES PERLIO_LAYERS PERL_DONT_CREATE_GVSV
                        PERL_HASH_FUNC_ONE_AT_A_TIME_HARD PERL_MALLOC_WRAP
                        PERL_NEW_COPY_ON_WRITE PERL_PRESERVE_IVUV
                        USE_64_BIT_ALL USE_64_BIT_INT USE_LARGE_FILES
                        USE_LOCALE USE_LOCALE_COLLATE USE_LOCALE_CTYPE
                        USE_LOCALE_NUMERIC USE_PERLIO USE_PERL_ATOF
  Locally applied patches:
	Devel::PatchPerl 1.30
  Built under linux
  Compiled at Jan  3 2015 16:39:48
  %ENV:
    PERLBREW_BASHRC_VERSION="0.71"
    PERLBREW_HOME="/home/mojolicious/.perlbrew"
    PERLBREW_MANPATH="/home/mojolicious/perl5/perlbrew/perls/perl-5.20.1/man"
    PERLBREW_PATH="/home/mojolicious/perl5/perlbrew/bin:/home/mojolicious/perl5/perlbrew/perls/perl-5.20.1/bin"
    PERLBREW_PERL="perl-5.20.1"
    PERLBREW_ROOT="/home/mojolicious/perl5/perlbrew"
    PERLBREW_VERSION="0.71"
  @INC:
    /home/mojolicious/perl5/perlbrew/perls/perl-5.20.1/lib/site_perl/5.20.1/x86_64-linux
    /home/mojolicious/perl5/perlbrew/perls/perl-5.20.1/lib/site_perl/5.20.1
    /home/mojolicious/perl5/perlbrew/perls/perl-5.20.1/lib/5.20.1/x86_64-linux
    /home/mojolicious/perl5/perlbrew/perls/perl-5.20.1/lib/5.20.1
    .