HTML-Scrubber v0.17 Perl 5 v5.8.6 x86_64-linux-thread-multi

Status
Pass
From
Nigel Horne
Dist
HTML-Scrubber v0.17
Platform
Perl 5 v5.8.6 x86_64-linux-thread-multi
Date
2018-02-15 13:13:29
ID
038c26a6-1252-11e8-8a48-805ac3c617eb
This distribution has been tested as part of the CPAN Testers
project, supporting the Perl programming language.  See
http://wiki.cpantesters.org/ for more information or email
questions to cpan-testers-discuss@perl.org


--
Dear Nigel Metheringham,

This is a computer-generated report for HTML-Scrubber-0.17
on perl 5.8.6, created by CPAN-Reporter-1.2018.

Thank you for uploading your work to CPAN.  Congratulations!
All tests were successful.

Sections of this report:

    * Tester comments
    * Program output
    * Prerequisites
    * Environment and other context

------------------------------
TESTER COMMENTS
------------------------------

Additional comments from tester:

this report is from an automated smoke testing program
and was not reviewed by a human for accuracy

------------------------------
PROGRAM OUTPUT
------------------------------

Output from '/usr/bin/make test':

PERL_DL_NONLAZY=1 "/home/njh/perl5/perlbrew/perls/perl-5.8.6/bin/perl" "-MExtUtils::Command::MM" "-MTest::Harness" "-e" "undef *Test::Harness::Switches; test_harness(0, 'blib/lib', 'blib/arch')" t/*.t
t/02_basic.t .................... ok
# Testing HTML::Scrubber 0.17, Perl 5.008006, /home/njh/perl5/perlbrew/perls/perl-5.8.6/bin/perl
t/01_use.t ...................... ok
t/03_more.t ..................... ok
t/04_style_script.t ............. ok
t/05_pi_comment.t ............... ok
t/07_booleans.t ................. ok
t/08_cb_attrs.t ................. ok
t/06_scrub_file.t ............... ok
t/09_no_scrub_warnings.t ........ ok
t/09_memory_cycle.t ............. ok
# 
# Versions for all modules listed in MYMETA.json (including optional ones):
# 
# === Configure Requires ===
# 
#     Module              Want Have
#     ------------------- ---- ----
#     ExtUtils::MakeMaker  any 7.24
# 
# === Build Requires ===
# 
#     Module              Want Have
#     ------------------- ---- ----
#     ExtUtils::MakeMaker  any 7.24
# 
# === Test Requires ===
# 
#     Module                   Want     Have
#     ------------------------ ---- --------
#     ExtUtils::MakeMaker       any     7.24
#     File::Spec                any     3.40
#     File::Temp                any     0.23
#     Pod::Coverage::TrustPod   any 0.100003
#     Test                      any     1.25
#     Test::CPAN::Meta          any     0.25
#     Test::Differences         any     0.64
#     Test::EOL                 any     2.00
#     Test::Kwalitee           1.21     1.27
#     Test::Memory::Cycle       any     1.06
#     Test::More               0.88 1.302120
#     Test::NoTabs              any     2.00
#     Test::PAUSE::Permissions  any  missing
#     Test::Pod                1.41     1.51
#     Test::Pod::Coverage      1.08     1.10
#     utf8                      any     1.04
# 
# === Test Recommends ===
# 
#     Module         Want     Have
#     ---------- -------- --------
#     CPAN::Meta 2.120900 2.150005
# 
# === Runtime Requires ===
# 
#     Module         Want Have
#     -------------- ---- ----
#     HTML::Entities  any 3.69
#     HTML::Parser   3.47 3.72
#     List::Util      any 1.49
#     Scalar::Util    any 1.49
#     strict          any 1.03
#     warnings        any 1.03
# 
# 
# *** WARNING WARNING WARNING WARNING WARNING WARNING WARNING WARNING ***
# 
# The following REQUIRED prerequisites were not satisfied:
# 
# Test::PAUSE::Permissions is not installed (any version required)
# 
t/00-report-prereqs.t ........... ok
t/jvn53973084.t ................. ok
t/rt25477_self_closing.t ........ ok
t/rt19063_xhtml.t ............... ok
t/rt120384_remove_false_tags.t .. ok
t/rt72659_utf8.t ................ ok
t/rt79044_multiple.t ............ ok
All tests successful.
Files=17, Tests=172,  1 wallclock secs ( 0.06 usr  0.02 sys +  0.84 cusr  0.27 csys =  1.19 CPU)
Result: PASS

------------------------------
PREREQUISITES
------------------------------

Prerequisite modules loaded:

requires:

    Module                   Need  Have    
    ------------------------ ----- --------
    HTML::Entities           0     3.69    
    HTML::Parser             3.47  3.72    
    List::Util               0     1.49    
    perl                     5.008 5.008006
    Scalar::Util             0     1.49    
    strict                   0     1.03    
    warnings                 0     1.03    

build_requires:

    Module                   Need  Have    
    ------------------------ ----- --------
    ExtUtils::MakeMaker      0     7.24    
    File::Spec               0     3.40    
    File::Temp               0     0.23    
    Pod::Coverage::TrustPod  0     0.100003
    Test                     0     1.25    
    Test::CPAN::Meta         0     0.25    
    Test::Differences        0     0.64    
    Test::EOL                0     2.00    
    Test::Kwalitee           1.21  1.27    
    Test::Memory::Cycle      0     1.06    
    Test::More               0.88  1.302120
    Test::NoTabs             0     2.00    
  ! Test::PAUSE::Permissions 0     n/a     
    Test::Pod                1.41  1.51    
    Test::Pod::Coverage      1.08  1.10    
    utf8                     0     1.04    

configure_requires:

    Module                   Need  Have    
    ------------------------ ----- --------
    ExtUtils::MakeMaker      0     7.24    


------------------------------
ENVIRONMENT AND OTHER CONTEXT
------------------------------

Environment variables:

    AUTOMATED_TESTING = 1
    HARNESS_OPTIONS = j4
    LANG = en_GB.UTF-8
    LANGUAGE = en_GB:en
    PATH = /home/njh/perl5/perlbrew/bin:/home/njh/perl5/perlbrew/perls/perl-5.8.6/bin:src/njh/smoker/bin:/usr/bin:/bin
    PERL5LIB = /home/njh/.cpan/build/Parse-PMFile-0.41-4/blib/arch:/home/njh/.cpan/build/Parse-PMFile-0.41-4/blib/lib:/home/njh/.cpan/build/Config-Identity-0.0019-4/blib/arch:/home/njh/.cpan/build/Config-Identity-0.0019-4/blib/lib:/home/njh/.cpan/build/ExtUtils-MakeMaker-CPANfile-0.08-2/blib/arch:/home/njh/.cpan/build/ExtUtils-MakeMaker-CPANfile-0.08-2/blib/lib:/home/njh/.cpan/build/Test-NoTabs-2.00-4/blib/arch:/home/njh/.cpan/build/Test-NoTabs-2.00-4/blib/lib:/home/njh/.cpan/build/Test-EOL-2.00-4/blib/arch:/home/njh/.cpan/build/Test-EOL-2.00-4/blib/lib:/home/njh/.cpan/build/Test-CPAN-Meta-0.25-12/blib/arch:/home/njh/.cpan/build/Test-CPAN-Meta-0.25-12/blib/lib:/home/njh/.cpan/build/Pod-Coverage-TrustPod-0.100003-11/blib/arch:/home/njh/.cpan/build/Pod-Coverage-TrustPod-0.100003-11/blib/lib:/home/njh/.cpan/build/Pod-Eventual-0.094001-11/blib/arch:/home/njh/.cpan/build/Pod-Eventual-0.094001-11/blib/lib:/home/njh/.cpan/build/Mixin-Linewise-0.108-11/blib/arch:/home/njh/.cpan/build/Mixin-Linewise-0.108-11/blib/lib:/home/njh/.cpan/build/PerlIO-utf8_strict-0.007-10/blib/arch:/home/njh/.cpan/build/PerlIO-utf8_strict-0.007-10/blib/lib:/home/njh/.cpan/build/Alien-Tidyp-v1.4.7-4/blib/arch:/home/njh/.cpan/build/Alien-Tidyp-v1.4.7-4/blib/lib:/home/njh/.cpan/build/Archive-Extract-0.80-14/blib/arch:/home/njh/.cpan/build/Archive-Extract-0.80-14/blib/lib:/home/njh/.cpan/build/Module-Load-Conditional-0.68-22/blib/arch:/home/njh/.cpan/build/Module-Load-Conditional-0.68-22/blib/lib:/home/njh/.cpan/build/Module-Load-0.32-18/blib/arch:/home/njh/.cpan/build/Module-Load-0.32-18/blib/lib
    PERL5OPT = 
    PERL5_CPANPLUS_IS_RUNNING = 5386
    PERL5_CPAN_IS_RUNNING = 5386
    PERLBREW_BASHRC_VERSION = 0.80
    PERLBREW_HOME = /home/njh/.perlbrew
    PERLBREW_MANPATH = /home/njh/perl5/perlbrew/perls/perl-5.8.6/man
    PERLBREW_PATH = /home/njh/perl5/perlbrew/bin:/home/njh/perl5/perlbrew/perls/perl-5.8.6/bin
    PERLBREW_PERL = perl-5.8.6
    PERLBREW_ROOT = /home/njh/perl5/perlbrew
    PERLBREW_VERSION = 0.80
    SHELL = /bin/sh

Perl special variables (and OS-specific diagnostics, for MSWin32):

    $^X = /home/njh/perl5/perlbrew/perls/perl-5.8.6/bin/perl
    $UID/$EUID = 1000 / 1000
    $GID = 1000 1000 112 108 46 44 30 29 25 24 4
    $EGID = 1000 1000 112 108 46 44 30 29 25 24 4

Perl module toolchain versions installed:

    Module              Have    
    ------------------- --------
    CPAN                2.16    
    CPAN::Meta          2.150005
    Cwd                 3.40    
    ExtUtils::CBuilder  0.280216
    ExtUtils::Command   7.24    
    ExtUtils::Install   1.54    
    ExtUtils::MakeMaker 7.24    
    ExtUtils::Manifest  1.70    
    ExtUtils::ParseXS   3.30    
    File::Spec          3.40    
    JSON                2.93    
    JSON::PP            2.27400 
    Module::Build       0.4210  
    Module::Signature   n/a     
    Parse::CPAN::Meta   1.4422  
    Test::Harness       3.36    
    Test::More          1.302120
    YAML                n/a     
    YAML::Syck          1.30    
    version             0.88    


--

Summary of my perl5 (revision 5 version 8 subversion 6) configuration:
  Platform:
    osname=linux, osvers=3.2.0-4-amd64, archname=x86_64-linux-thread-multi
    uname='linux nigelhorne.force9.co.uk 3.2.0-4-amd64 #1 smp debian 3.2.32-1 x86_64 gnulinux '
    config_args='-de -Dprefix=/home/njh/perl5/perlbrew/perls/perl-5.8.6 -Duseithreads -Dusemultiplicity -Accflags=-O2 -W -Wformat=2 -Wswitch -Wshadow -Wwrite-strings -Wuninitialized -Wall -pipe -mtune=native -march=native -fomit-frame-pointer -mfpmath=sse -pedantic -D_FORTIFY_SOURCE=2 -Wpointer-arith -Wstrict-prototypes -fstack-protector -Wstack-protector -Wextra -Wbad-function-cast -Wcast-align -Wcast-qual -Wdisabled-optimization -Wendif-labels -Wfloat-equal -Wformat-nonliteral -Winline -Wmissing-declarations -Wmissing-prototypes -Wnested-externs -Wpointer-arith -Wundef -Wformat-security -Aeval:scriptdir=/home/njh/perl5/perlbrew/perls/perl-5.8.6/bin'
    hint=recommended, useposix=true, d_sigaction=define
    usethreads=define use5005threads=undef useithreads=define usemultiplicity=define
    useperlio=define d_sfio=undef uselargefiles=define usesocks=undef
    use64bitint=define use64bitall=define uselongdouble=undef
    usemymalloc=n, bincompat5005=undef
  Compiler:
    cc='cc', ccflags ='-D_REENTRANT -D_GNU_SOURCE -O2 -W -Wformat=2 -Wswitch -Wshadow -Wwrite-strings -Wuninitialized -Wall -pipe -mtune=native -march=native -fomit-frame-pointer -mfpmath=sse -pedantic -D_FORTIFY_SOURCE=2 -Wpointer-arith -Wstrict-prototypes -fstack-protector -Wstack-protector -Wextra -Wbad-function-cast -Wcast-align -Wcast-qual -Wdisabled-optimization -Wendif-labels -Wfloat-equal -Wformat-nonliteral -Winline -Wmissing-declarations -Wmissing-prototypes -Wnested-externs -Wpointer-arith -Wundef -Wformat-security -fno-strict-aliasing -I/usr/local/include -D_LARGEFILE_SOURCE -D_FILE_OFFSET_BITS=64',
    optimize='-O2',
    cppflags='-D_REENTRANT -D_GNU_SOURCE -O2 -W -Wformat=2 -Wswitch -Wshadow -Wwrite-strings -Wuninitialized -Wall -pipe -mtune=native -march=native -fomit-frame-pointer -mfpmath=sse -pedantic -D_FORTIFY_SOURCE=2 -Wpointer-arith -Wstrict-prototypes -fstack-protector -Wstack-protector -Wextra -Wbad-function-cast -Wcast-align -Wcast-qual -Wdisabled-optimization -Wendif-labels -Wfloat-equal -Wformat-nonliteral -Winline -Wmissing-declarations -Wmissing-prototypes -Wnested-externs -Wpointer-arith -Wundef -Wformat-security -fno-strict-aliasing -I/usr/local/include'
    ccversion='', gccversion='4.7.2', gccosandvers=''
    intsize=4, longsize=8, ptrsize=8, doublesize=8, byteorder=12345678
    d_longlong=define, longlongsize=8, d_longdbl=define, longdblsize=16
    ivtype='long', ivsize=8, nvtype='double', nvsize=8, Off_t='off_t', lseeksize=8
    alignbytes=8, prototype=define
  Linker and Libraries:
    ld='cc', ldflags =' -L/usr/local/lib'
    libpth=/usr/local/lib /lib/x86_64-linux-gnu /lib/../lib /usr/lib/x86_64-linux-gnu /usr/lib/../lib /lib /usr/lib
    libs=-lnsl -lgdbm -ldb -ldl -lm -lcrypt -lutil -lpthread -lc -lgdbm_compat
    perllibs=-lnsl -ldl -lm -lcrypt -lutil -lpthread -lc -lgdbm_compat
    libc=, so=so, useshrplib=false, libperl=libperl.a
    gnulibc_version='2.13'
  Dynamic Linking:
    dlsrc=dl_dlopen.xs, dlext=so, d_dlsymun=undef, ccdlflags='-Wl,-E'
    cccdlflags='-fpic', lddlflags='-shared -L/usr/local/lib'


Characteristics of this binary (from libperl): 
  Compile-time options: MULTIPLICITY USE_ITHREADS USE_64_BIT_INT USE_64_BIT_ALL USE_LARGE_FILES PERL_IMPLICIT_CONTEXT
  Built under linux
  Compiled at Mar  5 2013 01:10:40
  %ENV:
    PERL5LIB="/home/njh/.cpan/build/Parse-PMFile-0.41-4/blib/arch:/home/njh/.cpan/build/Parse-PMFile-0.41-4/blib/lib:/home/njh/.cpan/build/Config-Identity-0.0019-4/blib/arch:/home/njh/.cpan/build/Config-Identity-0.0019-4/blib/lib:/home/njh/.cpan/build/ExtUtils-MakeMaker-CPANfile-0.08-2/blib/arch:/home/njh/.cpan/build/ExtUtils-MakeMaker-CPANfile-0.08-2/blib/lib:/home/njh/.cpan/build/Test-NoTabs-2.00-4/blib/arch:/home/njh/.cpan/build/Test-NoTabs-2.00-4/blib/lib:/home/njh/.cpan/build/Test-EOL-2.00-4/blib/arch:/home/njh/.cpan/build/Test-EOL-2.00-4/blib/lib:/home/njh/.cpan/build/Test-CPAN-Meta-0.25-12/blib/arch:/home/njh/.cpan/build/Test-CPAN-Meta-0.25-12/blib/lib:/home/njh/.cpan/build/Pod-Coverage-TrustPod-0.100003-11/blib/arch:/home/njh/.cpan/build/Pod-Coverage-TrustPod-0.100003-11/blib/lib:/home/njh/.cpan/build/Pod-Eventual-0.094001-11/blib/arch:/home/njh/.cpan/build/Pod-Eventual-0.094001-11/blib/lib:/home/njh/.cpan/build/Mixin-Linewise-0.108-11/blib/arch:/home/njh/.cpan/build/Mixin-Linewise-0.108-11/blib/lib:/home/njh/.cpan/build/PerlIO-utf8_strict-0.007-10/blib/arch:/home/njh/.cpan/build/PerlIO-utf8_strict-0.007-10/blib/lib:/home/njh/.cpan/build/Alien-Tidyp-v1.4.7-4/blib/arch:/home/njh/.cpan/build/Alien-Tidyp-v1.4.7-4/blib/lib:/home/njh/.cpan/build/Archive-Extract-0.80-14/blib/arch:/home/njh/.cpan/build/Archive-Extract-0.80-14/blib/lib:/home/njh/.cpan/build/Module-Load-Conditional-0.68-22/blib/arch:/home/njh/.cpan/build/Module-Load-Conditional-0.68-22/blib/lib:/home/njh/.cpan/build/Module-Load-0.32-18/blib/arch:/home/njh/.cpan/build/Module-Load-0.32-18/blib/lib"
    PERL5OPT=""
    PERL5_CPANPLUS_IS_RUNNING="5386"
    PERL5_CPAN_IS_RUNNING="5386"
    PERLBREW_BASHRC_VERSION="0.80"
    PERLBREW_HOME="/home/njh/.perlbrew"
    PERLBREW_MANPATH="/home/njh/perl5/perlbrew/perls/perl-5.8.6/man"
    PERLBREW_PATH="/home/njh/perl5/perlbrew/bin:/home/njh/perl5/perlbrew/perls/perl-5.8.6/bin"
    PERLBREW_PERL="perl-5.8.6"
    PERLBREW_ROOT="/home/njh/perl5/perlbrew"
    PERLBREW_VERSION="0.80"
  @INC:
    /home/njh/.cpan/build/Parse-PMFile-0.41-4/blib/arch
    /home/njh/.cpan/build/Parse-PMFile-0.41-4/blib/lib
    /home/njh/.cpan/build/Config-Identity-0.0019-4/blib/arch
    /home/njh/.cpan/build/Config-Identity-0.0019-4/blib/lib
    /home/njh/.cpan/build/ExtUtils-MakeMaker-CPANfile-0.08-2/blib/arch
    /home/njh/.cpan/build/ExtUtils-MakeMaker-CPANfile-0.08-2/blib/lib
    /home/njh/.cpan/build/Test-NoTabs-2.00-4/blib/arch
    /home/njh/.cpan/build/Test-NoTabs-2.00-4/blib/lib
    /home/njh/.cpan/build/Test-EOL-2.00-4/blib/arch
    /home/njh/.cpan/build/Test-EOL-2.00-4/blib/lib
    /home/njh/.cpan/build/Test-CPAN-Meta-0.25-12/blib/arch
    /home/njh/.cpan/build/Test-CPAN-Meta-0.25-12/blib/lib
    /home/njh/.cpan/build/Pod-Coverage-TrustPod-0.100003-11/blib/arch
    /home/njh/.cpan/build/Pod-Coverage-TrustPod-0.100003-11/blib/lib
    /home/njh/.cpan/build/Pod-Eventual-0.094001-11/blib/arch
    /home/njh/.cpan/build/Pod-Eventual-0.094001-11/blib/lib
    /home/njh/.cpan/build/Mixin-Linewise-0.108-11/blib/arch
    /home/njh/.cpan/build/Mixin-Linewise-0.108-11/blib/lib
    /home/njh/.cpan/build/PerlIO-utf8_strict-0.007-10/blib/arch
    /home/njh/.cpan/build/PerlIO-utf8_strict-0.007-10/blib/lib
    /home/njh/.cpan/build/Alien-Tidyp-v1.4.7-4/blib/arch
    /home/njh/.cpan/build/Alien-Tidyp-v1.4.7-4/blib/lib
    /home/njh/.cpan/build/Archive-Extract-0.80-14/blib/arch
    /home/njh/.cpan/build/Archive-Extract-0.80-14/blib/lib
    /home/njh/.cpan/build/Module-Load-Conditional-0.68-22/blib/arch
    /home/njh/.cpan/build/Module-Load-Conditional-0.68-22/blib/lib
    /home/njh/.cpan/build/Module-Load-0.32-18/blib/arch
    /home/njh/.cpan/build/Module-Load-0.32-18/blib/lib
    /home/njh/perl5/perlbrew/perls/perl-5.8.6/lib/5.8.6/x86_64-linux-thread-multi
    /home/njh/perl5/perlbrew/perls/perl-5.8.6/lib/5.8.6
    /home/njh/perl5/perlbrew/perls/perl-5.8.6/lib/site_perl/5.8.6/x86_64-linux-thread-multi
    /home/njh/perl5/perlbrew/perls/perl-5.8.6/lib/site_perl/5.8.6
    /home/njh/perl5/perlbrew/perls/perl-5.8.6/lib/site_perl
    .