Path-Dispatcher-Declarative v0.03 Perl 5 v5.16.2 i86pc-solaris-64int
- Status
- Pass
- From
- Jost Krieger
- Dist
-
Path-Dispatcher-Declarative v0.03
- Platform
- Perl 5 v5.16.2 i86pc-solaris-64int
- Date
- 2013-01-07 09:02:50
- ID
- 038fe8ee-58a9-11e2-a3a4-2e88ef1db04b
This distribution has been tested as part of the CPAN Testers
project, supporting the Perl programming language. See
http://wiki.cpantesters.org/ for more information or email
questions to cpan-testers-discuss@perl.org
--
Dear Shawn M Moore,
This is a computer-generated report for Path-Dispatcher-Declarative-0.03
on perl 5.16.2, created by CPAN-Reporter-1.2009.
Thank you for uploading your work to CPAN. Congratulations!
All tests were successful.
Sections of this report:
* Tester comments
* Program output
* Prerequisites
* Environment and other context
------------------------------
TESTER COMMENTS
------------------------------
Additional comments from tester:
this report is from an automated smoke testing program
and was not reviewed by a human for accuracy
------------------------------
PROGRAM OUTPUT
------------------------------
Output from '/usr/local/bin/make test':
PERL_DL_NONLAZY=1 /export/home/cpant4/perl5/perlbrew/perls/perl-5.16.2/bin/perl5.16.2 "-MExtUtils::Command::MM" "-e" "test_harness(0, 'inc', 'blib/lib', 'blib/arch')" t/*.t
t/016-more-under.t ............... ok
t/020-chain.t .................... ok
t/021-declarative-defaults.t ..... ok
t/100-declarative.t .............. ok
t/101-subclass.t ................. ok
t/102-abort.t .................... ok
t/103-input.t .................... ok
t/104-config.t ................... ok
t/105-empty.t .................... ok
t/106-metadata.t ................. ok
t/200-under-next_rule.t .......... ok
t/300-complete-simple.t .......... ok
t/301-complete-complex.t ......... ok
t/302-complete-delimiter.t ....... ok
t/303-complete-alternation.t ..... ok
t/304-complete-enum.t ............ ok
t/800-cb-slash-path-delimiter.t .. ok
t/801-cb-chaining.t .............. ok
All tests successful.
Files=18, Tests=171, 3 wallclock secs ( 0.25 usr 0.14 sys + 2.54 cusr 0.54 csys = 3.47 CPU)
Result: PASS
------------------------------
PREREQUISITES
------------------------------
Prerequisite modules loaded:
requires:
Module Need Have
------------------- -------- --------
Any::Moose 0 0.20
Path::Dispatcher 1.02 1.04
perl 5.008001 5.016002
Sub::Exporter 0 0.984
build_requires:
Module Need Have
------------------- -------- --------
ExtUtils::MakeMaker 6.42 6.64
configure_requires:
Module Need Have
------------------- -------- --------
ExtUtils::MakeMaker 6.42 6.64
------------------------------
ENVIRONMENT AND OTHER CONTEXT
------------------------------
Environment variables:
AUTOMATED_TESTING = 1
LANG = C
LD_LIBRARY_PATH = /usr/local/lib:
PATH = /export/home/cpant4/perl5/perlbrew/bin:/export/home/cpant4/perl5/perlbrew/perls/perl-5.16.2/bin:/export/home/cpant4/perl5/bin:/usr/local/bin:/usr/bin
PERL5LIB = /export/home/cpant4/.cpan/build/Path-Dispatcher-1.04-Jvm2oR/blib/arch:/export/home/cpant4/.cpan/build/Path-Dispatcher-1.04-Jvm2oR/blib/lib
PERL5OPT =
PERL5_CPANPLUS_IS_RUNNING = 5030
PERL5_CPAN_IS_RUNNING = 5030
PERL5_CPAN_IS_RUNNING_IN_RECURSION = 11912,5030
PERLBREW_BASHRC_VERSION = 0.56
PERLBREW_HOME = /export/home/cpant4/.perlbrew
PERLBREW_MANPATH = /export/home/cpant4/perl5/perlbrew/perls/perl-5.16.2/man
PERLBREW_PATH = /export/home/cpant4/perl5/perlbrew/bin:/export/home/cpant4/perl5/perlbrew/perls/perl-5.16.2/bin
PERLBREW_PERL = perl-5.16.2
PERLBREW_ROOT = /export/home/cpant4/perl5/perlbrew
PERLBREW_SKIP_INIT = 1
PERLBREW_VERSION = 0.56
PERL_CR_SMOKER_CURRENT = Getopt-Chain-0.017
PERL_EXTUTILS_AUTOINSTALL = --defaultdeps
PERL_MM_USE_DEFAULT = 1
SHELL = /bin/bash
TERM = xterm
Perl special variables (and OS-specific diagnostics, for MSWin32):
$^X = /export/home/cpant4/perl5/perlbrew/perls/perl-5.16.2/bin/perl5.16.2
$UID/$EUID = 104 / 104
$GID = 1 1
$EGID = 1 1
Perl module toolchain versions installed:
Module Have
------------------- --------
CPAN 1.9800
CPAN::Meta 2.120921
Cwd 3.39_02
ExtUtils::CBuilder 0.280206
ExtUtils::Command 1.17
ExtUtils::Install 1.58
ExtUtils::MakeMaker 6.64
ExtUtils::Manifest 1.61
ExtUtils::ParseXS 3.18
File::Spec 3.39_02
JSON 2.53
JSON::PP 2.27200
Module::Build 0.4003
Module::Signature n/a
Parse::CPAN::Meta 1.4404
Test::Harness 3.25
Test::More 0.98
YAML 0.84
YAML::Syck 1.22
version 0.9901
--
Summary of my perl5 (revision 5 version 16 subversion 2) configuration:
Platform:
osname=solaris, osvers=2.10, archname=i86pc-solaris-64int
uname='sunos vmrz0046 5.10 generic_141445-09 i86pc i386 i86pc solaris '
config_args='-de -Dprefix=/export/home/cpant4/perl5/perlbrew/perls/perl-5.16.2 -Dcc=gcc -Duse64bitint -Dusedevel -Aeval:scriptdir=/export/home/cpant4/perl5/perlbrew/perls/perl-5.16.2/bin'
hint=recommended, useposix=true, d_sigaction=define
useithreads=undef, usemultiplicity=undef
useperlio=define, d_sfio=undef, uselargefiles=define, usesocks=undef
use64bitint=define, use64bitall=undef, uselongdouble=undef
usemymalloc=n, bincompat5005=undef
Compiler:
cc='gcc', ccflags ='-DPTR_IS_LONG -fno-strict-aliasing -pipe -I/usr/local/include -D_LARGEFILE_SOURCE -D_FILE_OFFSET_BITS=64 -DPERL_USE_SAFE_PUTENV',
optimize='-O',
cppflags='-DPTR_IS_LONG -fno-strict-aliasing -pipe -I/usr/local/include'
ccversion='', gccversion='3.4.6', gccosandvers='solaris2.10'
intsize=4, longsize=4, ptrsize=4, doublesize=8, byteorder=12345678
d_longlong=define, longlongsize=8, d_longdbl=define, longdblsize=12
ivtype='long long', ivsize=8, nvtype='double', nvsize=8, Off_t='off_t', lseeksize=8
alignbytes=4, prototype=define
Linker and Libraries:
ld='gcc', ldflags =' -L/usr/local/lib '
libpth=/usr/local/lib /usr/lib /usr/ccs/lib
libs=-lsocket -lnsl -lgdbm -ldl -lm -lc
perllibs=-lsocket -lnsl -ldl -lm -lc
libc=/lib/libc.so, so=so, useshrplib=false, libperl=libperl.a
gnulibc_version=''
Dynamic Linking:
dlsrc=dl_dlopen.xs, dlext=so, d_dlsymun=undef, ccdlflags=' '
cccdlflags='-fPIC', lddlflags='-G -L/usr/local/lib'
Characteristics of this binary (from libperl):
Compile-time options: HAS_TIMES PERLIO_LAYERS PERL_DONT_CREATE_GVSV
PERL_MALLOC_WRAP PERL_PRESERVE_IVUV PERL_USE_DEVEL
PERL_USE_SAFE_PUTENV USE_64_BIT_INT USE_LARGE_FILES
USE_LOCALE USE_LOCALE_COLLATE USE_LOCALE_CTYPE
USE_LOCALE_NUMERIC USE_PERLIO USE_PERL_ATOF
Built under solaris
Compiled at Nov 14 2012 20:00:07
%ENV:
PERL5LIB="/export/home/cpant4/.cpan/build/Path-Dispatcher-1.04-Jvm2oR/blib/arch:/export/home/cpant4/.cpan/build/Path-Dispatcher-1.04-Jvm2oR/blib/lib"
PERL5OPT=""
PERL5_CPANPLUS_IS_RUNNING="5030"
PERL5_CPAN_IS_RUNNING="5030"
PERL5_CPAN_IS_RUNNING_IN_RECURSION="11912,5030"
PERLBREW_BASHRC_VERSION="0.56"
PERLBREW_HOME="/export/home/cpant4/.perlbrew"
PERLBREW_MANPATH="/export/home/cpant4/perl5/perlbrew/perls/perl-5.16.2/man"
PERLBREW_PATH="/export/home/cpant4/perl5/perlbrew/bin:/export/home/cpant4/perl5/perlbrew/perls/perl-5.16.2/bin"
PERLBREW_PERL="perl-5.16.2"
PERLBREW_ROOT="/export/home/cpant4/perl5/perlbrew"
PERLBREW_SKIP_INIT="1"
PERLBREW_VERSION="0.56"
PERL_CR_SMOKER_CURRENT="Getopt-Chain-0.017"
PERL_EXTUTILS_AUTOINSTALL="--defaultdeps"
PERL_MM_USE_DEFAULT="1"
@INC:
/export/home/cpant4/.cpan/build/Path-Dispatcher-1.04-Jvm2oR/blib/arch
/export/home/cpant4/.cpan/build/Path-Dispatcher-1.04-Jvm2oR/blib/lib
/export/home/cpant4/perl5/perlbrew/perls/perl-5.16.2/lib/site_perl/5.16.2/i86pc-solaris-64int
/export/home/cpant4/perl5/perlbrew/perls/perl-5.16.2/lib/site_perl/5.16.2
/export/home/cpant4/perl5/perlbrew/perls/perl-5.16.2/lib/5.16.2/i86pc-solaris-64int
/export/home/cpant4/perl5/perlbrew/perls/perl-5.16.2/lib/5.16.2
.