Net-Statsd-Tiny vv0.3.1 Perl 5 v5.24.2 x86_64-linux

Status
Pass
From
Andreas J. König (ANDK)
Dist
Net-Statsd-Tiny vv0.3.1
Platform
Perl 5 v5.24.2 x86_64-linux
Date
2018-05-02 20:04:26
ID
03a42ebc-4e44-11e8-b2f4-b86dffdaa460
This distribution has been tested as part of the CPAN Testers
project, supporting the Perl programming language.  See
http://wiki.cpantesters.org/ for more information or email
questions to cpan-testers-discuss@perl.org


--
Dear Robert Rothenberg,

This is a computer-generated report for Net-Statsd-Tiny-v0.3.1
on perl 5.24.2, created by CPAN-Reporter-1.2018.

Thank you for uploading your work to CPAN.  Congratulations!
All tests were successful.

Sections of this report:

    * Tester comments
    * Program output
    * Prerequisites
    * Environment and other context

------------------------------
TESTER COMMENTS
------------------------------

Additional comments from tester:

this report is from an automated smoke testing program
and was not reviewed by a human for accuracy

------------------------------
PROGRAM OUTPUT
------------------------------

Output from '/usr/bin/make test':

PERL_DL_NONLAZY=1 "/home/sand/src/perl/repoperls/installed-perls/host/k93msid/v5.24.2/da1c/bin/perl" "-MExtUtils::Command::MM" "-MTest::Harness" "-e" "undef *Test::Harness::Switches; test_harness(0, 'blib/lib', 'blib/arch')" t/*.t
# 
# Versions for all modules listed in MYMETA.json (including optional ones):
# 
# === Configure Requires ===
# 
#     Module              Want    Have
#     ------------------- ---- -------
#     ExtUtils::MakeMaker  any 7.35_02
# 
# === Build Requires ===
# 
#     Module              Want    Have
#     ------------------- ---- -------
#     ExtUtils::MakeMaker  any 7.35_02
# 
# === Test Requires ===
# 
#     Module                Want     Have
#     --------------------- ---- --------
#     Devel::StrictMode      any    0.003
#     File::Spec             any     3.74
#     IO::Select             any  1.23_01
#     Module::Metadata       any 1.000031
#     Net::EmptyPort         any    undef
#     Test::More             any 1.302136
#     Test::Roo              any    1.004
#     Test::Roo::DataDriven  any   v0.3.1
#     Test::Roo::Role        any    1.004
#     Test::TCP             2.19     2.19
#     if                     any   0.0606
#     lib                    any     0.63
#     utf8                   any     1.19
# 
# === Test Recommends ===
# 
#     Module         Want     Have
#     ---------- -------- --------
#     CPAN::Meta 2.120900 2.150010
# 
# === Runtime Requires ===
# 
#     Module                Want Have
#     --------------------- ---- ----
#     Class::Accessor::Fast  any 0.51
#     IO::Socket            1.18 1.38
# 
t/00-report-prereqs.t ........ ok
t/01-basic.t ................. ok
t/author-critic.t ............ skipped: these tests are for testing by the author
t/author-eof.t ............... skipped: these tests are for testing by the author
t/author-eol.t ............... skipped: these tests are for testing by the author
t/author-no-tabs.t ........... skipped: these tests are for testing by the author
t/author-pod-coverage.t ...... skipped: these tests are for testing by the author
t/author-pod-syntax.t ........ skipped: these tests are for testing by the author
t/author-portability.t ....... skipped: these tests are for testing by the author
t/release-check-manifest.t ... skipped: these tests are for release candidate testing
t/release-fixme.t ............ skipped: these tests are for release candidate testing
t/release-kwalitee.t ......... skipped: these tests are for release candidate testing
t/release-minimum-version.t .. skipped: these tests are for release candidate testing
t/release-trailing-space.t ... skipped: these tests are for release candidate testing
All tests successful.
Files=14, Tests=25,  5 wallclock secs ( 0.04 usr  0.07 sys +  0.35 cusr  0.46 csys =  0.92 CPU)
Result: PASS

------------------------------
PREREQUISITES
------------------------------

Prerequisite modules loaded:

requires:

    Module                Need     Have    
    --------------------- -------- --------
    Class::Accessor::Fast 0        0.51    
    IO::Socket            1.18     1.38    
    perl                  5.010001 5.024002

build_requires:

    Module                Need     Have    
    --------------------- -------- --------
    Devel::StrictMode     0        0.003   
    ExtUtils::MakeMaker   0        7.35_02 
    File::Spec            0        3.74    
    if                    0        0.0606  
    IO::Select            0        1.23_01 
    lib                   0        0.63    
    Module::Metadata      0        1.000031
    Net::EmptyPort        0        0       
    Test::More            0        1.302136
    Test::Roo             0        1.004   
    Test::Roo::DataDriven 0        v0.3.1  
    Test::Roo::Role       0        1.004   
    Test::TCP             2.19     2.19    
    utf8                  0        1.19    

configure_requires:

    Module                Need     Have    
    --------------------- -------- --------
    ExtUtils::MakeMaker   0        7.35_02 


------------------------------
ENVIRONMENT AND OTHER CONTEXT
------------------------------

Environment variables:

    AUTOMATED_TESTING = 1
    LANG = en_US.UTF-8
    PATH = /home/sand/bin:/usr/local/bin:/usr/bin:/bin:/usr/games:/usr/local/perl/bin:/usr/X11/bin:/sbin:/usr/sbin
    PERL5LIB = 
    PERL5OPT = 
    PERL5_CPANPLUS_IS_RUNNING = 24103
    PERL5_CPAN_IS_RUNNING = 24103
    PERL_CANARY_STABILITY_NOPROMPT = 1
    PERL_MM_USE_DEFAULT = 1
    PERL_USE_UNSAFE_INC = 1
    SHELL = /usr/bin/zsh
    TERM = screen

Perl special variables (and OS-specific diagnostics, for MSWin32):

    $^X = /home/sand/src/perl/repoperls/installed-perls/host/k93msid/v5.24.2/da1c/bin/perl
    $UID/$EUID = 1005 / 1005
    $GID = 1005 1005
    $EGID = 1005 1005

Perl module toolchain versions installed:

    Module              Have      
    ------------------- ----------
    CPAN                2.20      
    CPAN::Meta          2.150010  
    Cwd                 3.74      
    ExtUtils::CBuilder  0.280230  
    ExtUtils::Command   7.35_02   
    ExtUtils::Install   2.06      
    ExtUtils::MakeMaker 7.35_02   
    ExtUtils::Manifest  1.70      
    ExtUtils::ParseXS   3.31      
    File::Spec          3.74      
    JSON                2.97001   
    JSON::PP            2.27300_01
    Module::Build       0.42_28   
    Module::Signature   0.81      
    Parse::CPAN::Meta   2.150010  
    Test::Harness       3.39      
    Test::More          1.302136  
    YAML                1.24      
    YAML::Syck          1.30      
    version             0.9924    


--

Summary of my perl5 (revision 5 version 24 subversion 2) configuration:
  Derived from: eb3b805818a89c08b5564d383beddf70f69af1a3
  Platform:
    osname=linux, osvers=4.14.0-3-amd64, archname=x86_64-linux
    uname='linux k93msid 4.14.0-3-amd64 #1 smp debian 4.14.12-2 (2018-01-06) x86_64 gnulinux '
    config_args='-Dprefix=/home/sand/src/perl/repoperls/installed-perls/host/k93msid/v5.24.2/da1c -Dmyhostname=k93msid -Dinstallusrbinperl=n -Uversiononly -Dusedevel -des -Ui_db -Dlibswanted=cl pthread socket inet nsl gdbm dbm malloc dl ld sun m crypt sec util c cposix posix ucb BSD gdbm_compat -Uuseithreads -Uuselongdouble -DEBUGGING=-g'
    hint=recommended, useposix=true, d_sigaction=define
    useithreads=undef, usemultiplicity=undef
    use64bitint=define, use64bitall=define, uselongdouble=undef
    usemymalloc=n, bincompat5005=undef
  Compiler:
    cc='cc', ccflags ='-fwrapv -fno-strict-aliasing -pipe -fstack-protector-strong -I/usr/local/include -D_LARGEFILE_SOURCE -D_FILE_OFFSET_BITS=64',
    optimize='-O2 -g',
    cppflags='-fwrapv -fno-strict-aliasing -pipe -fstack-protector-strong -I/usr/local/include'
    ccversion='', gccversion='7.2.0', gccosandvers=''
    intsize=4, longsize=8, ptrsize=8, doublesize=8, byteorder=12345678, doublekind=3
    d_longlong=define, longlongsize=8, d_longdbl=define, longdblsize=16, longdblkind=3
    ivtype='long', ivsize=8, nvtype='double', nvsize=8, Off_t='off_t', lseeksize=8
    alignbytes=8, prototype=define
  Linker and Libraries:
    ld='cc', ldflags =' -fstack-protector-strong -L/usr/local/lib'
    libpth=/usr/local/lib /usr/lib/gcc/x86_64-linux-gnu/7/include-fixed /usr/include/x86_64-linux-gnu /usr/lib /lib/x86_64-linux-gnu /lib/../lib /usr/lib/x86_64-linux-gnu /usr/lib/../lib /lib
    libs=-lpthread -lnsl -ldl -lm -lcrypt -lutil -lc
    perllibs=-lpthread -lnsl -ldl -lm -lcrypt -lutil -lc
    libc=libc-2.26.so, so=so, useshrplib=false, libperl=libperl.a
    gnulibc_version='2.26'
  Dynamic Linking:
    dlsrc=dl_dlopen.xs, dlext=so, d_dlsymun=undef, ccdlflags='-Wl,-E'
    cccdlflags='-fPIC', lddlflags='-shared -O2 -g -L/usr/local/lib -fstack-protector-strong'


Characteristics of this binary (from libperl): 
  Compile-time options: HAS_TIMES PERLIO_LAYERS PERL_COPY_ON_WRITE
                        PERL_DONT_CREATE_GVSV
                        PERL_HASH_FUNC_ONE_AT_A_TIME_HARD PERL_MALLOC_WRAP
                        PERL_PRESERVE_IVUV PERL_USE_DEVEL USE_64_BIT_ALL
                        USE_64_BIT_INT USE_LARGE_FILES USE_LOCALE
                        USE_LOCALE_COLLATE USE_LOCALE_CTYPE
                        USE_LOCALE_NUMERIC USE_LOCALE_TIME USE_PERLIO
                        USE_PERL_ATOF
  Locally applied patches:
	uncommitted-changes
  Built under linux
  Compiled at Jan  8 2018 17:12:02
  %ENV:
    PERL5LIB=""
    PERL5OPT=""
    PERL5_CPANPLUS_IS_RUNNING="24103"
    PERL5_CPAN_IS_RUNNING="24103"
    PERL_CANARY_STABILITY_NOPROMPT="1"
    PERL_MM_USE_DEFAULT="1"
    PERL_USE_UNSAFE_INC="1"
  @INC:
    /home/sand/src/perl/repoperls/installed-perls/host/k93msid/v5.24.2/da1c/lib/site_perl/5.24.2/x86_64-linux
    /home/sand/src/perl/repoperls/installed-perls/host/k93msid/v5.24.2/da1c/lib/site_perl/5.24.2
    /home/sand/src/perl/repoperls/installed-perls/host/k93msid/v5.24.2/da1c/lib/5.24.2/x86_64-linux
    /home/sand/src/perl/repoperls/installed-perls/host/k93msid/v5.24.2/da1c/lib/5.24.2
    .