DBIx-Class v0.082840 Perl 5 v5.16.1 darwin-thread-multi-2level

Status
Pass
From
Nigel Horne
Dist
DBIx-Class v0.082840
Platform
Perl 5 v5.16.1 darwin-thread-multi-2level
Date
2017-10-22 10:44:43
ID
03a4312a-b716-11e7-81cc-6f9fdc1c1d4b
This distribution has been tested as part of the CPAN Testers
project, supporting the Perl programming language.  See
http://wiki.cpantesters.org/ for more information or email
questions to cpan-testers-discuss@perl.org


--
Dear Peter Rabbitson,

This is a computer-generated report for DBIx-Class-0.082840
on perl 5.16.1, created by CPAN-Reporter-1.2018.

Thank you for uploading your work to CPAN.  Congratulations!
All tests were successful.

Sections of this report:

    * Tester comments
    * Program output
    * Prerequisites
    * Environment and other context

------------------------------
TESTER COMMENTS
------------------------------

Additional comments from tester:

this report is from an automated smoke testing program
and was not reviewed by a human for accuracy

------------------------------
PROGRAM OUTPUT
------------------------------

Output from '/sw/bin/make test':

PERL_DL_NONLAZY=1 "/Users/hornenj/perl5/perlbrew/perls/perl-5.16.1/bin/perl5.16.1" "-MExtUtils::Command::MM" "-MTest::Harness" "-e" "undef *Test::Harness::Switches; test_harness(0, 'inc', 'blib/lib', 'blib/arch')" t/*.t t/admin/*.t t/cdbi/*.t t/cdbi/DeepAbstractSearch/*.t t/cdbi/abstract/*.t t/cdbi/sweet/*.t t/count/*.t t/delete/*.t t/inflate/*.t t/multi_create/*.t t/ordered/*.t t/prefetch/*.t t/relationship/*.t t/resultset/*.t t/resultsource/*.t t/row/*.t t/schema/*.t t/search/*.t t/sqlmaker/*.t t/sqlmaker/hierarchical/*.t t/sqlmaker/limit_dialects/*.t t/storage/*.t t/update/*.t xt/*.t

Mismatch of versions '3.02' and '2.93', obtained respectively via `JSON->VERSION` and parsing the version out of <<SL>>/JSON.pm with ExtUtils::MakeMaker@7.3. This should never happen - please check whether this is still present in the latest version, and then file a bug with the distribution containing JSON.

# 
# 
# List of loadable modules within both the core and *OPTIONAL* dependency chains
# present on this system (modules sourced from ./blib, ./lib, ./t, and ./xt
# with versions identical to their parent namespace were omitted for brevity)
# 
#     *** Note that *MANY* of these modules will *NEVER* be loaded ***
#             *** during normal operation of DBIx::Class ***
# 
# @INC at startup (does not reflect manipulation at runtime):
#   0: ./inc/
#   1: ./blib/lib/
#   2: ./blib/arch/
#   3: ~/.cpan/build/SQL-Abstract-1.84-39/blib/arch/
#   4: ~/.cpan/build/SQL-Abstract-1.84-39/blib/lib/
#   5: ~/.cpan/build/Hash-Merge-0.200-52/blib/arch/
#   6: ~/.cpan/build/Hash-Merge-0.200-52/blib/lib/
#   7: ~/.cpan/build/Data-Page-2.02-18/blib/arch/
#   8: ~/.cpan/build/Data-Page-2.02-18/blib/lib/
#   9: ~/.cpan/build/Config-Any-0.32-51/blib/arch/
#  10: ~/.cpan/build/Config-Any-0.32-51/blib/lib/
#  11: ~/.cpan/build/Class-C3-Componentised-1.001000-12/blib/arch/
#  12: ~/.cpan/build/Class-C3-Componentised-1.001000-12/blib/lib/
#  13: ~/.cpan/build/Class-C3-0.33-12/blib/arch/
#  14: ~/.cpan/build/Class-C3-0.33-12/blib/lib/
#  15: ~/.cpan/build/Algorithm-C3-0.10-12/blib/arch/
#  16: ~/.cpan/build/Algorithm-C3-0.10-12/blib/lib/
#  17: ~/.cpan/build/Class-Accessor-Grouped-0.10012-12/blib/arch/
#  18: ~/.cpan/build/Class-Accessor-Grouped-0.10012-12/blib/lib/
#  19: ~/.cpan/build/Context-Preserve-0.02-12/blib/arch/
#  20: ~/.cpan/build/Context-Preserve-0.02-12/blib/lib/
#  21: ~/.cpan/build/Config-MySQL-0.02-10/blib/arch/
#  22: ~/.cpan/build/Config-MySQL-0.02-10/blib/lib/
#  23: ~/.cpan/build/Config-INI-0.025-63/blib/arch/
#  24: ~/.cpan/build/Config-INI-0.025-63/blib/lib/
#  25: ~/.cpan/build/SQL-Abstract-1.84-39/blib/arch/
#  26: ~/.cpan/build/SQL-Abstract-1.84-39/blib/lib/
#  27: ~/.cpan/build/Hash-Merge-0.200-52/blib/arch/
#  28: ~/.cpan/build/Hash-Merge-0.200-52/blib/lib/
#  29: ~/.cpan/build/Data-Page-2.02-18/blib/arch/
#  30: ~/.cpan/build/Data-Page-2.02-18/blib/lib/
#  31: ~/.cpan/build/Config-Any-0.32-51/blib/arch/
#  32: ~/.cpan/build/Config-Any-0.32-51/blib/lib/
#  33: ~/.cpan/build/Class-C3-Componentised-1.001000-12/blib/arch/
#  34: ~/.cpan/build/Class-C3-Componentised-1.001000-12/blib/lib/
#  35: ~/.cpan/build/Class-C3-0.33-12/blib/arch/
#  36: ~/.cpan/build/Class-C3-0.33-12/blib/lib/
#  37: ~/.cpan/build/Algorithm-C3-0.10-12/blib/arch/
#  38: ~/.cpan/build/Algorithm-C3-0.10-12/blib/lib/
#  39: ~/.cpan/build/Class-Accessor-Grouped-0.10012-12/blib/arch/
#  40: ~/.cpan/build/Class-Accessor-Grouped-0.10012-12/blib/lib/
#  41: ~/.cpan/build/Context-Preserve-0.02-12/blib/arch/
#  42: ~/.cpan/build/Context-Preserve-0.02-12/blib/lib/
#  43: ~/.cpan/build/Config-MySQL-0.02-10/blib/arch/
#  44: ~/.cpan/build/Config-MySQL-0.02-10/blib/lib/
#  45: ~/.cpan/build/Config-INI-0.025-63/blib/arch/
#  46: ~/.cpan/build/Config-INI-0.025-63/blib/lib/
#  47: <<SA>>/
#  48: <<SL>>/
#  49: <<PA>>/
#  50: <<PL>>/
#  51: ./
# 
# Sourcing markers:
#        PA: $Config{archlib}
#        PL: $Config{privlib}
#        SA: $Config{sitearch}
#        SL: $Config{sitelib}
#       BLL: ./blib/lib/
# 
# =============================
#        PA            0.19  attributes                                                                      [ MD5: 1fd72435301fb994818e57a639725fad ]
#        SL            5.74  AutoLoader                                                                      [ MD5: c923fac66a84c6b5dbbf01250e7c1a42 ]
#        PA            1.35  B                                                                               [ MD5: 70eaf1d107c37ad10f017bde415925ac ]
#        SL            0.15  B::Hooks::EndOfScope                                                            [ MD5: e011f3b9324a748969ac542a2be3cc79 ]
#        SL            0.15  B::Hooks::EndOfScope::XS                                                        [ MD5: 9448c6ad8259e94af7edd0c0fb32f2d1 ]
#        PL            2.18  base                                                                            [ MD5: 262cf42a8f0afc4a464bf1318fd6f85a ]
#        PL            1.04  bytes                                                                           [ MD5: d1dd254359351507b57b2271c382608a ]
#        SL            1.36  Carp                                                                            [ MD5: c554ce41c752de638aeb0e372d02a580 ]
#        SL            6.04  Carp::Clan                                                                      [ MD5: 16846e519817c2d76def9efbb1f9c725 ]
#        SL            1.36  Carp::Heavy                                                                     [ MD5: 1e59b1cf1e79477e3bef9588c86e9c44 ]
#        SL            0.34  Class::Accessor                                                                 [ MD5: 79a573e4c523b52dcffb91b5390d9d20 ]
#        SL                  Class::Accessor::Chained::Fast                                                  [ MD5: 544678632aaf294dc280944a83c509bc ]
#        SL            0.34  Class::Accessor::Fast                                                           [ MD5: 69232ed8cbca035a8eb6c73e40b695f9 ]
#  $INC[18]         0.10012  Class::Accessor::Grouped                                                        [ MD5: e7c277f33b36ef2ef9f68a564c26e753 ]
#  $INC[12]        1.001000  Class::C3::Componentised                                                        [ MD5: c8c95fc2278592a66aacfd18ed7a5645 ]
#        SL            0.08  Class::Data::Inheritable                                                        [ MD5: eaa489d785a175db193d92b13674d96d ]
#        SL            1.28  Class::Inspector                                                                [ MD5: 64949009ad8466ec6c39b30b6eade95d ]
#        SL            0.23  Class::Load                                                                     [ MD5: 5f9a96076965a6f0824c876dcd6b8f37 ]
#        SA            0.09  Class::Load::XS                                                                 [ MD5: 56faee781cf17a205052b52033246b37 ]
#        SA          2.1603  Class::MOP                                                                      [ MD5: cf8d1d7e4989c2d9b0890313e945b10a ]
#        SA          2.1603  Class::MOP::Attribute                                                           [ MD5: 3df2bde7a787afbadf51af9a824fd32d ]
#        SA          2.1603  Class::MOP::Class                                                               [ MD5: 47df7f78392b8d19e26bef233d835b1c ]
#        SA          2.1603  Class::MOP::Class::Immutable::Trait                                             [ MD5: 3604f7b1fd5b53932396d4663e497243 ]
#        SA          2.1603  Class::MOP::Deprecated                                                          [ MD5: d60a1cba288d000259d7ffd18f742aba ]
#        SA          2.1603  Class::MOP::Instance                                                            [ MD5: 8dc2f90b804a4f771c5c810f3b6cb665 ]
#        SA          2.1603  Class::MOP::Method                                                              [ MD5: 98b3d89831490ecd4ebd5f4b4d75c6eb ]
#        SA          2.1603  Class::MOP::Method::Accessor                                                    [ MD5: b1222f79602856e374f98407543a4b90 ]
#        SA          2.1603  Class::MOP::Method::Constructor                                                 [ MD5: 2f2f3623cd62852325d419c25cc374be ]
#        SA          2.1603  Class::MOP::Method::Generated                                                   [ MD5: addd0936246da7d85bceb15ea672bcc9 ]
#        SA          2.1603  Class::MOP::Method::Inlined                                                     [ MD5: ba622f94fc38ee988ac6981e6e55e7da ]
#        SA          2.1603  Class::MOP::Method::Meta                                                        [ MD5: accf62b239b5edf3492c5ba64b5b6e20 ]
#        SA          2.1603  Class::MOP::Method::Wrapped                                                     [ MD5: a6bfe855f19958dedc8de91328767a13 ]
#        SA          2.1603  Class::MOP::MiniTrait                                                           [ MD5: f68e178c7ddf757c73c57a92667f4e14 ]
#        SA          2.1603  Class::MOP::Mixin                                                               [ MD5: e3da58b055b24d2fa96e71c96c94288a ]
#        SA          2.1603  Class::MOP::Mixin::AttributeCore                                                [ MD5: 4ab2d6b1e36507d6b7caf0db13053675 ]
#        SA          2.1603  Class::MOP::Mixin::HasAttributes                                                [ MD5: 69cc281a5a935c1d48413a37d563b65c ]
#        SA          2.1603  Class::MOP::Mixin::HasMethods                                                   [ MD5: 847d83c05303228d778008922bbf2ac6 ]
#        SA          2.1603  Class::MOP::Mixin::HasOverloads                                                 [ MD5: 71498c81aff522148a67b6c4803a7c60 ]
#        SA          2.1603  Class::MOP::Module                                                              [ MD5: 597fae68e89488ef4cd8f78f87013669 ]
#        SA          2.1603  Class::MOP::Object                                                              [ MD5: 6a6f2fddc541711238282a4cb5eca0b1 ]
#        SA          2.1603  Class::MOP::Overload                                                            [ MD5: 77ec0968ca2a5115d32a174acc23de62 ]
#        SA          2.1603  Class::MOP::Package                                                             [ MD5: 2bcf6323698babfcbba08e7938f8af83 ]
#        SL             1.5  Class::Singleton                                                                [ MD5: d1b724a6b51de027cc1656e67ada9a32 ]
#        PL            0.63  Class::Struct                                                                   [ MD5: f147c95fe98e71c033b738292c7e205d ]
#        SA            1.19  Class::XSAccessor                                                               [ MD5: 0b7adfcc61192a80f97463e89d6d1696 ]
#        SA            1.19  Class::XSAccessor::Heavy                                                        [ MD5: db9379a668d6133fce801e4648cdef45 ]
#        SA            0.38  Clone                                                                           [ MD5: 95bff4a1ac34730d9af65033a3c72448 ]
#        SA            3.74  common::sense                                                                   [ MD5: 18c26fa18758a92f1988d37f58363a6f ]
#        PA                  Config                                                                          [ MD5: e12c4f203af256b0986ffd82480ab6eb ]
#        SL            1.33  constant                                                                        [ MD5: 56cde6eba0f667ab56196613df3933c1 ]
#  $INC[20]            0.02  Context::Preserve                                                               [ MD5: 81bcb0a3844f0c6e414afa9fb173bff5 ]
#        PA            3.47  Cwd                                                                             [ MD5: 0893f781ce49752238efe563a3bd2cbf ]
#        PA           2.154  Data::Dumper                                                                    [ MD5: a12079e6ad6026c8ce0932f5aead0661 ]
#        SL           2.022  Data::Dumper::Concise                                                           [ MD5: 84f113e489b3fa5fa5f1d3b7a169d849 ]
#        SL           0.109  Data::OptList                                                                   [ MD5: 3df16aaa98b6c41f391112b8b92d1024 ]
#   $INC[8]            2.02  Data::Page                                                                      [ MD5: 52f4b3f7348e51e0654aa4f0b3503ab0 ]
#        SA            1.42  DateTime                                                                        [ MD5: c0278f692ef9c5eab6c5aabfbac784f0 ]
#        SA            1.42  DateTime::Duration                                                              [ MD5: e8bf3b3f8186933356c6dff7455c10e9 ]
#        SL            1.57  DateTime::Format::Strptime                                                      [ MD5: c0a162d87d36dd5065b0ec11e8e27d08 ]
#        SA            1.42  DateTime::Helpers                                                               [ MD5: 6b8eaf1caf8bf1fccad935464aed105c ]
#        SA            1.42  DateTime::Infinite                                                              [ MD5: f58e8a23c67d8d46a87e7e248d27bc9b ]
#        SL            1.16  DateTime::Locale                                                                [ MD5: db9482ff8a2b7275fbd3a06c7f2ce4b4 ]
#        SL            1.16  DateTime::Locale::Data                                                          [ MD5: e65570507597729dd7ad91080fd14f50 ]
#        SL            1.16  DateTime::Locale::FromData                                                      [ MD5: f51244eee7c41c04e2f000f33e7b3c45 ]
#        SL            1.16  DateTime::Locale::Util                                                          [ MD5: 7ac3bf78c23d407342252e36c3e3b8b8 ]
#        SL            2.11  DateTime::TimeZone                                                              [ MD5: 2362cf710f01a47990a8b64c984cbd0c ]
#        SL            2.11  DateTime::TimeZone::Catalog                                                     [ MD5: f268ff50f712af35d34d85afa637bc7f ]
#        SL            2.11  DateTime::TimeZone::Floating                                                    [ MD5: 82b6e4566e977a9ff64252ca6cf14344 ]
#        SL            2.11  DateTime::TimeZone::Local                                                       [ MD5: 49293e5b72db897c903b21c30dc5ac56 ]
#        SL            2.11  DateTime::TimeZone::OffsetOnly                                                  [ MD5: e0654b194471d54c83dbdc366672cb6c ]
#        SL            2.11  DateTime::TimeZone::OlsonDB::Change                                             [ MD5: bae225044408087793c1f99ae46a5a15 ]
#        SL            2.11  DateTime::TimeZone::UTC                                                         [ MD5: c55ac74221164cdd204c7b1faaa670d5 ]
#        SA            1.42  DateTime::Types                                                                 [ MD5: 5d487ecc2b67a7e7ccf3d932b6f8454a ]
#        SA           1.634  DBI                                                                             [ MD5: 9434d7f2660bb3f8fa08b3848caa5302 ]
#       BLL        0.082840  DBIx::Class                                                                     [ MD5: 8bfd568d750eaffd5f53546d6ab095bf ]
#        SL            0.13  Devel::GlobalDestruction                                                        [ MD5: bc0273114c876e5526239817c461a4f4 ]
#        SL           0.004  Devel::OverloadInfo                                                             [ MD5: e324a1b67fa94d816d070bff0d4a854c ]
#        SL            2.00  Devel::StackTrace                                                               [ MD5: 4dd3bae294ce5357a1651e828eb90ee5 ]
#        SL            2.00  Devel::StackTrace::Frame                                                        [ MD5: 1a434d281df55ac9ed4d2892e15cef4c ]
#        SL            2.15  Devel::Symdump                                                                  [ MD5: a028de0df85b42f41870e87a4adf545b ]
#        PL            1.16  Digest::base                                                                    [ MD5: c46e2ebb720ee7d9c600ce5acbf34291 ]
#        SA            2.54  Digest::MD5                                                                     [ MD5: 17734b8e5d67e9158617290e76474da1 ]
#        PA            1.14  DynaLoader                                                                      [ MD5: 5439e0577ec1e4b7e34de3aa2be6cdba ]
#        SA            2.86  Encode                                                                          [ MD5: 8b52fe14b2c99b122c3ef96614f8be9b ]
#        SA            2.20  Encode::Alias                                                                   [ MD5: 7a38d7cffbb79b5e300711a344b64ce1 ]
#        SA            2.05  Encode::Config                                                                  [ MD5: 7bdd1d8dffa8d3500086802451fc020d ]
#        SA            2.07  Encode::Encoding                                                                [ MD5: 34dc1ab677a5e9b9b4ab88acbde70db4 ]
#        PA            1.15  Errno                                                                           [ MD5: 7f370747885af2b4d0e606b8cedd32fe ]
#        SL            0.13  Eval::Closure                                                                   [ MD5: eace70cf99693a64470240cdbfdfbe35 ]
#        SL            1.39  Exception::Class                                                                [ MD5: 14c13a67a9a95e0d502e4cfae97758b5 ]
#        SL            1.39  Exception::Class::Base                                                          [ MD5: 2048b3e116604bb8bc97e4adda503e04 ]
#        SL            5.72  Exporter                                                                        [ MD5: 358c4022647b971c7c4f3a4157b8343e ]
#        SL            5.72  Exporter::Heavy                                                                 [ MD5: d8032ca40b44e010673e6dd5816ca66b ]
#        SL           0.042  Exporter::Tiny                                                                  [ MD5: a43289aa459365d49aa7b9de83c1ce7a ]
#        SL            7.30  ExtUtils::Liblist                                                               [ MD5: 7670c241a9d232e759da4c6b8cbf69fa ]
#        SL            7.30  ExtUtils::Liblist::Kid                                                          [ MD5: c7405c12cecf3c05048fe9bc2b27d527 ]
#        SL            7.30  ExtUtils::MakeMaker                                                             [ MD5: 1bc0421fa90faaee5aa4735f47e3c5d0 ]
#        SL            7.30  ExtUtils::MakeMaker::Config                                                     [ MD5: e74ab453422b4cfea7ead0b25d0cbc6f ]
#        SL            7.30  ExtUtils::MakeMaker::Locale                                                     [ MD5: a41ed27af4e09676c5528d9bff132049 ]
#        SL            7.30  ExtUtils::MakeMaker::version                                                    [ MD5: 0484c48481266dd1a6bbe79f4cb94523 ]
#        SL            7.30  ExtUtils::MM                                                                    [ MD5: e454baa8ebd38e7337a7c80cc49f85d0 ]
#        SL            7.30  ExtUtils::MM_Any                                                                [ MD5: de91765c31b2784f06f63596725ac3e4 ]
#        SL            7.30  ExtUtils::MM_Darwin                                                             [ MD5: 349552975c7b1860aab5a451ef9f6781 ]
#        SL            7.30  ExtUtils::MM_Unix                                                               [ MD5: 4aab551516329a80bdbd2549fbadf998 ]
#        SL            7.30  ExtUtils::MY                                                                    [ MD5: a743b458d51e47422e97be19f1d86f39 ]
#        PA            1.11  Fcntl                                                                           [ MD5: 70707096a90be3068ba6feae636d5ad6 ]
#        PL            1.27  feature                                                                         [ MD5: 5a3a1a66f9730c974ac724d6b98483db ]
#        PL            2.84  File::Basename                                                                  [ MD5: f3c9df98223f53fee221435ddf5e9733 ]
#        PL            2.23  File::Copy                                                                      [ MD5: faf119164c3278edf3c7f12ce98cb239 ]
#        PL            1.20  File::Find                                                                      [ MD5: 6cae20b8ee4324d5b030da92116fb349 ]
#        PA            1.17  File::Glob                                                                      [ MD5: 59ac116899119111086b541fb635de31 ]
#        SL            1.00  File::HomeDir                                                                   [ MD5: dab54a50acb9cf1a884ac88be4294e82 ]
#        SL            1.00  File::HomeDir::Darwin                                                           [ MD5: 37fa45e202271c9ee8bfb23dd7af82f3 ]
#        SL            1.00  File::HomeDir::Darwin::Cocoa                                                    [ MD5: 0e2b43542ecb8ef0af0439e33c558cc0 ]
#        SL            1.00  File::HomeDir::Driver                                                           [ MD5: c4065f96c83394a428c8f78c5168f55a ]
#        SL            1.00  File::HomeDir::Unix                                                             [ MD5: 46e9b0369bce4571a5c72f2392db50b4 ]
#        SL            2.12  File::Path                                                                      [ MD5: bd7b1aafbfa538b60ece4aee7d7aa8dd ]
#        SL           1.102  File::ShareDir                                                                  [ MD5: 5d6c38a60e0903de72f6fefc8dbaf1a0 ]
#        PA            3.47  File::Spec                                                                      [ MD5: 81b1a547f2e00ce1505b3e739a20ca7c ]
#        PA            3.47  File::Spec::Unix                                                                [ MD5: 0d4659fb9e9f3a0d39cc2bcdea02f1e1 ]
#        PL            1.05  File::stat                                                                      [ MD5: bb790be3c54930386270d818178fe12c ]
#        SL          0.2304  File::Temp                                                                      [ MD5: 42d392eee808579f109684ac09d8649e ]
#        SL            1.19  File::Which                                                                     [ MD5: b7ae8af4346dff81ea9e45dccdb9e49a ]
#        PL            1.51  FindBin                                                                         [ MD5: dd2958b9672d2fbd39371b5b590def2f ]
#        SL            2.48  Getopt::Long                                                                    [ MD5: 977afd4855a3e8ef65fd728883075ad6 ]
#        SL           0.099  Getopt::Long::Descriptive                                                       [ MD5: 3e60005dd8b799d7e13c34ce7f8fe6d3 ]
#        SL           0.099  Getopt::Long::Descriptive::Opts                                                 [ MD5: 2792084e5891cb6326c9e686f09c12e3 ]
#        SL           0.099  Getopt::Long::Descriptive::Usage                                                [ MD5: 33b48f0accf6d3bd2d3b1533785205b6 ]
#        PA         0.08_02  I18N::Langinfo                                                                  [ MD5: 6fb1ed33005c3c8905b521505e4003f9 ]
#        PL          0.0606  if                                                                              [ MD5: 64ca426ae881664b5bf41c88b2c96963 ]
#        PL            1.00  integer                                                                         [ MD5: 4a9b2a5bdd05b8f12371f0bd13135b95 ]
#        PA         1.25_06  IO                                                                              [ MD5: d8e3fd7eba5bbad363150f1964ba8d46 ]
#        PA            1.10  IO::Dir                                                                         [ MD5: 3382ea44d8e267cc12a596fbfe73ff92 ]
#        PA            1.16  IO::File                                                                        [ MD5: 206278c02dd4a3fb7792a4a193d2588b ]
#        PA            1.33  IO::Handle                                                                      [ MD5: 6fdff43909cf62a195d25caf33ad4972 ]
#        PA            1.10  IO::Seekable                                                                    [ MD5: f62813b55c062f449160100dca67d043 ]
#        SL            2.93  JSON                                                                            [ MD5: 30bfef923e171c8c2f61ea88100cd30d ]
#        SL            1.39  JSON::Any                                                                       [ MD5: 58091791762a014d447fdd6f05000e17 ]
#        SL         2.27400  JSON::PP                                                                        [ MD5: 4b39f4591890e15f413eef351f0f47ac ]
#                      1.01  JSON::PP::IncrParser                                                          ! -f $INC{'JSON/PP/IncrParser.pm'}
#        SA            3.02  JSON::XS                                                                        [ MD5: b95f5a5c4ba8415fac5f291fe1b4cc1e ]
#        SA           0.413  List::MoreUtils                                                                 [ MD5: 186d37863c108d2326dc35285ba05b9a ]
#        SA           0.413  List::MoreUtils::PP                                                             [ MD5: acba8f3143220b57e9c7b2eb192ba0b8 ]
#        SA           0.413  List::MoreUtils::XS                                                             [ MD5: f59cdcd5fd7443467d63854c757d2bd1 ]
#        SA            1.47  List::Util                                                                      [ MD5: c2f38938eed1e2f018667b2dd4c36ac9 ]
#        SA            0.06  Mac::SystemDirectory                                                            [ MD5: a1882e42dc8d1076cf55afd61cd24cc2 ]
#        PL        1.999708  Math::BigInt                                                                    [ MD5: 207ed92ed838577acbe559fb3ce1c039 ]
#        SA          2.1603  metaclass                                                                       [ MD5: 15a0651df1195042175a42a90e3e6f0d ]
#        SL                  Method::Generate::Accessor                                                      [ MD5: 6a451d4851a75e431a20074c7141f775 ]
#        SL                  Method::Generate::Constructor                                                   [ MD5: 336b4cca1979f303da79c0207c7fed30 ]
#        SL            0.09  Module::Implementation                                                          [ MD5: 2a146bb117cd6b798e2b928231799546 ]
#        SL           0.014  Module::Runtime                                                                 [ MD5: fb1d248a05a99e7fc65e99178bce0c5b ]
#        SL        2.000002  Moo                                                                             [ MD5: 5ba1addd9de5d43f7779fecf2a577c87 ]
#        SL                  Moo::HandleMoose                                                                [ MD5: 440a0c7a296d91dca224fe62ac01e763 ]
#        SL                  Moo::HandleMoose::FakeMetaClass                                                 [ MD5: c1633fe4a83292267585b70ecfb5f982 ]
#        SL                  Moo::Object                                                                     [ MD5: 0eeb9dd5560fb86328e9055cdc20e084 ]
#        SL                  Moo::sification                                                                 [ MD5: 3064b1e15aa821aa5433e07d186f0e38 ]
#        SA          2.1603  Moose                                                                           [ MD5: 4b098d4346112bb341cd490ed83f5527 ]
#        SA          2.1603  Moose::Deprecated                                                               [ MD5: d42c074b2b331e5420372be0caceae5b ]
#        SA          2.1603  Moose::Exporter                                                                 [ MD5: 7eb6f19693fa4a16e2ff4c4639c8e213 ]
#        SA          2.1603  Moose::Meta::Attribute                                                          [ MD5: 328855e0acf988e2c9c7194682c26663 ]
#                    2.1403  Moose::Meta::Attribute::Custom::Moose                                         ! -f $INC{'Moose/Meta/Attribute/Custom/Moose.pm'}
#        SA          2.1603  Moose::Meta::Attribute::Native                                                  [ MD5: d63d498585df6e1758ebdbf0b27c8cc4 ]
#        SA          2.1603  Moose::Meta::Class                                                              [ MD5: 29b9629a123596ba14e7004e24300e13 ]
#        SA          2.1603  Moose::Meta::Class::Immutable::Trait                                            [ MD5: 0fbda0e7fec79d4744b8a2261b77d254 ]
#        SA          2.1603  Moose::Meta::Instance                                                           [ MD5: d38202f5439ee30275438436da9a346b ]
#        SA          2.1603  Moose::Meta::Method                                                             [ MD5: 1c4686b6c07e05376fcc24cd598e5ef7 ]
#        SA          2.1603  Moose::Meta::Method::Accessor                                                   [ MD5: 7a81330b672537edbbc6bbbec0dafd1e ]
#        SA          2.1603  Moose::Meta::Method::Augmented                                                  [ MD5: aaad825f7e0e3d2230c448285afc9cba ]
#        SA          2.1603  Moose::Meta::Method::Constructor                                                [ MD5: 28f3073e88bc67b7651ae0de76608d47 ]
#        SA          2.1603  Moose::Meta::Method::Delegation                                                 [ MD5: 53271f1a7089c3ae9f37484ab905c697 ]
#        SA          2.1603  Moose::Meta::Method::Destructor                                                 [ MD5: d1f23d1bb66a33e0cb371be5d5c5290e ]
#        SA          2.1603  Moose::Meta::Method::Meta                                                       [ MD5: 252cd8eb2cce47737531ac5621bb8804 ]
#        SA          2.1603  Moose::Meta::Method::Overridden                                                 [ MD5: f475f62eec68c5d2d9ce22ea1897fe68 ]
#        SA          2.1603  Moose::Meta::Mixin::AttributeCore                                               [ MD5: d7fc6279e05392ad01cec418ed60572a ]
#        SA          2.1603  Moose::Meta::Object::Trait                                                      [ MD5: ff22e8c23f2d1a746988c3b6574d9f0a ]
#        SA          2.1603  Moose::Meta::Role                                                               [ MD5: b7d12674e6f5bcc0bf801e8424b59511 ]
#        SA          2.1603  Moose::Meta::Role::Application                                                  [ MD5: 24a9662382429307cf14926d5d22cad5 ]
#        SA          2.1603  Moose::Meta::Role::Application::RoleSummation                                   [ MD5: a24379780818ade16d8a011c51ae03a6 ]
#        SA          2.1603  Moose::Meta::Role::Application::ToClass                                         [ MD5: 19077909e01f4f524a77071215be1ddb ]
#        SA          2.1603  Moose::Meta::Role::Application::ToInstance                                      [ MD5: b6aaef9aa8e62b60360f74a40c47b559 ]
#        SA          2.1603  Moose::Meta::Role::Application::ToRole                                          [ MD5: 9a1aafb9e6f0182c9f339e3b0250e6a5 ]
#        SA          2.1603  Moose::Meta::Role::Attribute                                                    [ MD5: c2d375051657fa4f513e463aaac5f378 ]
#        SA          2.1603  Moose::Meta::Role::Composite                                                    [ MD5: 4cf53624d2fcbecdbb3c2121dcc0f621 ]
#        SA          2.1603  Moose::Meta::Role::Method                                                       [ MD5: 916fa4048fcd73b90c45c7219454245b ]
#        SA          2.1603  Moose::Meta::Role::Method::Conflicting                                          [ MD5: 37e65dbb9af5a6b88a6cc51b5f130143 ]
#        SA          2.1603  Moose::Meta::Role::Method::Required                                             [ MD5: 1c97117cd89ae285ace003912ed46a3a ]
#        SA          2.1603  Moose::Meta::TypeCoercion                                                       [ MD5: 9a328cc8bc024c8a26d79fbc57166615 ]
#        SA          2.1603  Moose::Meta::TypeCoercion::Union                                                [ MD5: fd436018fb61c68d924c068060f7d625 ]
#        SA          2.1603  Moose::Meta::TypeConstraint                                                     [ MD5: 64032d369f95f69e9b2f0af33fa73560 ]
#        SA          2.1603  Moose::Meta::TypeConstraint::Class                                              [ MD5: 399a4df88cf0e48da0ff767117b6ebb0 ]
#        SA          2.1603  Moose::Meta::TypeConstraint::DuckType                                           [ MD5: f123821d26e5e60383a29bada44ad101 ]
#        SA          2.1603  Moose::Meta::TypeConstraint::Enum                                               [ MD5: f9b5c94453058cfceb5ceed656021aa8 ]
#        SA          2.1603  Moose::Meta::TypeConstraint::Parameterizable                                    [ MD5: 320207262d6489a9cf1fa6ee387aa9f3 ]
#        SA          2.1603  Moose::Meta::TypeConstraint::Parameterized                                      [ MD5: 0e28ebfd1927a49ca667b57bb5a039f3 ]
#        SA          2.1603  Moose::Meta::TypeConstraint::Registry                                           [ MD5: 5cb698efbd82ff313ebbeb3c14be61e9 ]
#        SA          2.1603  Moose::Meta::TypeConstraint::Role                                               [ MD5: 872b124914b80ae5055a372155ba4ff1 ]
#        SA          2.1603  Moose::Meta::TypeConstraint::Union                                              [ MD5: e4455de93ca1306b373925fb7c6b8bb6 ]
#        SA          2.1603  Moose::Object                                                                   [ MD5: e1bc9b55e47abfde36797e552517a1f1 ]
#        SA          2.1603  Moose::Role                                                                     [ MD5: 40e491dca525bfb9205b0d7258f8292c ]
#        SA          2.1603  Moose::Util                                                                     [ MD5: d4ed1cd37101ca1135aa3b94abdc2e20 ]
#        SA          2.1603  Moose::Util::MetaRole                                                           [ MD5: 5eea89c632ab3f333b04cdb39b92a1e9 ]
#        SA          2.1603  Moose::Util::TypeConstraints                                                    [ MD5: 4e19d9c8b50657014f55ed9d79736dd9 ]
#        SA          2.1603  Moose::Util::TypeConstraints::Builtins                                          [ MD5: 1d997786d2a7736189f9189a113ba466 ]
#        SL            0.71  MooseX::Getopt                                                                  [ MD5: 8d409fa0a61be828defa11465fea06ed ]
#        SL            0.71  MooseX::Getopt::Basic                                                           [ MD5: 8255ac74939ef164ea254569502ec30b ]
#        SL            0.71  MooseX::Getopt::GLD                                                             [ MD5: 2c35dbe6c132bdf83f64022beb484d58 ]
#        SL            0.71  MooseX::Getopt::Meta::Attribute                                                 [ MD5: 0002642e385ec02c439d1aff5046360f ]
#        SL            0.71  MooseX::Getopt::Meta::Attribute::NoGetopt                                       [ MD5: e5dd88e5b37d39a294f1b6749b7740e1 ]
#        SL            0.71  MooseX::Getopt::Meta::Attribute::Trait                                          [ MD5: 9f4836c34d0fa8a793a38b0aab2189fd ]
#        SL            0.71  MooseX::Getopt::Meta::Attribute::Trait::NoGetopt                                [ MD5: 996611314bb7b6549cf88c7bb903c09f ]
#        SL            0.71  MooseX::Getopt::OptionTypeMap                                                   [ MD5: 219e19df34100b30f53a3b76ece29a29 ]
#        SL            0.71  MooseX::Getopt::ProcessedArgv                                                   [ MD5: e489703d4e9971508c532f2843530c49 ]
#        SL            1.08  MooseX::Role::Parameterized                                                     [ MD5: 92106b6452a5524891351ab820c73100 ]
#        SL            1.08  MooseX::Role::Parameterized::Meta::Role::Parameterized                          [ MD5: ac7ce5385c8a023d5ce6c564c45b2497 ]
#        SL            1.08  MooseX::Role::Parameterized::Meta::Trait::Parameterizable                       [ MD5: 677796a724190253c114704c722a4a1a ]
#        SL            1.08  MooseX::Role::Parameterized::Meta::Trait::Parameterized                         [ MD5: b7820cde74c94e20a622edfcac246b65 ]
#        SL            1.08  MooseX::Role::Parameterized::Parameters                                         [ MD5: b63bf711e8d37cc21f5085d4e93aa2ab ]
#        SL            0.46  MooseX::Types                                                                   [ MD5: 6f345f0fbd35a16c81fa68a33de9dce9 ]
#        SL            0.46  MooseX::Types::Base                                                             [ MD5: ac605a998c7dfa5d0ac68780ad0cdc5e ]
#        SL            0.46  MooseX::Types::CheckedUtilExports                                               [ MD5: 95ef5d2e911f6e07c7bdbc17253eaa14 ]
#        SL            0.46  MooseX::Types::Moose                                                            [ MD5: eb083a3865bea0c98a5e44e06a8ca973 ]
#        SL            0.08  MooseX::Types::Path::Class                                                      [ MD5: 1a5965f4642f020c80e631f7b7030473 ]
#        SL            0.46  MooseX::Types::TypeDecorator                                                    [ MD5: 8397f3122fc0504a4d96507d7009e948 ]
#        SL            0.46  MooseX::Types::UndefinedType                                                    [ MD5: e7c4024eb239ba4530328a6efd63ca33 ]
#        SL            0.46  MooseX::Types::Util                                                             [ MD5: 182e2eb8139e05a4e21887d30293150a ]
#        PA            1.09  mro                                                                             [ MD5: 0dcdd8a22949c14b8da91eca5f5eacf6 ]
#        SL            0.12  MRO::Compat                                                                     [ MD5: baa26363fce54b680b27331693f0bf47 ]
#        SL            0.28  namespace::autoclean                                                            [ MD5: bcf7b7af396c62ab1bbcec0a42fdb1c3 ]
#        SL            0.26  namespace::clean                                                                [ MD5: 9d4ab16285d0593d7317880767adc0ce ]
#        PL            1.18  overload                                                                        [ MD5: 0798c8066ab0b0acbb76b7d06f645cdf ]
#        PL            0.02  overloading                                                                     [ MD5: 36e1b34f8175e036d57e51fd7d56becd ]
#        SL            0.17  Package::DeprecationManager                                                     [ MD5: 93dddddd7913b016f00963197be1c5f1 ]
#        SL            0.37  Package::Stash                                                                  [ MD5: e40c05afed4074ecb0455b05316523e8 ]
#        SA            0.28  Package::Stash::XS                                                              [ MD5: 5bafa791645794b7b7072bdefd80d787 ]
#        SA             2.2  PadWalker                                                                       [ MD5: 35ca6ec9f06e68f5df80d1232cc80361 ]
#        SA            1.07  Params::Util                                                                    [ MD5: dae515c40e02b36de308e51ddf0e8edd ]
#        SA            1.21  Params::Validate                                                                [ MD5: b2cc91ae445911b8756be96c5efdf939 ]
#        SA            1.21  Params::Validate::Constants                                                     [ MD5: 89de6cc6abe8b26f5e9825128cbc994d ]
#        SA            1.21  Params::Validate::XS                                                            [ MD5: 001c82e33e64a03fb5cdc7f44311b079 ]
#        SL            0.23  Params::ValidationCompiler                                                      [ MD5: 81562b3622525ec15735e2498a9336c5 ]
#        SL            0.23  Params::ValidationCompiler::Compiler                                            [ MD5: 69ac7acabbdb3f3ebfedf01149d998c8 ]
#                       1.1  Params::ValidationCompiler::Exception::BadArguments                           ! -f $INC{'Params/ValidationCompiler/Exception/BadArguments.pm'}
#                       1.1  Params::ValidationCompiler::Exception::Named::Extra                           ! -f $INC{'Params/ValidationCompiler/Exception/Named/Extra.pm'}
#                       1.1  Params::ValidationCompiler::Exception::Named::Required                        ! -f $INC{'Params/ValidationCompiler/Exception/Named/Required.pm'}
#                       1.1  Params::ValidationCompiler::Exception::Positional::Extra                      ! -f $INC{'Params/ValidationCompiler/Exception/Positional/Extra.pm'}
#                       1.1  Params::ValidationCompiler::Exception::Positional::Required                   ! -f $INC{'Params/ValidationCompiler/Exception/Positional/Required.pm'}
#                       1.1  Params::ValidationCompiler::Exception::ValidationFailedForMooseTypeConstraint ! -f $INC{'Params/ValidationCompiler/Exception/ValidationFailedForMooseTypeConstraint.pm'}
#        SL            0.23  Params::ValidationCompiler::Exceptions                                          [ MD5: 3bb3d948b090844011d04e46ef8f84fb ]
#        SL           0.234  parent                                                                          [ MD5: bc8ab538eb7a4ef2fce1962729785f0f ]
#        SL            0.35  Path::Class                                                                     [ MD5: 3c3166e17b322995ebbf9be737ff7903 ]
#        SL            0.35  Path::Class::Dir                                                                [ MD5: 9dbcc6bfb86e8c5595a93539a1a5db24 ]
#        SL            0.35  Path::Class::Entity                                                             [ MD5: a0830c6f561098cfe949dda91d76d975 ]
#        SL            0.35  Path::Class::File                                                               [ MD5: 3cb7875be62e834a093db7aa49ad6122 ]
#                  5.016001  perl                                                                            [ MD5: 858c51a482a986436afe3356548cc0df ]
#        SL           1.009  Perl::OSType                                                                    [ MD5: 21d273aba838c00bca4db91dc328acde ]
#        PL            1.07  PerlIO                                                                          [ MD5: 45cd620c4e5fa82ab81e36baf80ba911 ]
#        SL            0.23  Pod::Coverage                                                                   [ MD5: d53035083682c2a78d56d998ad7239d2 ]
#        SL            1.07  Pod::Escapes                                                                    [ MD5: 66b73dccf48caa9ab161e8c3805cf955 ]
#        PL            1.63  Pod::Find                                                                       [ MD5: 1e09437d4c107f7ef2690f6b9995dbd7 ]
#        PL            1.63  Pod::InputObjects                                                               [ MD5: 6b7a4d75d42c87da3929354fafa2a5a6 ]
#        PL            1.63  Pod::Parser                                                                     [ MD5: 9b166f82ac0afacbb4e2c0140725f29d ]
#        SL            3.32  Pod::Simple                                                                     [ MD5: 051123d355bbb1cd8bd301ad96a6ced1 ]
#        SL            3.32  Pod::Simple::BlackBox                                                           [ MD5: ef5a556fc819cea04af2627668841d24 ]
#        SL            3.32  Pod::Simple::LinkSection                                                        [ MD5: 267299a71079c87c2bf57ac003dcbe6f ]
#        PA            1.30  POSIX                                                                           [ MD5: f89dbb3c2b49f3e82feddc39855fa973 ]
#        SL            1.04  prefork                                                                         [ MD5: 6734e16817820c330082fc3743cc22fa ]
#        PA         0.19_01  re                                                                              [ MD5: 6598a4fd8c57d76edab05df1a530e7f9 ]
#        SA           0.101  Ref::Util                                                                       [ MD5: 21e5015b31f87007b4590e05fc6e9731 ]
#        SL        2.000001  Role::Tiny                                                                      [ MD5: eef7b750c499e2eea76c271ce6a377b8 ]
#        SL        2.000001  Role::Tiny::With                                                                [ MD5: 553a2507d42920d86d42b6dccf8a5de4 ]
#        SA            1.47  Scalar::Util                                                                    [ MD5: f3c089157aadb2b9cb1219f456983d10 ]
#        SL            0.21  Scope::Guard                                                                    [ MD5: 914494bdeb65cd340f14eae265635cf2 ]
#        PL            1.02  SelectSaver                                                                     [ MD5: bddc465e351ad0508581b94ef112d322 ]
#        SL            0.36  Specio                                                                          [ MD5: 397312de2a58bc03c2e6fdd310947c50 ]
#        SL            0.36  Specio::Coercion                                                                [ MD5: c758c9375aafcaccae7c8f671c9b793d ]
#        SL            0.36  Specio::Constraint::AnyCan                                                      [ MD5: fb714e93bde9a3c1374434dbe084d8b3 ]
#        SL            0.36  Specio::Constraint::Enum                                                        [ MD5: 7c527d7e57f38ea31a29070f9d985936 ]
#        SL            0.36  Specio::Constraint::ObjectCan                                                   [ MD5: 9102471eac6d2a55ff77ecd686b7a95a ]
#        SL            0.36  Specio::Constraint::ObjectIsa                                                   [ MD5: a38d09a4d9f044663da89e9dc44c668b ]
#        SL            0.36  Specio::Constraint::Parameterizable                                             [ MD5: 5cedf0a3d42242d5d1c1352082b544a0 ]
#        SL            0.36  Specio::Constraint::Parameterized                                               [ MD5: 7e1b39a9eda3647bc8a6896e9e1283d6 ]
#        SL            0.36  Specio::Constraint::Role::CanType                                               [ MD5: e642c47c6732a94f677c8dd5b98b143b ]
#        SL            0.36  Specio::Constraint::Role::Interface                                             [ MD5: c8f8eb305adfc09bdfe50da91de1a813 ]
#        SL            0.36  Specio::Constraint::Role::IsaType                                               [ MD5: 045623a96a69669359b439f5d61fcf45 ]
#        SL            0.36  Specio::Constraint::Simple                                                      [ MD5: 1d3ff021f811fa7aa8dde1d6a668a9f0 ]
#        SL            0.36  Specio::Constraint::Union                                                       [ MD5: 195226fbba9295dc3c2afc0165fe9d7f ]
#        SL            0.36  Specio::Declare                                                                 [ MD5: 1cd95446b4d7f869a2cffb77d87ba2f4 ]
#        SL            0.36  Specio::DeclaredAt                                                              [ MD5: 0bbdcb008505fe4875df24e45cf9ffe6 ]
#        SL            0.36  Specio::Exception                                                               [ MD5: f812bf0f518f886716592087d342cdbb ]
#        SL            0.36  Specio::Exporter                                                                [ MD5: d4da5792f6da5ee669dfeb07ccf6ce56 ]
#        SL            0.36  Specio::Helpers                                                                 [ MD5: f200cce482186cf9794d9a8798432935 ]
#        SL            0.36  Specio::Library::Builtins                                                       [ MD5: 67906a8795a3d129b1cf84d567c6b9fa ]
#        SL            0.36  Specio::Library::Numeric                                                        [ MD5: 622ce0dabbd2cd2fa2034fa1024526c2 ]
#        SL            0.36  Specio::Library::String                                                         [ MD5: b0c08201812c42ece2ac0dd989c457fc ]
#        SL            0.36  Specio::OO                                                                      [ MD5: cefc55e20754108cd57b69a9e4f87ce6 ]
#        SL            0.36  Specio::PartialDump                                                             [ MD5: e62aa1a9f6bc7fb43a65ab1b20edbe18 ]
#        SL            0.36  Specio::Registry                                                                [ MD5: cde9f29a4dd86a20c621cfd087fb20e1 ]
#        SL            0.36  Specio::Role::Inlinable                                                         [ MD5: 7006f032290a63543bd2714ea42ff02e ]
#        SL            0.36  Specio::TypeChecks                                                              [ MD5: f344b3d5d54420e8993f6b261b6ba8ad ]
#   $INC[4]            1.84  SQL::Abstract                                                                   [ MD5: 054f92aa3facdeac09d1b230a9fd6877 ]
#        SA            2.51  Storable                                                                        [ MD5: 1b205bd0faf0d386c9f2486f060ed2a6 ]
#        PL            1.07  strict                                                                          [ MD5: 800622ee44e5700d8eb08d0611e9b65a ]
#        SL        2.000002  Sub::Defer                                                                      [ MD5: 732cda83ec6b94c25f5ebdd3fbe158fb ]
#        SL           0.987  Sub::Exporter                                                                   [ MD5: aa6b0dc0ffcf3831d4cee7da6d7e8330 ]
#        SL        0.100052  Sub::Exporter::ForMethods                                                       [ MD5: 50b7071f63f77815db48360df0b102c4 ]
#        SL        0.001011  Sub::Exporter::Progressive                                                      [ MD5: 0cf54ad3e2305402ed4d1f73e3f59601 ]
#        SL           0.987  Sub::Exporter::Util                                                             [ MD5: 9bfd22ab1afa835541f6a7d298ab90fc ]
#        SA            0.12  Sub::Identify                                                                   [ MD5: 9dc08f208a43dde109c691301d1578eb ]
#        SL           0.928  Sub::Install                                                                    [ MD5: f077d4c445e5cceebd5aab8460fd2d5e ]
#        SA            0.14  Sub::Name                                                                       [ MD5: 53709be724eedc9955fa6860f77e913f ]
#        SL        2.000002  Sub::Quote                                                                      [ MD5: 38cf884a7fe1f90cff87a49cee32e62f ]
#        SA            1.47  Sub::Util                                                                       [ MD5: 1503a5e9b3273f9d223c2b3d0fcf6eab ]
#        PL            1.07  Symbol                                                                          [ MD5: 083c3fe866ec1be9c84540b9ac8e6eee ]
#        SL        1.302103  Test2::API                                                                      [ MD5: c649251a6fce7d701c4d28d72e2bb0b0 ]
#        SL        1.302103  Test2::API::Context                                                             [ MD5: 1915d91fa8d4ba98e238f0425539fe59 ]
#        SL        1.302103  Test2::API::Instance                                                            [ MD5: 172fb836151ca7e4bf94283b81635e09 ]
#        SL        1.302103  Test2::API::Stack                                                               [ MD5: c25b1554fd174b7b4616356ee2e9a7a1 ]
#        SL        1.302103  Test2::Event                                                                    [ MD5: 48e4eb80ca65a3d4319238999317eb50 ]
#        SL        1.302103  Test2::Event::Bail                                                              [ MD5: 7e8c4f5d6ee48a8bdda6d1dd5f78bffe ]
#        SL        1.302103  Test2::Event::Diag                                                              [ MD5: ec3ee1b9c7b729b30caf2bce160c0e20 ]
#        SL        1.302103  Test2::Event::Exception                                                         [ MD5: 5bb6c7d3913208fc7bdda6e2cb15516c ]
#        SL        1.302103  Test2::Event::Fail                                                              [ MD5: 55688ff2b781b7e11b969221505c872c ]
#        SL        1.302103  Test2::Event::Note                                                              [ MD5: 10a70c77c3437f8b6f690650e6456dc4 ]
#        SL        1.302103  Test2::Event::Ok                                                                [ MD5: 3ba83f6d99cd04383806835cc7837093 ]
#        SL        1.302103  Test2::Event::Pass                                                              [ MD5: 5ff0d2585d79304d0103c71f268c53a0 ]
#        SL        1.302103  Test2::Event::Plan                                                              [ MD5: f4d2a8abe3aa355f512772d284da0e96 ]
#        SL        1.302103  Test2::Event::Skip                                                              [ MD5: 4caa8ce5dd7da851f3df1b0b890b6250 ]
#        SL        1.302103  Test2::Event::Subtest                                                           [ MD5: 8039ad10b6549f0999881235990aded5 ]
#        SL        1.302103  Test2::Event::Waiting                                                           [ MD5: e345cd3ab098c850c1ac3536d9df4bb8 ]
#        SL        1.302103  Test2::EventFacet                                                               [ MD5: b1047aae1fcb4a3c368b908b5b930b9b ]
#        SL        1.302103  Test2::EventFacet::About                                                        [ MD5: bf13b3c15a48d61c5187cd892324be9e ]
#        SL        1.302103  Test2::EventFacet::Amnesty                                                      [ MD5: 9bc0b832844a68459d00607a836cf6d9 ]
#        SL        1.302103  Test2::EventFacet::Assert                                                       [ MD5: a3ecc62855ae88e7fed35299be63c2f4 ]
#        SL        1.302103  Test2::EventFacet::Control                                                      [ MD5: aae50d3110691e36b42a2783571c4e7b ]
#        SL        1.302103  Test2::EventFacet::Error                                                        [ MD5: c6a71e8d27bb44bb644881fd0b2fcf4b ]
#        SL        1.302103  Test2::EventFacet::Info                                                         [ MD5: 546ec17f22a11a2d99eaaa2b74a365a3 ]
#        SL        1.302103  Test2::EventFacet::Meta                                                         [ MD5: 735f5ba24402564a5e8d19dc018d99f5 ]
#        SL        1.302103  Test2::EventFacet::Parent                                                       [ MD5: d7143097c8008626a9547bfb3801248f ]
#        SL        1.302103  Test2::EventFacet::Plan                                                         [ MD5: 316d71eb069c0af52cb3b732028b2625 ]
#        SL        1.302103  Test2::EventFacet::Trace                                                        [ MD5: 4025128f3fd41e0755e7ac411d2ed0c2 ]
#        SL        1.302103  Test2::Formatter                                                                [ MD5: 681675b470882bd02a917fcbada9a9b6 ]
#        SL        1.302103  Test2::Formatter::TAP                                                           [ MD5: 777e475ed6d44a2d95ac02a88cd7ec08 ]
#        SL        1.302103  Test2::Hub                                                                      [ MD5: 693959351bcde6929204411c63f29524 ]
#        SL        1.302103  Test2::Hub::Interceptor                                                         [ MD5: 40dd94f0991aa208fefb2a893315014e ]
#        SL        1.302103  Test2::Hub::Interceptor::Terminator                                             [ MD5: 813259b2e5306e2b1cd2bfbb22233a51 ]
#        SL        1.302103  Test2::Hub::Subtest                                                             [ MD5: 4fb3817cb7e14a55c158c040d6124847 ]
#        SL        1.302103  Test2::Util                                                                     [ MD5: 6f5faf2ab5ed9bd0f8c8a6bbf0556d4c ]
#        SL        1.302103  Test2::Util::ExternalMeta                                                       [ MD5: 60f716caa54c256805e18cbad52c90e3 ]
#        SL           0.005  Test2::Util::HashBase                                                           [ MD5: 5fa4df36d8b22dc38d03d3bafe23a02e ]
#        SL        1.302103  Test2::Util::Trace                                                              [ MD5: 5a62e3dafcff0bc94f48e9385f0fe450 ]
#        SL        1.302103  Test::Builder                                                                   [ MD5: 8de62ed8d6199dffd5c94988c65bd556 ]
#        SL        1.302103  Test::Builder::Formatter                                                        [ MD5: d8680d74a998a8ece8bafbf8b86ad1f8 ]
#        SL        1.302103  Test::Builder::Module                                                           [ MD5: 7b24d064c3967a4a5f62497851513981 ]
#        SL        1.302103  Test::Builder::TodoDiag                                                         [ MD5: 7c2364b81d4d89124bbe945a9b392ad8 ]
#        SL             1.6  Test::EOL                                                                       [ MD5: b3015ac0b1ebb21edb8c5e5bd922ae5b ]
#        SA          2.1603  Test::Moose                                                                     [ MD5: 84765e755a7f1176e4f3971b5cdafa05 ]
#        SL        1.302103  Test::More                                                                      [ MD5: 47241d912d420a48d8049e2f2bda2a74 ]
#        SL            1.51  Test::Pod                                                                       [ MD5: efb912ca5d0e3c57e132e039190ef4d1 ]
#        SL            1.10  Test::Pod::Coverage                                                             [ MD5: b751ee701f87277a9013c485f474424e ]
#        SL            0.39  Test::Strict                                                                    [ MD5: 35fec34ed480b8f277df356f48adb8b3 ]
#        SL            1.33  Text::CSV                                                                       [ MD5: facf1f1c610ff035663dc31ffb24a763 ]
#        SA            1.32  Text::CSV_XS                                                                    [ MD5: c1463c0639f42332f3645efdc52d43e2 ]
#        PL            1.04  Tie::Hash                                                                       [ MD5: 943acc2a68dd546d8f40afa729dce7d3 ]
#        SA          1.9726  Time::HiRes                                                                     [ MD5: 0748812765e7bf2d035f9d650ef30c0d ]
#        SL            0.22  Try::Tiny                                                                       [ MD5: ff7e9d19175c75297ebe48c5719042aa ]
#        SL             1.0  Types::Serialiser                                                               [ MD5: b409e70ebab79d5b48b44dde9574b411 ]
#        PL            1.09  utf8                                                                            [ MD5: d9e5dc077947b452429358d90ff2228e ]
#        SA            0.59  Variable::Magic                                                                 [ MD5: 34b5c8fb9f504ee1ed3d8d4e71c2de07 ]
#        PL            1.02  vars                                                                            [ MD5: 719c6895f36545f7ccb319a156ac9058 ]
#        SA          0.9912  version                                                                         [ MD5: 5812bed24c8926e9046a3df899332112 ]
#        SA          0.9912  version::regex                                                                  [ MD5: 39afb7c56b818d2379a956f6b19b2132 ]
#        SA          0.9912  version::vxs                                                                    [ MD5: b255aff5cdc3f3ed7d90831e1ed76340 ]
#        PL            1.13  warnings                                                                        [ MD5: 9be76a7d1fdb1204bc52ae9d201b39a6 ]
#        PL            1.02  warnings::register                                                              [ MD5: e607c6dfd4cc596889d41737d3c52f65 ]
#        SA            0.22  XSLoader                                                                        [ MD5: e9b8db35e65821310a83d01e89d37217 ]
# =============================
# 
# List of loadable modules within both the core and *OPTIONAL* dependency chains
# present on this system (modules sourced from ./blib, ./lib, ./t, and ./xt
# with versions identical to their parent namespace were omitted for brevity)
# 
#     *** Note that *MANY* of these modules will *NEVER* be loaded ***
#             *** during normal operation of DBIx::Class ***
# 
# 
t/00describe_environment.t .......................... ok
t/04_c3_mro.t ....................................... ok
t/05components.t .................................... ok
t/100extra_source.t ................................. ok
t/100populate.t ..................................... ok
t/101populate_rs.t .................................. ok
t/101source.t ....................................... ok
t/102load_classes.t ................................. ok
t/103many_to_many_warning.t ......................... ok
t/104view.t ......................................... ok
t/106dbic_carp.t .................................... ok
t/107obj_result_class.t ............................. ok
t/18insert_default.t ................................ ok
t/19retrieve_on_insert.t ............................ ok
t/20setuperrors.t ................................... ok
t/26dumper.t ........................................ ok
t/33exception_wrap.t ................................ ok
t/34exception_action.t .............................. ok
t/35exception_inaction.t ............................ ok
t/39load_namespaces_1.t ............................. ok
t/39load_namespaces_2.t ............................. ok
t/39load_namespaces_3.t ............................. ok
t/39load_namespaces_4.t ............................. ok
t/39load_namespaces_exception.t ..................... ok
t/39load_namespaces_rt41083.t ....................... ok
t/39load_namespaces_stress.t ........................ ok
t/40compose_connection.t ............................ ok
t/40resultsetmanager.t .............................. ok
t/46where_attribute.t ............................... ok
t/50fork.t .......................................... skipped: Test needs DBD::Pg (see DBIx::Class::Optional::Dependencies for details)
t/51threadnodb.t .................................... ok
t/51threads.t ....................................... skipped: Test needs DBD::Pg (see DBIx::Class::Optional::Dependencies for details)
t/51threadtxn.t ..................................... skipped: Set $ENV{DBICTEST_PG_DSN}, _USER and _PASS to run this test (note: creates and drops a table named artist!)
t/52leaks.t ......................................... ok
t/53lean_startup.t .................................. ok
t/55namespaces_cleaned.t ............................ ok
t/60core.t .......................................... ok
t/61findnot.t ....................................... ok
t/63register_class.t ................................ ok
t/63register_column.t ............................... ok
t/63register_source.t ............................... ok
t/64db.t ............................................ ok
t/65multipk.t ....................................... ok
t/67pager.t ......................................... ok
t/69update.t ........................................ ok
t/70auto.t .......................................... ok
t/71mysql.t ......................................... skipped: Set $ENV{DBICTEST_MYSQL_DSN}, _USER and _PASS to run this test
t/72pg.t ............................................ skipped: Set $ENV{DBICTEST_PG_DSN}, _USER and _PASS to run this test
t/72pg_bytea.t ...................................... skipped: Test needs DBD::Pg (see DBIx::Class::Optional::Dependencies for details)
t/73oracle.t ........................................ skipped: Set $ENV{DBICTEST_ORA_DSN}, _USER and _PASS to run this test.
t/73oracle_blob.t ................................... skipped: Set $ENV{DBICTEST_ORA_DSN}, _USER and _PASS to run this test.
t/73oracle_hq.t ..................................... skipped: Set $ENV{DBICTEST_ORA_DSN}, _USER and _PASS to run this test.
t/745db2.t .......................................... skipped: Set $ENV{DBICTEST_DB2_DSN}, _USER and _PASS to run this test
t/746db2_400.t ...................................... skipped: Set $ENV{DBICTEST_DB2_400_DSN}, _USER and _PASS to run this test
t/746mssql.t ........................................ skipped: Set $ENV{DBICTEST_MSSQL_ODBC_DSN}, _USER and _PASS to run this test
t/746sybase.t ....................................... skipped: Set $ENV{DBICTEST_SYBASE_DSN}, _USER and _PASS to run this test. Warning: This test drops and creates the tables: 'artist', 'money_test' and 'bindtype_test'
t/747mssql_ado.t .................................... skipped: Set $ENV{DBICTEST_MSSQL_ADO_DSN}, _USER and _PASS to run this test
t/748informix.t ..................................... skipped: Set $ENV{DBICTEST_INFORMIX_DSN}, _USER and _PASS to run this test
t/749sqlanywhere.t .................................. skipped: Set $ENV{DBICTEST_SQLANYWHERE_DSN} and/or $ENV{DBICTEST_SQLANYWHERE_ODBC_DSN},
t/74mssql.t ......................................... skipped: Set $ENV{DBICTEST_MSSQL_DSN}, _USER and _PASS to run this test
t/750firebird.t ..................................... skipped: Set $ENV{DBICTEST_FIREBIRD_DSN} and/or $ENV{DBICTEST_FIREBIRD_INTERBASE_DSN} and/or $ENV{DBICTEST_FIREBIRD_ODBC_DSN}, _USER and _PASS to run these tests. WARNING: this test creates and drops the tables "artist", "bindtype_test" and "sequence_test"; the generators "gen_artist_artistid", "pkid1_seq", "pkid2_seq" and "nonpkid_seq" and the trigger "artist_bi".
t/751msaccess.t ..................................... skipped: Set $ENV{DBICTEST_MSACCESS_ODBC_DSN} and/or $ENV{DBICTEST_MSACCESS_ADO_DSN} (and optionally _USER and _PASS) to run these tests.
t/752sqlite.t ....................................... ok
t/76joins.t ......................................... ok
t/76select.t ........................................ ok
t/77join_count.t .................................... ok
t/78self_referencial.t .............................. ok
t/79aliasing.t ...................................... ok
t/80unique.t ........................................ ok
t/82cascade_copy.t .................................. ok
t/83cache.t ......................................... ok
t/84serialize.t ..................................... ok
t/85utf8.t .......................................... ok
t/86might_have.t .................................... ok
t/86sqlt.t .......................................... skipped: Test needs SQL::Translator >= 0.11018 (see DBIx::Class::Optional::Dependencies for details)
t/87ordered.t ....................................... ok
t/88result_set_column.t ............................. ok
t/90ensure_class_loaded.t ........................... ok
t/90join_torture.t .................................. ok
t/91merge_joinpref_attr.t ........................... ok
t/93autocast.t ...................................... ok
t/93single_accessor_object.t ........................ ok
t/94pk_mutation.t ................................... ok
t/94versioning.t .................................... skipped: Set $ENV{DBICTEST_MYSQL_DSN}, _USER and _PASS to run this test
t/96_is_deteministic_value.t ........................ ok
t/97result_class.t .................................. ok
t/99dbic_sqlt_parser.t .............................. skipped: Test needs SQL::Translator >= 0.11018 (see DBIx::Class::Optional::Dependencies for details)
t/admin/01load.t .................................... skipped: Test needs MooseX::Types::JSON >= 0.02, MooseX::Types::LoadableClass >= 0.011 (see DBIx::Class::Optional::Dependencies for details)
t/admin/02ddl.t ..................................... skipped: Test needs MooseX::Types::JSON >= 0.02, MooseX::Types::LoadableClass >= 0.011 (see DBIx::Class::Optional::Dependencies for details)
t/admin/03data.t .................................... skipped: Test needs MooseX::Types::JSON >= 0.02, MooseX::Types::LoadableClass >= 0.011 (see DBIx::Class::Optional::Dependencies for details)
t/admin/10script.t .................................. skipped: Test needs Cpanel::JSON::XS, JSON::DWIW, MooseX::Types::JSON >= 0.02, MooseX::Types::LoadableClass >= 0.011
t/cdbi/01-columns.t ................................. skipped: Class::DBI required for this test
t/cdbi/02-Film.t .................................... skipped: Class::DBI required for this test
t/cdbi/03-subclassing.t ............................. skipped: Class::DBI required for this test
t/cdbi/04-lazy.t .................................... skipped: Class::DBI required for this test
t/cdbi/06-hasa.t .................................... skipped: Class::DBI required for this test
t/cdbi/08-inheritcols.t ............................. skipped: Class::DBI required for this test
t/cdbi/09-has_many.t ................................ skipped: Class::DBI required for this test
t/cdbi/11-triggers.t ................................ skipped: Class::DBI required for this test
t/cdbi/12-filter.t .................................. skipped: Class::DBI required for this test
t/cdbi/13-constraint.t .............................. skipped: Class::DBI required for this test
t/cdbi/14-might_have.t .............................. skipped: Class::DBI required for this test
t/cdbi/15-accessor.t ................................ skipped: Class::DBI required for this test
t/cdbi/16-reserved.t ................................ skipped: Class::DBI required for this test
t/cdbi/18-has_a.t ................................... skipped: Class::DBI required for this test
t/cdbi/19-set_sql.t ................................. skipped: Class::DBI required for this test
t/cdbi/21-iterator.t ................................ skipped: Class::DBI required for this test
t/cdbi/22-deflate_order.t ........................... skipped: Class::DBI required for this test
t/cdbi/22-self_referential.t ........................ skipped: Class::DBI required for this test
t/cdbi/23-cascade.t ................................. skipped: Class::DBI required for this test
t/cdbi/24-meta_info.t ............................... skipped: Class::DBI required for this test
t/cdbi/26-mutator.t ................................. skipped: Class::DBI required for this test
t/cdbi/30-pager.t ................................... skipped: Class::DBI required for this test
t/cdbi/68-inflate_has_a.t ........................... skipped: Class::DBI required for this test
t/cdbi/70_implicit_inflate.t ........................ skipped: Test needs DateTime::Format::SQLite
t/cdbi/71_column_object.t ........................... skipped: The tested functionality is only available in Class::DBI >= 3.0.5
t/cdbi/98-failure.t ................................. skipped: Class::DBI required for this test
t/cdbi/abstract/search_where.t ...................... skipped: Class::DBI required for this test
t/cdbi/columns_as_hashes.t .......................... skipped: Class::DBI required for this test
t/cdbi/columns_dont_override_custom_accessors.t ..... skipped: Class::DBI required for this test
t/cdbi/construct.t .................................. skipped: Class::DBI required for this test
t/cdbi/copy.t ....................................... skipped: Class::DBI required for this test
t/cdbi/DeepAbstractSearch/01_search.t ............... skipped: Class::DBI required for this test
t/cdbi/early_column_heisenbug.t ..................... skipped: Class::DBI required for this test
t/cdbi/has_many_loads_foreign_class.t ............... skipped: Class::DBI required for this test
t/cdbi/hasa_without_loading.t ....................... skipped: Class::DBI required for this test
t/cdbi/max_min_value_of.t ........................... skipped: Class::DBI required for this test
t/cdbi/mk_group_accessors.t ......................... skipped: Class::DBI required for this test
t/cdbi/multi_column_set.t ........................... skipped: Class::DBI required for this test
t/cdbi/object_cache.t ............................... skipped: Class::DBI required for this test
t/cdbi/retrieve_from_sql_with_limit.t ............... skipped: Class::DBI required for this test
t/cdbi/set_to_undef.t ............................... skipped: Class::DBI required for this test
t/cdbi/set_vs_DateTime.t ............................ skipped: Class::DBI required for this test
t/cdbi/sweet/08pager.t .............................. skipped: Class::DBI required for this test
t/count/count_rs.t .................................. ok
t/count/distinct.t .................................. ok
t/count/group_by_func.t ............................. ok
t/count/grouped_pager.t ............................. ok
t/count/in_subquery.t ............................... ok
t/count/joined.t .................................... ok
t/count/prefetch.t .................................. ok
t/count/search_related.t ............................ ok
t/delete/cascade_missing.t .......................... ok
t/delete/complex.t .................................. ok
t/delete/m2m.t ...................................... ok
t/delete/related.t .................................. ok
t/discard_changes_in_DESTROY.t ...................... ok
t/inflate/core.t .................................... ok
t/inflate/datetime.t ................................ skipped: DT inflation tests need DateTime::Format::SQLite
t/inflate/datetime_determine_parser.t ............... skipped: Test needs DateTime::Format::SQLite
t/inflate/datetime_firebird.t ....................... skipped: Set $ENV{DBICTEST_FIREBIRD_DSN} and/or $ENV{DBICTEST_FIREBIRD_INTERBASE_DSN} and/or $ENV{DBICTEST_FIREBIRD_ODBC_DSN}, _USER and _PASS to run these tests. WARNING: This test drops and creates a table called 'event'
t/inflate/datetime_informix.t ....................... skipped: Set $ENV{DBICTEST_INFORMIX_DSN} _USER and _PASS to run this test'.
t/inflate/datetime_missing_deps.t ................... ok
t/inflate/datetime_msaccess.t ....................... skipped: Set $ENV{DBICTEST_MSACCESS_ODBC_DSN} and/or $ENV{DBICTEST_MSACCESS_ADO_DSN} (and optionally _USER and _PASS) to run these tests.
t/inflate/datetime_mssql.t .......................... skipped: Set $ENV{DBICTEST_MSSQL_ODBC_DSN} and/or $ENV{DBICTEST_MSSQL_DSN} and/or $ENV{DBICTEST_MSSQL_ADO_DSN} _USER and _PASS to run this test
t/inflate/datetime_mysql.t .......................... skipped: Inflation tests need DateTime::Format::MySQL
t/inflate/datetime_oracle.t ......................... skipped: Set $ENV{DBICTEST_ORA_DSN}, _USER and _PASS to run this test. Warning: This test drops and creates a table called 'event'
t/inflate/datetime_pg.t ............................. skipped: Test needs DateTime::Format::Pg >= 0.16004
t/inflate/datetime_sqlanywhere.t .................... skipped: Set $ENV{DBICTEST_SQLANYWHERE_DSN} and/or $ENV{DBICTEST_SQLANYWHERE_ODBC_DSN}
t/inflate/datetime_sybase.t ......................... skipped: Set $ENV{DBICTEST_SYBASE_DSN}, _USER and _PASS to run this test
t/inflate/file_column.t ............................. ok
t/inflate/hri.t ..................................... ok
t/inflate/hri_torture.t ............................. ok
t/inflate/serialize.t ............................... ok
t/multi_create/cd_single.t .......................... ok
t/multi_create/diamond.t ............................ ok
t/multi_create/existing_in_chain.t .................. ok
t/multi_create/find_or_multicreate.t ................ ok
t/multi_create/has_many.t ........................... ok
t/multi_create/in_memory.t .......................... ok
t/multi_create/insert_defaults.t .................... ok
t/multi_create/m2m.t ................................ ok
t/multi_create/multilev_single_PKeqFK.t ............. ok
t/multi_create/reentrance_count.t ................... skipped: Disable test entirely until multicreate is rewritten in terms of subqueries
t/multi_create/standard.t ........................... ok
t/multi_create/torture.t ............................ ok
t/ordered/cascade_delete.t .......................... ok
t/ordered/unordered_movement.t ...................... ok
t/prefetch/attrs_untouched.t ........................ ok
t/prefetch/correlated.t ............................. ok
t/prefetch/count.t .................................. ok
t/prefetch/diamond.t ................................ ok
t/prefetch/double_prefetch.t ........................ ok
t/prefetch/empty_cache.t ............................ ok
t/prefetch/false_colvalues.t ........................ ok
t/prefetch/grouped.t ................................ ok
t/prefetch/incomplete.t ............................. ok
t/prefetch/join_type.t .............................. ok
t/prefetch/lazy_cursor.t ............................ ok
t/prefetch/manual.t ................................. ok
t/prefetch/multiple_hasmany.t ....................... ok
t/prefetch/multiple_hasmany_torture.t ............... ok
t/prefetch/o2m_o2m_order_by_with_limit.t ............ ok
t/prefetch/one_to_many_to_one.t ..................... ok
t/prefetch/refined_search_on_relation.t ............. ok
t/prefetch/restricted_children_set.t ................ ok
t/prefetch/standard.t ............................... ok
t/prefetch/via_search_related.t ..................... ok
t/prefetch/with_limit.t ............................. ok
t/relationship/after_update.t ....................... ok
t/relationship/core.t ............................... ok
t/relationship/custom.t ............................. ok
t/relationship/custom_opaque.t ...................... ok
t/relationship/custom_with_null_in_cond.t ........... ok
t/relationship/doesnt_exist.t ....................... ok
t/relationship/dynamic_foreign_columns.t ............ ok
t/relationship/info.t ............................... ok
t/relationship/malformed_declaration.t .............. ok
t/relationship/proxy.t .............................. ok
t/relationship/set_column_on_fk.t ................... ok
t/relationship/unresolvable.t ....................... ok
t/relationship/update_or_create_multi.t ............. ok
t/relationship/update_or_create_single.t ............ ok
t/resultset/as_query.t .............................. ok
t/resultset/as_subselect_rs.t ....................... ok
t/resultset/bind_attr.t ............................. ok
t/resultset/find_on_subquery_cond.t ................. ok
t/resultset/inflate_result_api.t .................... ok
t/resultset/inflatemap_abuse.t ...................... ok
t/resultset/is_ordered.t ............................ ok
t/resultset/is_paged.t .............................. ok
t/resultset/nulls_only.t ............................ ok
t/resultset/plus_select.t ........................... ok
t/resultset/rowparser_internals.t ................... ok
t/resultset/update_delete.t ......................... ok
t/resultset_class.t ................................. ok
t/resultset_overload.t .............................. ok
t/resultsource/bare_resultclass_exception.t ......... ok
t/resultsource/set_primary_key.t .................... ok
t/row/copy_with_extra_selection.t ................... ok
t/row/filter_column.t ............................... ok
t/row/find_one_has_many.t ........................... ok
t/row/inflate_result.t .............................. ok
t/row/pkless.t ...................................... ok
t/row/set_extra_column.t ............................ ok
t/schema/anon.t ..................................... ok
t/schema/clone.t .................................... ok
t/search/deprecated_attributes.t .................... ok
t/search/distinct.t ................................. ok
t/search/empty_attrs.t .............................. ok
t/search/preserve_original_rs.t ..................... ok
t/search/reentrancy.t ............................... ok
t/search/related_has_many.t ......................... ok
t/search/related_strip_prefetch.t ................... ok
t/search/select_chains.t ............................ ok
t/search/select_chains_unbalanced.t ................. ok
t/search/stack_cond.t ............................... ok
t/search/subquery.t ................................. ok
t/search/void.t ..................................... ok
t/sqlmaker/bind_transport.t ......................... ok
t/sqlmaker/core.t ................................... ok
t/sqlmaker/core_quoted.t ............................ ok
t/sqlmaker/dbihacks_internals.t ..................... ok
t/sqlmaker/hierarchical/oracle.t .................... skipped: Test needs Math::Base36 >= 0.07
t/sqlmaker/legacy_joins.t ........................... ok
t/sqlmaker/limit_dialects/basic.t ................... ok
t/sqlmaker/limit_dialects/custom.t .................. ok
t/sqlmaker/limit_dialects/fetch_first.t ............. ok
t/sqlmaker/limit_dialects/first_skip.t .............. ok
t/sqlmaker/limit_dialects/generic_subq.t ............ ok
t/sqlmaker/limit_dialects/mssql_torture.t ........... ok
t/sqlmaker/limit_dialects/rno.t ..................... ok
t/sqlmaker/limit_dialects/rownum.t .................. ok
t/sqlmaker/limit_dialects/skip_first.t .............. ok
t/sqlmaker/limit_dialects/toplimit.t ................ ok
t/sqlmaker/limit_dialects/torture.t ................. ok
t/sqlmaker/literal_with_bind.t ...................... ok
t/sqlmaker/msaccess.t ............................... ok
t/sqlmaker/mysql.t .................................. ok
t/sqlmaker/nest_deprec.t ............................ ok
t/sqlmaker/oracle.t ................................. skipped: Test needs Math::Base36 >= 0.07
t/sqlmaker/oraclejoin.t ............................. skipped: Test needs Math::Base36 >= 0.07
t/sqlmaker/order_by_bindtransport.t ................. ok
t/sqlmaker/order_by_func.t .......................... ok
t/sqlmaker/pg.t ..................................... ok
t/sqlmaker/quotes.t ................................. ok
t/sqlmaker/sqlite.t ................................. ok
t/storage/base.t .................................... ok
t/storage/cursor.t .................................. ok
t/storage/dbh_do.t .................................. ok
t/storage/dbi_coderef.t ............................. ok
t/storage/dbi_env.t ................................. ok
t/storage/dbic_pretty.t ............................. ok
t/storage/debug.t ................................... ok
t/storage/deploy.t .................................. skipped: Test needs SQL::Translator >= 0.11018 (see DBIx::Class::Optional::Dependencies for details)
t/storage/deprecated_exception_source_bind_attrs.t .. ok
t/storage/disable_sth_caching.t ..................... ok
t/storage/error.t ................................... ok
t/storage/exception.t ............................... ok
t/storage/global_destruction.t ...................... ok
t/storage/nobindvars.t .............................. ok
t/storage/on_connect_call.t ......................... ok
t/storage/on_connect_do.t ........................... ok
t/storage/ping_count.t .............................. ok
t/storage/prefer_stringification.t .................. ok
t/storage/quote_names.t ............................. ok
t/storage/reconnect.t ............................... ok
t/storage/replicated.t .............................. skipped: Test needs MooseX::Types::LoadableClass >= 0.011
t/storage/savepoints.t .............................. ok
t/storage/stats.t ................................... ok
t/storage/txn.t ..................................... ok
t/storage/txn_scope_guard.t ......................... ok
t/update/all.t ...................................... ok
t/update/ident_cond.t ............................... ok
t/update/type_aware.t ............................... ok
# 
# 
# 
# 208 contributors made this library what it is today
# 
# 
# Distinguished patrons:
#   * ( 2014 ~ 2015 ) Henry Van Styn, creator of http://p3rl.org/RapidApp
# 
# 
t/zzzzzzz_authors.t ................................. ok
t/zzzzzzz_perl_perf_bug.t ........................... skipped: Skipping as system appears to be a smoker
t/zzzzzzz_sqlite_deadlock.t ......................... ok
xt/authors.t ........................................ ok
xt/dbictest_unlink_guard.t .......................... ok
xt/footers.t ........................................ ok
xt/old_envvars.t .................................... ok
xt/optional_deps.t .................................. ok
xt/pod.t ............................................ ok
xt/podcoverage.t .................................... ok
xt/quote_sub.t ...................................... ok
xt/standalone_testschema_resultclasses.t ............ ok
xt/strictures.t ..................................... ok
xt/whitespace.t ..................................... skipped: Test needs: Test::NoTabs >= 0.9
All tests successful.
Files=319, Tests=42668, 116 wallclock secs ( 3.49 usr  0.74 sys + 103.21 cusr 10.21 csys = 117.65 CPU)
Result: PASS

------------------------------
PREREQUISITES
------------------------------

Prerequisite modules loaded:

requires:

    Module                   Need     Have    
    ------------------------ -------- --------
    Class::Accessor::Grouped 0.10012  0.10012 
    Class::C3::Componentised 1.0009   1.001000
    Class::Inspector         1.24     1.28    
    Config::Any              0.20     0.32    
    Context::Preserve        0.01     0.02    
    Data::Dumper::Concise    2.020    2.022   
    Data::Page               2.00     2.02    
    DBD::SQLite              1.29     1.54    
    DBI                      1.57     1.634   
    Devel::GlobalDestruction 0.09     0.13    
    File::Temp               0.22     0.2304  
    Hash::Merge              0.12     0.200   
    List::Util               1.16     1.47    
    Module::Find             0.07     0.13    
    Moo                      2.000    2.000002
    MRO::Compat              0.12     0.12    
    namespace::clean         0.24     0.26    
    Package::Stash           0.28     0.37    
    Path::Class              0.18     0.35    
    perl                     5.008001 5.016001
    Scope::Guard             0.03     0.21    
    SQL::Abstract            1.81     1.84    
    Sub::Name                0.04     0.14    
    Test::Deep               0.101    0.119   
    Test::Exception          0.31     0.43    
    Test::More               0.94     1.302103
    Test::Warn               0.21     0.32    
    Text::Balanced           2.00     2.03    
    Try::Tiny                0.07     0.22    

build_requires:

    Module                   Need     Have    
    ------------------------ -------- --------
    DBD::SQLite              1.29     1.54    
    ExtUtils::MakeMaker      6.59     7.30    
    File::Temp               0.22     0.2304  
    Package::Stash           0.28     0.37    
    Test::Deep               0.101    0.119   
    Test::Exception          0.31     0.43    
    Test::More               0.94     1.302103
    Test::Warn               0.21     0.32    

configure_requires:

    Module                   Need     Have    
    ------------------------ -------- --------
    ExtUtils::MakeMaker      6.59     7.30    


------------------------------
ENVIRONMENT AND OTHER CONTEXT
------------------------------

Environment variables:

    AUTOMATED_TESTING = 1
    LANG = en_US.UTF-8
    LC_ALL = POSIX
    PATH = /Users/hornenj/perl5/perlbrew/bin:/Users/hornenj/perl5/perlbrew/perls/perl-5.16.1/bin:/Users/hornenj/perl5/perlbrew/bin:/Users/hornenj/bin:/sw/bin:/usr/bin:/bin:/usr/X11R6/bin
    PERL5LIB = /Users/hornenj/.cpan/build/SQL-Abstract-1.84-39/blib/arch:/Users/hornenj/.cpan/build/SQL-Abstract-1.84-39/blib/lib:/Users/hornenj/.cpan/build/Hash-Merge-0.200-52/blib/arch:/Users/hornenj/.cpan/build/Hash-Merge-0.200-52/blib/lib:/Users/hornenj/.cpan/build/Data-Page-2.02-18/blib/arch:/Users/hornenj/.cpan/build/Data-Page-2.02-18/blib/lib:/Users/hornenj/.cpan/build/Config-Any-0.32-51/blib/arch:/Users/hornenj/.cpan/build/Config-Any-0.32-51/blib/lib:/Users/hornenj/.cpan/build/Class-C3-Componentised-1.001000-12/blib/arch:/Users/hornenj/.cpan/build/Class-C3-Componentised-1.001000-12/blib/lib:/Users/hornenj/.cpan/build/Class-C3-0.33-12/blib/arch:/Users/hornenj/.cpan/build/Class-C3-0.33-12/blib/lib:/Users/hornenj/.cpan/build/Algorithm-C3-0.10-12/blib/arch:/Users/hornenj/.cpan/build/Algorithm-C3-0.10-12/blib/lib:/Users/hornenj/.cpan/build/Class-Accessor-Grouped-0.10012-12/blib/arch:/Users/hornenj/.cpan/build/Class-Accessor-Grouped-0.10012-12/blib/lib:/Users/hornenj/.cpan/build/Context-Preserve-0.02-12/blib/arch:/Users/hornenj/.cpan/build/Context-Preserve-0.02-12/blib/lib:/Users/hornenj/.cpan/build/Config-MySQL-0.02-10/blib/arch:/Users/hornenj/.cpan/build/Config-MySQL-0.02-10/blib/lib:/Users/hornenj/.cpan/build/Config-INI-0.025-63/blib/arch:/Users/hornenj/.cpan/build/Config-INI-0.025-63/blib/lib
    PERL5OPT = 
    PERL5_CPANPLUS_IS_RUNNING = 96211
    PERL5_CPAN_IS_RUNNING = 96211
    PERL5_MINISMOKEBOX = 0.68
    PERLBREW_BASHRC_VERSION = 0.80
    PERLBREW_HOME = /Users/hornenj/.perlbrew
    PERLBREW_LIB = 
    PERLBREW_MANPATH = /Users/hornenj/perl5/perlbrew/perls/perl-5.16.1/man
    PERLBREW_PATH = /Users/hornenj/perl5/perlbrew/bin:/Users/hornenj/perl5/perlbrew/perls/perl-5.16.1/bin
    PERLBREW_PERL = perl-5.16.1
    PERLBREW_ROOT = /Users/hornenj/perl5/perlbrew
    PERLBREW_VERSION = 0.80
    PERL_EXTUTILS_AUTOINSTALL = --defaultdeps
    PERL_LOCAL_LIB_ROOT = 
    PERL_MM_USE_DEFAULT = 1
    SHELL = /bin/bash
    TERM = xterm-256color
    TMPDIR = /var/folders/pz/pd7y1qjs6s3cbk170cw50fjc000c61/T/

Perl special variables (and OS-specific diagnostics, for MSWin32):

    $^X = /Users/hornenj/perl5/perlbrew/perls/perl-5.16.1/bin/perl5.16.1
    $UID/$EUID = 12481 / 12481
    $GID = 14 14 5344 37191 527 12 62 204 399 206 37223 241 223
    $EGID = 14 14 5344 37191 527 12 62 204 399 206 37223 241 223

Perl module toolchain versions installed:

    Module              Have    
    ------------------- --------
    CPAN                2.16    
    CPAN::Meta          2.150005
    Cwd                 3.47    
    ExtUtils::CBuilder  0.280224
    ExtUtils::Command   7.30    
    ExtUtils::Install   2.06    
    ExtUtils::MakeMaker 7.30    
    ExtUtils::Manifest  1.70    
    ExtUtils::ParseXS   3.30    
    File::Spec          3.47    
    JSON                2.93    
    JSON::PP            2.27400 
    Module::Build       0.4214  
    Module::Signature   n/a     
    Parse::CPAN::Meta   1.4422  
    Test::Harness       3.36    
    Test::More          1.302103
    YAML                1.23    
    YAML::Syck          1.30    
    version             0.9912  


--

Summary of my perl5 (revision 5 version 16 subversion 1) configuration:
   
  Platform:
    osname=darwin, osvers=13.4.0, archname=darwin-thread-multi-2level
    uname='darwin ncbimac2008.ncbi.nlm.nih.gov 13.4.0 darwin kernel version 13.4.0: sun aug 17 19:50:11 pdt 2014; root:xnu-2422.115.4~1release_x86_64 x86_64 '
    config_args='-de -Dprefix=/Users/hornenj/perl5/perlbrew/perls/perl-5.16.1 -Duseithreads -Dusemultiplicity -Dusedevel -Accflags=-O2 -W -Wformat=2 -Wswitch -Wshadow -Wwrite-strings -Wuninitialized -Wall -pipe -mtune=native -march=native -fomit-frame-pointer -msse2 -msse -mmmx -pedantic -D_FORTIFY_SOURCE=2 -Wpointer-arith -Wstrict-prototypes -fstack-protector -Wstack-protector -Wextra -Wbad-function-cast -Wcast-align -Wcast-qual -Wdisabled-optimization -Wendif-labels -Wfloat-equal -Wformat-nonliteral -Winline -Wmissing-declarations -Wmissing-prototypes -Wnested-externs -Wpointer-arith -Wundef -Wformat-security -fassociative-math -Acc=cc -Aeval:scriptdir=/Users/hornenj/perl5/perlbrew/perls/perl-5.16.1/bin'
    hint=recommended, useposix=true, d_sigaction=define
    useithreads=define, usemultiplicity=define
    useperlio=define, d_sfio=undef, uselargefiles=define, usesocks=undef
    use64bitint=define, use64bitall=define, uselongdouble=undef
    usemymalloc=n, bincompat5005=undef
  Compiler:
    cc=' cc', ccflags ='-fno-common -DPERL_DARWIN -O2 -W -Wformat=2 -Wswitch -Wshadow -Wwrite-strings -Wuninitialized -Wall -pipe -mtune=native -march=native -fomit-frame-pointer -msse2 -msse -mmmx -pedantic -D_FORTIFY_SOURCE=2 -Wpointer-arith -Wstrict-prototypes -fstack-protector -Wstack-protector -Wextra -Wbad-function-cast -Wcast-align -Wcast-qual -Wdisabled-optimization -Wendif-labels -Wfloat-equal -Wformat-nonliteral -Winline -Wmissing-declarations -Wmissing-prototypes -Wnested-externs -Wpointer-arith -Wundef -Wformat-security -fassociative-math -fno-strict-aliasing -I/usr/local/include',
    optimize='-O3',
    cppflags='-fno-common -DPERL_DARWIN -O2 -W -Wformat=2 -Wswitch -Wshadow -Wwrite-strings -Wuninitialized -Wall -pipe -mtune=native -march=native -fomit-frame-pointer -msse2 -msse -mmmx -pedantic -D_FORTIFY_SOURCE=2 -Wpointer-arith -Wstrict-prototypes -fstack-protector -Wstack-protector -Wextra -Wbad-function-cast -Wcast-align -Wcast-qual -Wdisabled-optimization -Wendif-labels -Wfloat-equal -Wformat-nonliteral -Winline -Wmissing-declarations -Wmissing-prototypes -Wnested-externs -Wpointer-arith -Wundef -Wformat-security -fassociative-math -fno-strict-aliasing -I/usr/local/include'
    ccversion='', gccversion='4.2.1 Compatible Apple LLVM 6.0 (clang-600.0.51)', gccosandvers=''
    intsize=4, longsize=8, ptrsize=8, doublesize=8, byteorder=12345678
    d_longlong=define, longlongsize=8, d_longdbl=define, longdblsize=16
    ivtype='long', ivsize=8, nvtype='double', nvsize=8, Off_t='off_t', lseeksize=8
    alignbytes=8, prototype=define
  Linker and Libraries:
    ld='env MACOSX_DEPLOYMENT_TARGET=10.3 cc', ldflags =' -fstack-protector -L/usr/local/lib'
    libpth=/usr/local/lib /usr/lib
    libs=-ldbm -ldl -lm -lutil -lc
    perllibs=-ldl -lm -lutil -lc
    libc=, so=dylib, useshrplib=false, libperl=libperl.a
    gnulibc_version=''
  Dynamic Linking:
    dlsrc=dl_dlopen.xs, dlext=bundle, d_dlsymun=undef, ccdlflags=' '
    cccdlflags=' ', lddlflags=' -bundle -undefined dynamic_lookup -L/usr/local/lib -fstack-protector'


Characteristics of this binary (from libperl): 
  Compile-time options: HAS_TIMES MULTIPLICITY PERLIO_LAYERS
                        PERL_DONT_CREATE_GVSV PERL_IMPLICIT_CONTEXT
                        PERL_MALLOC_WRAP PERL_PRESERVE_IVUV PERL_USE_DEVEL
                        USE_64_BIT_ALL USE_64_BIT_INT USE_ITHREADS
                        USE_LARGE_FILES USE_LOCALE USE_LOCALE_COLLATE
                        USE_LOCALE_CTYPE USE_LOCALE_NUMERIC USE_PERLIO
                        USE_PERL_ATOF USE_REENTRANT_API
  Built under darwin
  Compiled at Oct  7 2014 11:45:43
  %ENV:
    PERL5LIB="/Users/hornenj/.cpan/build/SQL-Abstract-1.84-39/blib/arch:/Users/hornenj/.cpan/build/SQL-Abstract-1.84-39/blib/lib:/Users/hornenj/.cpan/build/Hash-Merge-0.200-52/blib/arch:/Users/hornenj/.cpan/build/Hash-Merge-0.200-52/blib/lib:/Users/hornenj/.cpan/build/Data-Page-2.02-18/blib/arch:/Users/hornenj/.cpan/build/Data-Page-2.02-18/blib/lib:/Users/hornenj/.cpan/build/Config-Any-0.32-51/blib/arch:/Users/hornenj/.cpan/build/Config-Any-0.32-51/blib/lib:/Users/hornenj/.cpan/build/Class-C3-Componentised-1.001000-12/blib/arch:/Users/hornenj/.cpan/build/Class-C3-Componentised-1.001000-12/blib/lib:/Users/hornenj/.cpan/build/Class-C3-0.33-12/blib/arch:/Users/hornenj/.cpan/build/Class-C3-0.33-12/blib/lib:/Users/hornenj/.cpan/build/Algorithm-C3-0.10-12/blib/arch:/Users/hornenj/.cpan/build/Algorithm-C3-0.10-12/blib/lib:/Users/hornenj/.cpan/build/Class-Accessor-Grouped-0.10012-12/blib/arch:/Users/hornenj/.cpan/build/Class-Accessor-Grouped-0.10012-12/blib/lib:/Users/hornenj/.cpan/build/Context-Preserve-0.02-12/blib/arch:/Users/hornenj/.cpan/build/Context-Preserve-0.02-12/blib/lib:/Users/hornenj/.cpan/build/Config-MySQL-0.02-10/blib/arch:/Users/hornenj/.cpan/build/Config-MySQL-0.02-10/blib/lib:/Users/hornenj/.cpan/build/Config-INI-0.025-63/blib/arch:/Users/hornenj/.cpan/build/Config-INI-0.025-63/blib/lib"
    PERL5OPT=""
    PERL5_CPANPLUS_IS_RUNNING="96211"
    PERL5_CPAN_IS_RUNNING="96211"
    PERL5_MINISMOKEBOX="0.68"
    PERLBREW_BASHRC_VERSION="0.80"
    PERLBREW_HOME="/Users/hornenj/.perlbrew"
    PERLBREW_LIB=""
    PERLBREW_MANPATH="/Users/hornenj/perl5/perlbrew/perls/perl-5.16.1/man"
    PERLBREW_PATH="/Users/hornenj/perl5/perlbrew/bin:/Users/hornenj/perl5/perlbrew/perls/perl-5.16.1/bin"
    PERLBREW_PERL="perl-5.16.1"
    PERLBREW_ROOT="/Users/hornenj/perl5/perlbrew"
    PERLBREW_VERSION="0.80"
    PERL_EXTUTILS_AUTOINSTALL="--defaultdeps"
    PERL_LOCAL_LIB_ROOT=""
    PERL_MM_USE_DEFAULT="1"
  @INC:
    /Users/hornenj/.cpan/build/SQL-Abstract-1.84-39/blib/arch
    /Users/hornenj/.cpan/build/SQL-Abstract-1.84-39/blib/lib
    /Users/hornenj/.cpan/build/Hash-Merge-0.200-52/blib/arch
    /Users/hornenj/.cpan/build/Hash-Merge-0.200-52/blib/lib
    /Users/hornenj/.cpan/build/Data-Page-2.02-18/blib/arch
    /Users/hornenj/.cpan/build/Data-Page-2.02-18/blib/lib
    /Users/hornenj/.cpan/build/Config-Any-0.32-51/blib/arch
    /Users/hornenj/.cpan/build/Config-Any-0.32-51/blib/lib
    /Users/hornenj/.cpan/build/Class-C3-Componentised-1.001000-12/blib/arch
    /Users/hornenj/.cpan/build/Class-C3-Componentised-1.001000-12/blib/lib
    /Users/hornenj/.cpan/build/Class-C3-0.33-12/blib/arch
    /Users/hornenj/.cpan/build/Class-C3-0.33-12/blib/lib
    /Users/hornenj/.cpan/build/Algorithm-C3-0.10-12/blib/arch
    /Users/hornenj/.cpan/build/Algorithm-C3-0.10-12/blib/lib
    /Users/hornenj/.cpan/build/Class-Accessor-Grouped-0.10012-12/blib/arch
    /Users/hornenj/.cpan/build/Class-Accessor-Grouped-0.10012-12/blib/lib
    /Users/hornenj/.cpan/build/Context-Preserve-0.02-12/blib/arch
    /Users/hornenj/.cpan/build/Context-Preserve-0.02-12/blib/lib
    /Users/hornenj/.cpan/build/Config-MySQL-0.02-10/blib/arch
    /Users/hornenj/.cpan/build/Config-MySQL-0.02-10/blib/lib
    /Users/hornenj/.cpan/build/Config-INI-0.025-63/blib/arch
    /Users/hornenj/.cpan/build/Config-INI-0.025-63/blib/lib
    /Users/hornenj/perl5/perlbrew/perls/perl-5.16.1/lib/site_perl/5.16.1/darwin-thread-multi-2level
    /Users/hornenj/perl5/perlbrew/perls/perl-5.16.1/lib/site_perl/5.16.1
    /Users/hornenj/perl5/perlbrew/perls/perl-5.16.1/lib/5.16.1/darwin-thread-multi-2level
    /Users/hornenj/perl5/perlbrew/perls/perl-5.16.1/lib/5.16.1
    .