Mojo-GoogleAnalytics v0.04 Perl 5 v5.24.4 x86_64-linux-ld
- Status
- Pass
- From
- Andreas J. König (ANDK)
- Dist
-
Mojo-GoogleAnalytics v0.04
- Platform
- Perl 5 v5.24.4 x86_64-linux-ld
- Date
- 2018-07-19 11:08:07
- ID
- 03b3d4a6-8b44-11e8-8b3c-1db5fc3e88eb
This distribution has been tested as part of the CPAN Testers
project, supporting the Perl programming language. See
http://wiki.cpantesters.org/ for more information or email
questions to cpan-testers-discuss@perl.org
--
Dear Jan Henning Thorsen,
This is a computer-generated report for Mojo-GoogleAnalytics-0.04
on perl 5.24.4, created by CPAN-Reporter-1.2018.
Thank you for uploading your work to CPAN. Congratulations!
All tests were successful.
Sections of this report:
* Tester comments
* Program output
* Prerequisites
* Environment and other context
------------------------------
TESTER COMMENTS
------------------------------
Additional comments from tester:
this report is from an automated smoke testing program
and was not reviewed by a human for accuracy
------------------------------
PROGRAM OUTPUT
------------------------------
Output from '/usr/bin/make test':
PERL_DL_NONLAZY=1 "/home/sand/src/perl/repoperls/installed-perls/host/k93msid/v5.24.4/fc43/bin/perl" "-MExtUtils::Command::MM" "-MTest::Harness" "-e" "undef *Test::Harness::Switches; test_harness(0, 'blib/lib', 'blib/arch')" t/*.t
t/00-basic.t .......... ok
t/auth.t .............. skipped: TEST_GA_FILE is not set
t/batch_get.t ......... skipped: TEST_GA_FILE is not set
t/get_report.t ........ skipped: TEST_GA_FILE is not set
[Thu Jul 19 11:07:51 2018] [debug] POST "/mocked/ga/o/oauth2/token" (f31edb06)
[Thu Jul 19 11:07:51 2018] [debug] Routing to a callback
[Thu Jul 19 11:07:51 2018] [debug] 200 OK (0.000539s, 1855.288/s)
[Thu Jul 19 11:07:51 2018] [debug] POST "/mocked/ga/v4/reports:batchGet" (dc6b1d90)
[Thu Jul 19 11:07:51 2018] [debug] Routing to a callback
[Thu Jul 19 11:07:51 2018] [debug] 500 Internal Server Error (0.000413s, 2421.308/s)
[Thu Jul 19 11:07:51 2018] [debug] POST "/mocked/ga/v4/reports:batchGet" (fd0ba4a0)
[Thu Jul 19 11:07:51 2018] [debug] Routing to a callback
[Thu Jul 19 11:07:51 2018] [debug] 200 OK (0.000382s, 2617.801/s)
[Thu Jul 19 11:07:51 2018] [debug] POST "/mocked/ga/v4/reports:batchGet" (13c1842e)
[Thu Jul 19 11:07:51 2018] [debug] Routing to a callback
[Thu Jul 19 11:07:51 2018] [debug] 200 OK (0.000325s, 3076.923/s)
[Thu Jul 19 11:07:51 2018] [debug] POST "/no/such/route" (a9d35043)
[Thu Jul 19 11:07:51 2018] [debug] Template "not_found.development.html.ep" not found
[Thu Jul 19 11:07:51 2018] [debug] Template "not_found.html.ep" not found
[Thu Jul 19 11:07:51 2018] [debug] Rendering template "mojo/debug.html.ep"
[Thu Jul 19 11:07:51 2018] [debug] Rendering template "mojo/menubar.html.ep"
[Thu Jul 19 11:07:51 2018] [debug] Your secret passphrase needs to be changed
[Thu Jul 19 11:07:51 2018] [debug] 404 Not Found (0.067975s, 14.711/s)
t/mock.t .............. ok
t/query-translator.t .. ok
All tests successful.
Files=6, Tests=23, 8 wallclock secs ( 0.02 usr 0.05 sys + 2.05 cusr 0.36 csys = 2.48 CPU)
Result: PASS
------------------------------
PREREQUISITES
------------------------------
Prerequisite modules loaded:
requires:
Module Need Have
------------------- ---- --------
Crypt::OpenSSL::RSA 0.30 0.30
Mojo::JWT 0.05 0.07
Mojolicious 7.80 7.87
build_requires:
Module Need Have
------------------- ---- --------
Test::More 0.88 1.302136
configure_requires:
Module Need Have
------------------- ---- --------
ExtUtils::MakeMaker 0 7.35_04
------------------------------
ENVIRONMENT AND OTHER CONTEXT
------------------------------
Environment variables:
AUTOMATED_TESTING = 1
LANG = en_US.UTF-8
PATH = /home/sand/bin:/usr/local/bin:/usr/bin:/bin:/usr/games:/usr/local/perl/bin:/usr/X11/bin:/sbin:/usr/sbin
PERL5LIB =
PERL5OPT =
PERL5_CPANPLUS_IS_RUNNING = 26483
PERL5_CPAN_IS_RUNNING = 26483
PERL_CANARY_STABILITY_NOPROMPT = 1
PERL_MM_USE_DEFAULT = 1
PERL_USE_UNSAFE_INC = 1
SHELL = /usr/bin/zsh
TERM = screen
Perl special variables (and OS-specific diagnostics, for MSWin32):
$^X = /home/sand/src/perl/repoperls/installed-perls/host/k93msid/v5.24.4/fc43/bin/perl
$UID/$EUID = 1005 / 1005
$GID = 1005 1005
$EGID = 1005 1005
Perl module toolchain versions installed:
Module Have
------------------- --------
CPAN 2.20
CPAN::Meta 2.150010
Cwd 3.74
ExtUtils::CBuilder 0.280230
ExtUtils::Command 7.35_04
ExtUtils::Install 2.06
ExtUtils::MakeMaker 7.35_04
ExtUtils::Manifest 1.70
ExtUtils::ParseXS 3.31
File::Spec 3.74
JSON 2.97001
JSON::PP 2.97001
Module::Build 0.4224
Module::Signature 0.81
Parse::CPAN::Meta 2.150010
Test::Harness 3.42
Test::More 1.302136
YAML 1.26
YAML::Syck 1.30
version 0.9916
--
Summary of my perl5 (revision 5 version 24 subversion 4) configuration:
Derived from: 901dd848e31de6d0cacfb77c029b4e92c41a13ce
Platform:
osname=linux, osvers=4.14.0-3-amd64, archname=x86_64-linux-ld
uname='linux k93msid 4.14.0-3-amd64 #1 smp debian 4.14.12-2 (2018-01-06) x86_64 gnulinux '
config_args='-Dprefix=/home/sand/src/perl/repoperls/installed-perls/host/k93msid/v5.24.4/fc43 -Dmyhostname=k93msid -Dinstallusrbinperl=n -Uversiononly -Dusedevel -des -Ui_db -Dlibswanted=cl pthread socket inet nsl gdbm dbm malloc dl ld sun m crypt sec util c cposix posix ucb BSD gdbm_compat -Uuseithreads -Duselongdouble -DEBUGGING=both'
hint=recommended, useposix=true, d_sigaction=define
useithreads=undef, usemultiplicity=undef
use64bitint=define, use64bitall=define, uselongdouble=define
usemymalloc=n, bincompat5005=undef
Compiler:
cc='cc', ccflags ='-fwrapv -DDEBUGGING -fno-strict-aliasing -pipe -fstack-protector-strong -I/usr/local/include -D_LARGEFILE_SOURCE -D_FILE_OFFSET_BITS=64 -D_FORTIFY_SOURCE=2',
optimize='-O2 -g',
cppflags='-fwrapv -DDEBUGGING -fno-strict-aliasing -pipe -fstack-protector-strong -I/usr/local/include'
ccversion='', gccversion='7.2.0', gccosandvers=''
intsize=4, longsize=8, ptrsize=8, doublesize=8, byteorder=12345678, doublekind=3
d_longlong=define, longlongsize=8, d_longdbl=define, longdblsize=16, longdblkind=3
ivtype='long', ivsize=8, nvtype='long double', nvsize=16, Off_t='off_t', lseeksize=8
alignbytes=16, prototype=define
Linker and Libraries:
ld='cc', ldflags =' -fstack-protector-strong -L/usr/local/lib'
libpth=/usr/local/lib /usr/lib/gcc/x86_64-linux-gnu/7/include-fixed /usr/include/x86_64-linux-gnu /usr/lib /lib/x86_64-linux-gnu /lib/../lib /usr/lib/x86_64-linux-gnu /usr/lib/../lib /lib
libs=-lpthread -lnsl -ldl -lm -lcrypt -lutil -lc
perllibs=-lpthread -lnsl -ldl -lm -lcrypt -lutil -lc
libc=libc-2.26.so, so=so, useshrplib=false, libperl=libperl.a
gnulibc_version='2.26'
Dynamic Linking:
dlsrc=dl_dlopen.xs, dlext=so, d_dlsymun=undef, ccdlflags='-Wl,-E'
cccdlflags='-fPIC', lddlflags='-shared -O2 -g -L/usr/local/lib -fstack-protector-strong'
Characteristics of this binary (from libperl):
Compile-time options: DEBUGGING HAS_TIMES PERLIO_LAYERS PERL_COPY_ON_WRITE
PERL_DONT_CREATE_GVSV
PERL_HASH_FUNC_ONE_AT_A_TIME_HARD PERL_MALLOC_WRAP
PERL_PRESERVE_IVUV PERL_USE_DEVEL USE_64_BIT_ALL
USE_64_BIT_INT USE_LARGE_FILES USE_LOCALE
USE_LOCALE_COLLATE USE_LOCALE_CTYPE
USE_LOCALE_NUMERIC USE_LOCALE_TIME USE_LONG_DOUBLE
USE_PERLIO USE_PERL_ATOF
Locally applied patches:
uncommitted-changes
Built under linux
Compiled at May 23 2018 21:33:57
%ENV:
PERL5LIB=""
PERL5OPT=""
PERL5_CPANPLUS_IS_RUNNING="26483"
PERL5_CPAN_IS_RUNNING="26483"
PERL_CANARY_STABILITY_NOPROMPT="1"
PERL_MM_USE_DEFAULT="1"
PERL_USE_UNSAFE_INC="1"
@INC:
/home/sand/src/perl/repoperls/installed-perls/host/k93msid/v5.24.4/fc43/lib/site_perl/5.24.4/x86_64-linux-ld
/home/sand/src/perl/repoperls/installed-perls/host/k93msid/v5.24.4/fc43/lib/site_perl/5.24.4
/home/sand/src/perl/repoperls/installed-perls/host/k93msid/v5.24.4/fc43/lib/5.24.4/x86_64-linux-ld
/home/sand/src/perl/repoperls/installed-perls/host/k93msid/v5.24.4/fc43/lib/5.24.4
.