Report for Catalyst-DispatchType-Regex-5.90032

Back
From: metabase:user:1eed3a18-483e-11e2-a87b-a3931c712682
Subject: PASS Catalyst-DispatchType-Regex-5.90032 v5.16.3 Mac OS X
Date: 2013-04-13T13:28:23Z

This distribution has been tested as part of the CPAN Testers
project, supporting the Perl programming language.  See
http://wiki.cpantesters.org/ for more information or email
questions to cpan-testers-discuss@perl.org


--
Catalyst-DispatchType-Regex-5.90032 ... PASS

Perl           : v5.16.3
System         : darwin
Local Versions :
    Catalyst::DispatchType::Regex    : 
    MooseX::Emulate::Class::Accessor::Fast : 0.00903
    Sub::Exporter                    : 0.985
    ExtUtils::Install                : 1.58
    MooseX::Role::WithOverloading    : 0.13
    HTTP::Headers                    : 6.05
    Data::Dump                       : 1.21
    Module::Build                    : 0.4004
    List::MoreUtils                  : 0.33
    Plack::Test::ExternalServer      : 0.01
    Try::Tiny                        : 0.12
    Test::Exception                  : 0.31
    Data::Dumper                     : 2.145
    HTML::HeadParser                 : 3.69
    ExtUtils::MakeMaker              : 6.64
    HTTP::Body                       : 1.17
    Data::OptList                    : 0.107
    HTTP::Request::Common            : 6.04
    Test::More                       : 0.98
    HTTP::Response                   : 6.04
    CGI::Simple::Cookie              : 1.113
    Path::Class                      : 0.32
    HTTP::Request                    : 6.00
    Tree::Simple                     : 1.18
    Scalar::Util                     : 1.27
    Class::MOP                       : 2.0801
    String::RewritePrefix            : 0.006
    Safe::Isa                        : 1.000003
    Tree::Simple::Visitor::FindByPath : 0.03
    MooseX::Getopt                   : 0.56
    Text::Balanced                   : 2.02
    HTML::Entities                   : 3.69
    Class::Data::Inheritable         : 0.08
    MRO::Compat                      : 0.12
    Task::Weaken                     : 1.04
    Moose                            : 2.0801
    MooseX::MethodAttributes::Inheritable : 0.28
    Module::Pluggable                : 4.7
    HTTP::Request::AsCGI             : 1.2
    Class::C3::Adopt::NEXT           : 0.13
    URI                              : 1.60
    namespace::autoclean             : 0.13
    Plack                            : 1.0023
    Class::Load                      : 0.20
    Plack::Middleware::ReverseProxy  : 0.15
    Text::SimpleTable                : 2.03
    Time::HiRes                      : 1.9725
    Carp                             : 1.26
    namespace::clean                 : 0.24
    LWP::UserAgent                   : 6.05

Test Output    :

t/01use.t .............................................. skipped: Test require Catalyst::Runtime 5.90030
t/aggregate/live_component_controller_action_regexp.t .. skipped: Test require Catalyst::Runtime 5.90030
t/aggregate/live_priorities.t .......................... skipped: Test require Catalyst::Runtime 5.90030
t/aggregate/unit_core_uri_for_action.t ................. skipped: Test require Catalyst::Runtime 5.90030
Files=4, Tests=0,  1 wallclock secs ( 0.04 usr  0.02 sys +  0.18 cusr  0.03 csys =  0.27 CPU)
Result: NOTESTS


--

Summary of my perl5 (revision 5 version 16 subversion 3) configuration:
   
  Platform:
    osname=darwin, osvers=12.2.0, archname=darwin-2level
    uname='darwin stanislaws-macbook-pro.local 12.2.0 darwin kernel version 12.2.0: sat aug 25 00:48:52 pdt 2012; root:xnu-2050.18.24~1release_x86_64 x86_64 '
    config_args='-de -Dprefix=/Users/stas/perl5/perlbrew/perls/perl-5.16.2 -Aeval:scriptdir=/Users/stas/perl5/perlbrew/perls/perl-5.16.2/bin'
    hint=recommended, useposix=true, d_sigaction=define
    useithreads=undef, usemultiplicity=undef
    useperlio=define, d_sfio=undef, uselargefiles=define, usesocks=undef
    use64bitint=define, use64bitall=define, uselongdouble=undef
    usemymalloc=n, bincompat5005=undef
  Compiler:
    cc='cc', ccflags ='-fno-common -DPERL_DARWIN -fno-strict-aliasing -pipe -fstack-protector -I/opt/local/include',
    optimize='-O3',
    cppflags='-fno-common -DPERL_DARWIN -fno-strict-aliasing -pipe -fstack-protector -I/opt/local/include'
    ccversion='', gccversion='4.2.1 Compatible Apple Clang 4.0 ((tags/Apple/clang-421.0.60))', gccosandvers=''
    intsize=4, longsize=8, ptrsize=8, doublesize=8, byteorder=12345678
    d_longlong=define, longlongsize=8, d_longdbl=define, longdblsize=16
    ivtype='long', ivsize=8, nvtype='double', nvsize=8, Off_t='off_t', lseeksize=8
    alignbytes=8, prototype=define
  Linker and Libraries:
    ld='env MACOSX_DEPLOYMENT_TARGET=10.3 cc', ldflags =' -fstack-protector -L/opt/local/lib'
    libpth=/opt/local/lib /usr/lib
    libs=-lgdbm -ldbm -ldl -lm -lutil -lc
    perllibs=-ldl -lm -lutil -lc
    libc=, so=dylib, useshrplib=false, libperl=libperl.a
    gnulibc_version=''
  Dynamic Linking:
    dlsrc=dl_dlopen.xs, dlext=bundle, d_dlsymun=undef, ccdlflags=' '
    cccdlflags=' ', lddlflags=' -bundle -undefined dynamic_lookup -L/opt/local/lib -fstack-protector'


Characteristics of this binary (from libperl): 
  Compile-time options: HAS_TIMES PERLIO_LAYERS PERL_DONT_CREATE_GVSV
                        PERL_MALLOC_WRAP PERL_PRESERVE_IVUV USE_64_BIT_ALL
                        USE_64_BIT_INT USE_LARGE_FILES USE_LOCALE
                        USE_LOCALE_COLLATE USE_LOCALE_CTYPE
                        USE_LOCALE_NUMERIC USE_PERLIO USE_PERL_ATOF
  Built under darwin
  Compiled at Mar 12 2013 10:31:08
  %ENV:
    PERLBREW_BASHRC_VERSION="0.62"
    PERLBREW_HOME="/Users/stas/.perlbrew"
    PERLBREW_MANPATH="/Users/stas/perl5/perlbrew/perls/perl-5.16.2/man"
    PERLBREW_PATH="/Users/stas/perl5/perlbrew/bin:/Users/stas/perl5/perlbrew/perls/perl-5.16.2/bin"
    PERLBREW_PERL="perl-5.16.2"
    PERLBREW_ROOT="/Users/stas/perl5/perlbrew"
    PERLBREW_VERSION="0.62"
    PERL_MM_USE_DEFAULT="1"
  @INC:
    /Users/stas/perl5/perlbrew/perls/perl-5.16.2/lib/site_perl/5.16.3/darwin-2level
    /Users/stas/perl5/perlbrew/perls/perl-5.16.2/lib/site_perl/5.16.3
    /Users/stas/perl5/perlbrew/perls/perl-5.16.2/lib/5.16.3/darwin-2level
    /Users/stas/perl5/perlbrew/perls/perl-5.16.2/lib/5.16.3
    /Users/stas/perl5/perlbrew/perls/perl-5.16.2/lib/site_perl/5.16.2/darwin-2level
    /Users/stas/perl5/perlbrew/perls/perl-5.16.2/lib/site_perl/5.16.2
    /Users/stas/perl5/perlbrew/perls/perl-5.16.2/lib/site_perl
    .