Class-MethodMaker v2.25 Perl 5 v5.20.3 darwin-2level
- Status
- Pass
- From
- Stanislaw Pusep
- Dist
-
Class-MethodMaker v2.25
- Platform
- Perl 5 v5.20.3 darwin-2level
- Date
- 2024-11-17 08:43:27
- ID
- 03cea35c-a4c0-11ef-bc05-a40fba01a8db
This distribution has been tested as part of the CPAN Testers
project, supporting the Perl programming language. See
http://wiki.cpantesters.org/ for more information or email
questions to cpan-testers-discuss@perl.org
--
Dear SCHWIGON,
This is a computer-generated report for Class-MethodMaker-2.25
on perl 5.20.3, created by App::cpanminus::reporter 0.22 (1.7047).
Thank you for uploading your work to CPAN. Congratulations!
All tests were successful.
Sections of this report:
* Tester comments
* Program output
* Prerequisites
* Environment and other context
------------------------------
TESTER COMMENTS
------------------------------
Additional comments from tester:
none provided
------------------------------
PROGRAM OUTPUT
------------------------------
Output from '':
Building and testing Class-MethodMaker-2.25
"/Users/stan/perl5/perlbrew/perls/perl-5.20.3/bin/perl" cmmg.pl components/array.m > lib/Class/MethodMaker/array.pm
"/Users/stan/perl5/perlbrew/perls/perl-5.20.3/bin/perl" cmmg.pl components/hash.m > lib/Class/MethodMaker/hash.pm
"/Users/stan/perl5/perlbrew/perls/perl-5.20.3/bin/perl" cmmg.pl components/scalar.m > lib/Class/MethodMaker/scalar.pm
cp lib/Class/MethodMaker/OptExt.pm blib/lib/Class/MethodMaker/OptExt.pm
cp lib/Class/MethodMaker/V1Compat.pm blib/lib/Class/MethodMaker/V1Compat.pm
cp lib/Class/MethodMaker.pm blib/lib/Class/MethodMaker.pm
cp lib/Class/MethodMaker/array.pm blib/lib/Class/MethodMaker/array.pm
AutoSplitting blib/lib/Class/MethodMaker/array.pm (blib/lib/auto/Class/MethodMaker/array)
cp lib/Class/MethodMaker/Engine.pm blib/lib/Class/MethodMaker/Engine.pm
AutoSplitting blib/lib/Class/MethodMaker/Engine.pm (blib/lib/auto/Class/MethodMaker/Engine)
cp lib/Class/MethodMaker/scalar.pm blib/lib/Class/MethodMaker/scalar.pm
AutoSplitting blib/lib/Class/MethodMaker/scalar.pm (blib/lib/auto/Class/MethodMaker/scalar)
cp lib/Class/MethodMaker/hash.pm blib/lib/Class/MethodMaker/hash.pm
AutoSplitting blib/lib/Class/MethodMaker/hash.pm (blib/lib/auto/Class/MethodMaker/hash)
cp lib/Class/MethodMaker/Constants.pm blib/lib/Class/MethodMaker/Constants.pm
Running Mkbootstrap for MethodMaker ()
chmod 644 "MethodMaker.bs"
"/Users/stan/perl5/perlbrew/perls/perl-5.20.3/bin/perl" -MExtUtils::Command::MM -e 'cp_nonempty' -- MethodMaker.bs blib/arch/auto/Class/MethodMaker/MethodMaker.bs 644
"/Users/stan/perl5/perlbrew/perls/perl-5.20.3/bin/perl" "/Users/stan/perl5/perlbrew/perls/perl-5.20.3/lib/site_perl/5.20.3/ExtUtils/xsubpp" -typemap '/Users/stan/perl5/perlbrew/perls/perl-5.20.3/lib/5.20.3/ExtUtils/typemap' MethodMaker.xs > MethodMaker.xsc
mv MethodMaker.xsc MethodMaker.c
cc -c -fno-common -DPERL_DARWIN -mmacosx-version-min=12.2 -fno-strict-aliasing -pipe -fstack-protector -I/usr/local/include -DPERL_USE_SAFE_PUTENV -Wno-error=implicit-function-declaration -O3 -DVERSION=\"2.25\" -DXS_VERSION=\"2.25\" "-I/Users/stan/perl5/perlbrew/perls/perl-5.20.3/lib/5.20.3/darwin-2level/CORE" MethodMaker.c
In file included from MethodMaker.xs:2:
In file included from /Users/stan/perl5/perlbrew/perls/perl-5.20.3/lib/5.20.3/darwin-2level/CORE/perl.h:3344:
In file included from /Users/stan/perl5/perlbrew/perls/perl-5.20.3/lib/5.20.3/darwin-2level/CORE/hv.h:629:
/Users/stan/perl5/perlbrew/perls/perl-5.20.3/lib/5.20.3/darwin-2level/CORE/hv_func.h:393:7: warning: '(' and '{' tokens introducing statement expression appear in different macro expansion contexts [-Wcompound-token-split-by-macro]
MURMUR_DOBYTES((int)i, h1, carry, bytes_in_carry, ptr, len);
^~~~~~~~~~~~~~~~~~~~~~~~~~~~~~~~~~~~~~~~~~~~~~~~~~~~~~~~~~~
/Users/stan/perl5/perlbrew/perls/perl-5.20.3/lib/5.20.3/darwin-2level/CORE/hv_func.h:348:49: note: expanded from macro 'MURMUR_DOBYTES'
#define MURMUR_DOBYTES(cnt, h1, c, n, ptr, len) STMT_START { \
^~~~~~~~~~
/Users/stan/perl5/perlbrew/perls/perl-5.20.3/lib/5.20.3/darwin-2level/CORE/perl.h:511:29: note: expanded from macro 'STMT_START'
# define STMT_START (void)( /* gcc supports "({ STATEMENTS; })" */
^
/Users/stan/perl5/perlbrew/perls/perl-5.20.3/lib/5.20.3/darwin-2level/CORE/hv_func.h:393:7: note: '{' token is here
MURMUR_DOBYTES((int)i, h1, carry, bytes_in_carry, ptr, len);
^~~~~~~~~~~~~~~~~~~~~~~~~~~~~~~~~~~~~~~~~~~~~~~~~~~~~~~~~~~
/Users/stan/perl5/perlbrew/perls/perl-5.20.3/lib/5.20.3/darwin-2level/CORE/hv_func.h:348:60: note: expanded from macro 'MURMUR_DOBYTES'
#define MURMUR_DOBYTES(cnt, h1, c, n, ptr, len) STMT_START { \
^
/Users/stan/perl5/perlbrew/perls/perl-5.20.3/lib/5.20.3/darwin-2level/CORE/hv_func.h:393:7: warning: '(' and '{' tokens introducing statement expression appear in different macro expansion contexts [-Wcompound-token-split-by-macro]
MURMUR_DOBYTES((int)i, h1, carry, bytes_in_carry, ptr, len);
^~~~~~~~~~~~~~~~~~~~~~~~~~~~~~~~~~~~~~~~~~~~~~~~~~~~~~~~~~~
/Users/stan/perl5/perlbrew/perls/perl-5.20.3/lib/5.20.3/darwin-2level/CORE/hv_func.h:354:13: note: expanded from macro 'MURMUR_DOBYTES'
MURMUR_DOBLOCK(h1, c); \
^~~~~~~~~~~~~~~~~~~~~
/Users/stan/perl5/perlbrew/perls/perl-5.20.3/lib/5.20.3/darwin-2level/CORE/hv_func.h:335:32: note: expanded from macro 'MURMUR_DOBLOCK'
#define MURMUR_DOBLOCK(h1, k1) STMT_START { \
^~~~~~~~~~
/Users/stan/perl5/perlbrew/perls/perl-5.20.3/lib/5.20.3/darwin-2level/CORE/perl.h:511:29: note: expanded from macro 'STMT_START'
# define STMT_START (void)( /* gcc supports "({ STATEMENTS; })" */
^
/Users/stan/perl5/perlbrew/perls/perl-5.20.3/lib/5.20.3/darwin-2level/CORE/hv_func.h:393:7: note: '{' token is here
MURMUR_DOBYTES((int)i, h1, carry, bytes_in_carry, ptr, len);
^~~~~~~~~~~~~~~~~~~~~~~~~~~~~~~~~~~~~~~~~~~~~~~~~~~~~~~~~~~
/Users/stan/perl5/perlbrew/perls/perl-5.20.3/lib/5.20.3/darwin-2level/CORE/hv_func.h:354:13: note: expanded from macro 'MURMUR_DOBYTES'
MURMUR_DOBLOCK(h1, c); \
^~~~~~~~~~~~~~~~~~~~~
/Users/stan/perl5/perlbrew/perls/perl-5.20.3/lib/5.20.3/darwin-2level/CORE/hv_func.h:335:43: note: expanded from macro 'MURMUR_DOBLOCK'
#define MURMUR_DOBLOCK(h1, k1) STMT_START { \
^
/Users/stan/perl5/perlbrew/perls/perl-5.20.3/lib/5.20.3/darwin-2level/CORE/hv_func.h:393:7: warning: '}' and ')' tokens terminating statement expression appear in different macro expansion contexts [-Wcompound-token-split-by-macro]
MURMUR_DOBYTES((int)i, h1, carry, bytes_in_carry, ptr, len);
^~~~~~~~~~~~~~~~~~~~~~~~~~~~~~~~~~~~~~~~~~~~~~~~~~~~~~~~~~~
/Users/stan/perl5/perlbrew/perls/perl-5.20.3/lib/5.20.3/darwin-2level/CORE/hv_func.h:354:13: note: expanded from macro 'MURMUR_DOBYTES'
MURMUR_DOBLOCK(h1, c); \
^~~~~~~~~~~~~~~~~~~~~
/Users/stan/perl5/perlbrew/perls/perl-5.20.3/lib/5.20.3/darwin-2level/CORE/hv_func.h:342:30: note: expanded from macro 'MURMUR_DOBLOCK'
h1 = h1 * 5 + MURMUR_C3; \
^
/Users/stan/perl5/perlbrew/perls/perl-5.20.3/lib/5.20.3/darwin-2level/CORE/hv_func.h:393:7: note: ')' token is here
MURMUR_DOBYTES((int)i, h1, carry, bytes_in_carry, ptr, len);
^~~~~~~~~~~~~~~~~~~~~~~~~~~~~~~~~~~~~~~~~~~~~~~~~~~~~~~~~~~
/Users/stan/perl5/perlbrew/perls/perl-5.20.3/lib/5.20.3/darwin-2level/CORE/hv_func.h:354:13: note: expanded from macro 'MURMUR_DOBYTES'
MURMUR_DOBLOCK(h1, c); \
^~~~~~~~~~~~~~~~~~~~~
/Users/stan/perl5/perlbrew/perls/perl-5.20.3/lib/5.20.3/darwin-2level/CORE/hv_func.h:343:3: note: expanded from macro 'MURMUR_DOBLOCK'
} STMT_END
^~~~~~~~
/Users/stan/perl5/perlbrew/perls/perl-5.20.3/lib/5.20.3/darwin-2level/CORE/perl.h:512:21: note: expanded from macro 'STMT_END'
# define STMT_END )
^
In file included from MethodMaker.xs:2:
In file included from /Users/stan/perl5/perlbrew/perls/perl-5.20.3/lib/5.20.3/darwin-2level/CORE/perl.h:3344:
In file included from /Users/stan/perl5/perlbrew/perls/perl-5.20.3/lib/5.20.3/darwin-2level/CORE/hv.h:629:
/Users/stan/perl5/perlbrew/perls/perl-5.20.3/lib/5.20.3/darwin-2level/CORE/hv_func.h:393:7: warning: '}' and ')' tokens terminating statement expression appear in different macro expansion contexts [-Wcompound-token-split-by-macro]
MURMUR_DOBYTES((int)i, h1, carry, bytes_in_carry, ptr, len);
^~~~~~~~~~~~~~~~~~~~~~~~~~~~~~~~~~~~~~~~~~~~~~~~~~~~~~~~~~~
/Users/stan/perl5/perlbrew/perls/perl-5.20.3/lib/5.20.3/darwin-2level/CORE/hv_func.h:357:7: note: expanded from macro 'MURMUR_DOBYTES'
} \
^
/Users/stan/perl5/perlbrew/perls/perl-5.20.3/lib/5.20.3/darwin-2level/CORE/hv_func.h:393:7: note: ')' token is here
MURMUR_DOBYTES((int)i, h1, carry, bytes_in_carry, ptr, len);
^~~~~~~~~~~~~~~~~~~~~~~~~~~~~~~~~~~~~~~~~~~~~~~~~~~~~~~~~~~
/Users/stan/perl5/perlbrew/perls/perl-5.20.3/lib/5.20.3/darwin-2level/CORE/hv_func.h:358:3: note: expanded from macro 'MURMUR_DOBYTES'
} STMT_END
^~~~~~~~
/Users/stan/perl5/perlbrew/perls/perl-5.20.3/lib/5.20.3/darwin-2level/CORE/perl.h:512:21: note: expanded from macro 'STMT_END'
# define STMT_END )
^
In file included from MethodMaker.xs:2:
In file included from /Users/stan/perl5/perlbrew/perls/perl-5.20.3/lib/5.20.3/darwin-2level/CORE/perl.h:3344:
In file included from /Users/stan/perl5/perlbrew/perls/perl-5.20.3/lib/5.20.3/darwin-2level/CORE/hv.h:629:
/Users/stan/perl5/perlbrew/perls/perl-5.20.3/lib/5.20.3/darwin-2level/CORE/hv_func.h:402:13: warning: '(' and '{' tokens introducing statement expression appear in different macro expansion contexts [-Wcompound-token-split-by-macro]
MURMUR_DOBLOCK(h1, k1);
^~~~~~~~~~~~~~~~~~~~~~
/Users/stan/perl5/perlbrew/perls/perl-5.20.3/lib/5.20.3/darwin-2level/CORE/hv_func.h:335:32: note: expanded from macro 'MURMUR_DOBLOCK'
#define MURMUR_DOBLOCK(h1, k1) STMT_START { \
^~~~~~~~~~
/Users/stan/perl5/perlbrew/perls/perl-5.20.3/lib/5.20.3/darwin-2level/CORE/perl.h:511:29: note: expanded from macro 'STMT_START'
# define STMT_START (void)( /* gcc supports "({ STATEMENTS; })" */
^
/Users/stan/perl5/perlbrew/perls/perl-5.20.3/lib/5.20.3/darwin-2level/CORE/hv_func.h:402:13: note: '{' token is here
MURMUR_DOBLOCK(h1, k1);
^~~~~~~~~~~~~~~~~~~~~~
/Users/stan/perl5/perlbrew/perls/perl-5.20.3/lib/5.20.3/darwin-2level/CORE/hv_func.h:335:43: note: expanded from macro 'MURMUR_DOBLOCK'
#define MURMUR_DOBLOCK(h1, k1) STMT_START { \
^
/Users/stan/perl5/perlbrew/perls/perl-5.20.3/lib/5.20.3/darwin-2level/CORE/hv_func.h:402:13: warning: '}' and ')' tokens terminating statement expression appear in different macro expansion contexts [-Wcompound-token-split-by-macro]
MURMUR_DOBLOCK(h1, k1);
^~~~~~~~~~~~~~~~~~~~~~
/Users/stan/perl5/perlbrew/perls/perl-5.20.3/lib/5.20.3/darwin-2level/CORE/hv_func.h:342:30: note: expanded from macro 'MURMUR_DOBLOCK'
h1 = h1 * 5 + MURMUR_C3; \
^
/Users/stan/perl5/perlbrew/perls/perl-5.20.3/lib/5.20.3/darwin-2level/CORE/hv_func.h:402:13: note: ')' token is here
MURMUR_DOBLOCK(h1, k1);
^~~~~~~~~~~~~~~~~~~~~~
/Users/stan/perl5/perlbrew/perls/perl-5.20.3/lib/5.20.3/darwin-2level/CORE/hv_func.h:343:3: note: expanded from macro 'MURMUR_DOBLOCK'
} STMT_END
^~~~~~~~
/Users/stan/perl5/perlbrew/perls/perl-5.20.3/lib/5.20.3/darwin-2level/CORE/perl.h:512:21: note: expanded from macro 'STMT_END'
# define STMT_END )
^
In file included from MethodMaker.xs:2:
In file included from /Users/stan/perl5/perlbrew/perls/perl-5.20.3/lib/5.20.3/darwin-2level/CORE/perl.h:3344:
In file included from /Users/stan/perl5/perlbrew/perls/perl-5.20.3/lib/5.20.3/darwin-2level/CORE/hv.h:629:
/Users/stan/perl5/perlbrew/perls/perl-5.20.3/lib/5.20.3/darwin-2level/CORE/hv_func.h:410:13: warning: '(' and '{' tokens introducing statement expression appear in different macro expansion contexts [-Wcompound-token-split-by-macro]
MURMUR_DOBLOCK(h1, k1);
^~~~~~~~~~~~~~~~~~~~~~
/Users/stan/perl5/perlbrew/perls/perl-5.20.3/lib/5.20.3/darwin-2level/CORE/hv_func.h:335:32: note: expanded from macro 'MURMUR_DOBLOCK'
#define MURMUR_DOBLOCK(h1, k1) STMT_START { \
^~~~~~~~~~
/Users/stan/perl5/perlbrew/perls/perl-5.20.3/lib/5.20.3/darwin-2level/CORE/perl.h:511:29: note: expanded from macro 'STMT_START'
# define STMT_START (void)( /* gcc supports "({ STATEMENTS; })" */
^
/Users/stan/perl5/perlbrew/perls/perl-5.20.3/lib/5.20.3/darwin-2level/CORE/hv_func.h:410:13: note: '{' token is here
MURMUR_DOBLOCK(h1, k1);
^~~~~~~~~~~~~~~~~~~~~~
/Users/stan/perl5/perlbrew/perls/perl-5.20.3/lib/5.20.3/darwin-2level/CORE/hv_func.h:335:43: note: expanded from macro 'MURMUR_DOBLOCK'
#define MURMUR_DOBLOCK(h1, k1) STMT_START { \
^
/Users/stan/perl5/perlbrew/perls/perl-5.20.3/lib/5.20.3/darwin-2level/CORE/hv_func.h:410:13: warning: '}' and ')' tokens terminating statement expression appear in different macro expansion contexts [-Wcompound-token-split-by-macro]
MURMUR_DOBLOCK(h1, k1);
^~~~~~~~~~~~~~~~~~~~~~
/Users/stan/perl5/perlbrew/perls/perl-5.20.3/lib/5.20.3/darwin-2level/CORE/hv_func.h:342:30: note: expanded from macro 'MURMUR_DOBLOCK'
h1 = h1 * 5 + MURMUR_C3; \
^
/Users/stan/perl5/perlbrew/perls/perl-5.20.3/lib/5.20.3/darwin-2level/CORE/hv_func.h:410:13: note: ')' token is here
MURMUR_DOBLOCK(h1, k1);
^~~~~~~~~~~~~~~~~~~~~~
/Users/stan/perl5/perlbrew/perls/perl-5.20.3/lib/5.20.3/darwin-2level/CORE/hv_func.h:343:3: note: expanded from macro 'MURMUR_DOBLOCK'
} STMT_END
^~~~~~~~
/Users/stan/perl5/perlbrew/perls/perl-5.20.3/lib/5.20.3/darwin-2level/CORE/perl.h:512:21: note: expanded from macro 'STMT_END'
# define STMT_END )
^
In file included from MethodMaker.xs:2:
In file included from /Users/stan/perl5/perlbrew/perls/perl-5.20.3/lib/5.20.3/darwin-2level/CORE/perl.h:3344:
In file included from /Users/stan/perl5/perlbrew/perls/perl-5.20.3/lib/5.20.3/darwin-2level/CORE/hv.h:629:
/Users/stan/perl5/perlbrew/perls/perl-5.20.3/lib/5.20.3/darwin-2level/CORE/hv_func.h:418:13: warning: '(' and '{' tokens introducing statement expression appear in different macro expansion contexts [-Wcompound-token-split-by-macro]
MURMUR_DOBLOCK(h1, k1);
^~~~~~~~~~~~~~~~~~~~~~
/Users/stan/perl5/perlbrew/perls/perl-5.20.3/lib/5.20.3/darwin-2level/CORE/hv_func.h:335:32: note: expanded from macro 'MURMUR_DOBLOCK'
#define MURMUR_DOBLOCK(h1, k1) STMT_START { \
^~~~~~~~~~
/Users/stan/perl5/perlbrew/perls/perl-5.20.3/lib/5.20.3/darwin-2level/CORE/perl.h:511:29: note: expanded from macro 'STMT_START'
# define STMT_START (void)( /* gcc supports "({ STATEMENTS; })" */
^
/Users/stan/perl5/perlbrew/perls/perl-5.20.3/lib/5.20.3/darwin-2level/CORE/hv_func.h:418:13: note: '{' token is here
MURMUR_DOBLOCK(h1, k1);
^~~~~~~~~~~~~~~~~~~~~~
/Users/stan/perl5/perlbrew/perls/perl-5.20.3/lib/5.20.3/darwin-2level/CORE/hv_func.h:335:43: note: expanded from macro 'MURMUR_DOBLOCK'
#define MURMUR_DOBLOCK(h1, k1) STMT_START { \
^
/Users/stan/perl5/perlbrew/perls/perl-5.20.3/lib/5.20.3/darwin-2level/CORE/hv_func.h:418:13: warning: '}' and ')' tokens terminating statement expression appear in different macro expansion contexts [-Wcompound-token-split-by-macro]
MURMUR_DOBLOCK(h1, k1);
^~~~~~~~~~~~~~~~~~~~~~
/Users/stan/perl5/perlbrew/perls/perl-5.20.3/lib/5.20.3/darwin-2level/CORE/hv_func.h:342:30: note: expanded from macro 'MURMUR_DOBLOCK'
h1 = h1 * 5 + MURMUR_C3; \
^
/Users/stan/perl5/perlbrew/perls/perl-5.20.3/lib/5.20.3/darwin-2level/CORE/hv_func.h:418:13: note: ')' token is here
MURMUR_DOBLOCK(h1, k1);
^~~~~~~~~~~~~~~~~~~~~~
/Users/stan/perl5/perlbrew/perls/perl-5.20.3/lib/5.20.3/darwin-2level/CORE/hv_func.h:343:3: note: expanded from macro 'MURMUR_DOBLOCK'
} STMT_END
^~~~~~~~
/Users/stan/perl5/perlbrew/perls/perl-5.20.3/lib/5.20.3/darwin-2level/CORE/perl.h:512:21: note: expanded from macro 'STMT_END'
# define STMT_END )
^
In file included from MethodMaker.xs:2:
In file included from /Users/stan/perl5/perlbrew/perls/perl-5.20.3/lib/5.20.3/darwin-2level/CORE/perl.h:3344:
In file included from /Users/stan/perl5/perlbrew/perls/perl-5.20.3/lib/5.20.3/darwin-2level/CORE/hv.h:629:
/Users/stan/perl5/perlbrew/perls/perl-5.20.3/lib/5.20.3/darwin-2level/CORE/hv_func.h:426:13: warning: '(' and '{' tokens introducing statement expression appear in different macro expansion contexts [-Wcompound-token-split-by-macro]
MURMUR_DOBLOCK(h1, k1);
^~~~~~~~~~~~~~~~~~~~~~
/Users/stan/perl5/perlbrew/perls/perl-5.20.3/lib/5.20.3/darwin-2level/CORE/hv_func.h:335:32: note: expanded from macro 'MURMUR_DOBLOCK'
#define MURMUR_DOBLOCK(h1, k1) STMT_START { \
^~~~~~~~~~
/Users/stan/perl5/perlbrew/perls/perl-5.20.3/lib/5.20.3/darwin-2level/CORE/perl.h:511:29: note: expanded from macro 'STMT_START'
# define STMT_START (void)( /* gcc supports "({ STATEMENTS; })" */
^
/Users/stan/perl5/perlbrew/perls/perl-5.20.3/lib/5.20.3/darwin-2level/CORE/hv_func.h:426:13: note: '{' token is here
MURMUR_DOBLOCK(h1, k1);
^~~~~~~~~~~~~~~~~~~~~~
/Users/stan/perl5/perlbrew/perls/perl-5.20.3/lib/5.20.3/darwin-2level/CORE/hv_func.h:335:43: note: expanded from macro 'MURMUR_DOBLOCK'
#define MURMUR_DOBLOCK(h1, k1) STMT_START { \
^
/Users/stan/perl5/perlbrew/perls/perl-5.20.3/lib/5.20.3/darwin-2level/CORE/hv_func.h:426:13: warning: '}' and ')' tokens terminating statement expression appear in different macro expansion contexts [-Wcompound-token-split-by-macro]
MURMUR_DOBLOCK(h1, k1);
^~~~~~~~~~~~~~~~~~~~~~
/Users/stan/perl5/perlbrew/perls/perl-5.20.3/lib/5.20.3/darwin-2level/CORE/hv_func.h:342:30: note: expanded from macro 'MURMUR_DOBLOCK'
h1 = h1 * 5 + MURMUR_C3; \
^
/Users/stan/perl5/perlbrew/perls/perl-5.20.3/lib/5.20.3/darwin-2level/CORE/hv_func.h:426:13: note: ')' token is here
MURMUR_DOBLOCK(h1, k1);
^~~~~~~~~~~~~~~~~~~~~~
/Users/stan/perl5/perlbrew/perls/perl-5.20.3/lib/5.20.3/darwin-2level/CORE/hv_func.h:343:3: note: expanded from macro 'MURMUR_DOBLOCK'
} STMT_END
^~~~~~~~
/Users/stan/perl5/perlbrew/perls/perl-5.20.3/lib/5.20.3/darwin-2level/CORE/perl.h:512:21: note: expanded from macro 'STMT_END'
# define STMT_END )
^
In file included from MethodMaker.xs:2:
In file included from /Users/stan/perl5/perlbrew/perls/perl-5.20.3/lib/5.20.3/darwin-2level/CORE/perl.h:3344:
In file included from /Users/stan/perl5/perlbrew/perls/perl-5.20.3/lib/5.20.3/darwin-2level/CORE/hv.h:629:
/Users/stan/perl5/perlbrew/perls/perl-5.20.3/lib/5.20.3/darwin-2level/CORE/hv_func.h:434:5: warning: '(' and '{' tokens introducing statement expression appear in different macro expansion contexts [-Wcompound-token-split-by-macro]
MURMUR_DOBYTES((int)len, h1, carry, bytes_in_carry, ptr, len);
^~~~~~~~~~~~~~~~~~~~~~~~~~~~~~~~~~~~~~~~~~~~~~~~~~~~~~~~~~~~~
/Users/stan/perl5/perlbrew/perls/perl-5.20.3/lib/5.20.3/darwin-2level/CORE/hv_func.h:348:49: note: expanded from macro 'MURMUR_DOBYTES'
#define MURMUR_DOBYTES(cnt, h1, c, n, ptr, len) STMT_START { \
^~~~~~~~~~
/Users/stan/perl5/perlbrew/perls/perl-5.20.3/lib/5.20.3/darwin-2level/CORE/perl.h:511:29: note: expanded from macro 'STMT_START'
# define STMT_START (void)( /* gcc supports "({ STATEMENTS; })" */
^
/Users/stan/perl5/perlbrew/perls/perl-5.20.3/lib/5.20.3/darwin-2level/CORE/hv_func.h:434:5: note: '{' token is here
MURMUR_DOBYTES((int)len, h1, carry, bytes_in_carry, ptr, len);
^~~~~~~~~~~~~~~~~~~~~~~~~~~~~~~~~~~~~~~~~~~~~~~~~~~~~~~~~~~~~
/Users/stan/perl5/perlbrew/perls/perl-5.20.3/lib/5.20.3/darwin-2level/CORE/hv_func.h:348:60: note: expanded from macro 'MURMUR_DOBYTES'
#define MURMUR_DOBYTES(cnt, h1, c, n, ptr, len) STMT_START { \
^
/Users/stan/perl5/perlbrew/perls/perl-5.20.3/lib/5.20.3/darwin-2level/CORE/hv_func.h:434:5: warning: '(' and '{' tokens introducing statement expression appear in different macro expansion contexts [-Wcompound-token-split-by-macro]
MURMUR_DOBYTES((int)len, h1, carry, bytes_in_carry, ptr, len);
^~~~~~~~~~~~~~~~~~~~~~~~~~~~~~~~~~~~~~~~~~~~~~~~~~~~~~~~~~~~~
/Users/stan/perl5/perlbrew/perls/perl-5.20.3/lib/5.20.3/darwin-2level/CORE/hv_func.h:354:13: note: expanded from macro 'MURMUR_DOBYTES'
MURMUR_DOBLOCK(h1, c); \
^~~~~~~~~~~~~~~~~~~~~
/Users/stan/perl5/perlbrew/perls/perl-5.20.3/lib/5.20.3/darwin-2level/CORE/hv_func.h:335:32: note: expanded from macro 'MURMUR_DOBLOCK'
#define MURMUR_DOBLOCK(h1, k1) STMT_START { \
^~~~~~~~~~
/Users/stan/perl5/perlbrew/perls/perl-5.20.3/lib/5.20.3/darwin-2level/CORE/perl.h:511:29: note: expanded from macro 'STMT_START'
# define STMT_START (void)( /* gcc supports "({ STATEMENTS; })" */
^
/Users/stan/perl5/perlbrew/perls/perl-5.20.3/lib/5.20.3/darwin-2level/CORE/hv_func.h:434:5: note: '{' token is here
MURMUR_DOBYTES((int)len, h1, carry, bytes_in_carry, ptr, len);
^~~~~~~~~~~~~~~~~~~~~~~~~~~~~~~~~~~~~~~~~~~~~~~~~~~~~~~~~~~~~
/Users/stan/perl5/perlbrew/perls/perl-5.20.3/lib/5.20.3/darwin-2level/CORE/hv_func.h:354:13: note: expanded from macro 'MURMUR_DOBYTES'
MURMUR_DOBLOCK(h1, c); \
^~~~~~~~~~~~~~~~~~~~~
/Users/stan/perl5/perlbrew/perls/perl-5.20.3/lib/5.20.3/darwin-2level/CORE/hv_func.h:335:43: note: expanded from macro 'MURMUR_DOBLOCK'
#define MURMUR_DOBLOCK(h1, k1) STMT_START { \
^
/Users/stan/perl5/perlbrew/perls/perl-5.20.3/lib/5.20.3/darwin-2level/CORE/hv_func.h:434:5: warning: '}' and ')' tokens terminating statement expression appear in different macro expansion contexts [-Wcompound-token-split-by-macro]
MURMUR_DOBYTES((int)len, h1, carry, bytes_in_carry, ptr, len);
^~~~~~~~~~~~~~~~~~~~~~~~~~~~~~~~~~~~~~~~~~~~~~~~~~~~~~~~~~~~~
/Users/stan/perl5/perlbrew/perls/perl-5.20.3/lib/5.20.3/darwin-2level/CORE/hv_func.h:354:13: note: expanded from macro 'MURMUR_DOBYTES'
MURMUR_DOBLOCK(h1, c); \
^~~~~~~~~~~~~~~~~~~~~
/Users/stan/perl5/perlbrew/perls/perl-5.20.3/lib/5.20.3/darwin-2level/CORE/hv_func.h:342:30: note: expanded from macro 'MURMUR_DOBLOCK'
h1 = h1 * 5 + MURMUR_C3; \
^
/Users/stan/perl5/perlbrew/perls/perl-5.20.3/lib/5.20.3/darwin-2level/CORE/hv_func.h:434:5: note: ')' token is here
MURMUR_DOBYTES((int)len, h1, carry, bytes_in_carry, ptr, len);
^~~~~~~~~~~~~~~~~~~~~~~~~~~~~~~~~~~~~~~~~~~~~~~~~~~~~~~~~~~~~
/Users/stan/perl5/perlbrew/perls/perl-5.20.3/lib/5.20.3/darwin-2level/CORE/hv_func.h:354:13: note: expanded from macro 'MURMUR_DOBYTES'
MURMUR_DOBLOCK(h1, c); \
^~~~~~~~~~~~~~~~~~~~~
/Users/stan/perl5/perlbrew/perls/perl-5.20.3/lib/5.20.3/darwin-2level/CORE/hv_func.h:343:3: note: expanded from macro 'MURMUR_DOBLOCK'
} STMT_END
^~~~~~~~
/Users/stan/perl5/perlbrew/perls/perl-5.20.3/lib/5.20.3/darwin-2level/CORE/perl.h:512:21: note: expanded from macro 'STMT_END'
# define STMT_END )
^
In file included from MethodMaker.xs:2:
In file included from /Users/stan/perl5/perlbrew/perls/perl-5.20.3/lib/5.20.3/darwin-2level/CORE/perl.h:3344:
In file included from /Users/stan/perl5/perlbrew/perls/perl-5.20.3/lib/5.20.3/darwin-2level/CORE/hv.h:629:
/Users/stan/perl5/perlbrew/perls/perl-5.20.3/lib/5.20.3/darwin-2level/CORE/hv_func.h:434:5: warning: '}' and ')' tokens terminating statement expression appear in different macro expansion contexts [-Wcompound-token-split-by-macro]
MURMUR_DOBYTES((int)len, h1, carry, bytes_in_carry, ptr, len);
^~~~~~~~~~~~~~~~~~~~~~~~~~~~~~~~~~~~~~~~~~~~~~~~~~~~~~~~~~~~~
/Users/stan/perl5/perlbrew/perls/perl-5.20.3/lib/5.20.3/darwin-2level/CORE/hv_func.h:357:7: note: expanded from macro 'MURMUR_DOBYTES'
} \
^
/Users/stan/perl5/perlbrew/perls/perl-5.20.3/lib/5.20.3/darwin-2level/CORE/hv_func.h:434:5: note: ')' token is here
MURMUR_DOBYTES((int)len, h1, carry, bytes_in_carry, ptr, len);
^~~~~~~~~~~~~~~~~~~~~~~~~~~~~~~~~~~~~~~~~~~~~~~~~~~~~~~~~~~~~
/Users/stan/perl5/perlbrew/perls/perl-5.20.3/lib/5.20.3/darwin-2level/CORE/hv_func.h:358:3: note: expanded from macro 'MURMUR_DOBYTES'
} STMT_END
^~~~~~~~
/Users/stan/perl5/perlbrew/perls/perl-5.20.3/lib/5.20.3/darwin-2level/CORE/perl.h:512:21: note: expanded from macro 'STMT_END'
# define STMT_END )
^
In file included from MethodMaker.xs:2:
In file included from /Users/stan/perl5/perlbrew/perls/perl-5.20.3/lib/5.20.3/darwin-2level/CORE/perl.h:5199:
/Users/stan/perl5/perlbrew/perls/perl-5.20.3/lib/5.20.3/darwin-2level/CORE/inline.h:311:9: warning: nonnull parameter 'pv' will evaluate to 'true' on first encounter [-Wpointer-bool-conversion]
if (pv && len > 1) {
^~ ~~
/Users/stan/perl5/perlbrew/perls/perl-5.20.3/lib/5.20.3/darwin-2level/CORE/proto.h:1791:4: note: declared 'nonnull' here
__attribute__nonnull__(pTHX_1)
^
/Users/stan/perl5/perlbrew/perls/perl-5.20.3/lib/5.20.3/darwin-2level/CORE/perl.h:3100:60: note: expanded from macro '__attribute__nonnull__'
# define __attribute__nonnull__(a) __attribute__((nonnull(a)))
^
MethodMaker.xs:18:7: warning: '(' and '{' tokens introducing statement expression appear in different macro expansion contexts [-Wcompound-token-split-by-macro]
XSRETURN_UNDEF;
^~~~~~~~~~~~~~
/Users/stan/perl5/perlbrew/perls/perl-5.20.3/lib/5.20.3/darwin-2level/CORE/XSUB.h:321:24: note: expanded from macro 'XSRETURN_UNDEF'
#define XSRETURN_UNDEF STMT_START { XST_mUNDEF(0); XSRETURN(1); } STMT_END
^~~~~~~~~~
/Users/stan/perl5/perlbrew/perls/perl-5.20.3/lib/5.20.3/darwin-2level/CORE/perl.h:511:29: note: expanded from macro 'STMT_START'
# define STMT_START (void)( /* gcc supports "({ STATEMENTS; })" */
^
MethodMaker.xs:18:7: note: '{' token is here
XSRETURN_UNDEF;
^~~~~~~~~~~~~~
/Users/stan/perl5/perlbrew/perls/perl-5.20.3/lib/5.20.3/darwin-2level/CORE/XSUB.h:321:35: note: expanded from macro 'XSRETURN_UNDEF'
#define XSRETURN_UNDEF STMT_START { XST_mUNDEF(0); XSRETURN(1); } STMT_END
^
MethodMaker.xs:18:7: warning: '(' and '{' tokens introducing statement expression appear in different macro expansion contexts [-Wcompound-token-split-by-macro]
XSRETURN_UNDEF;
^~~~~~~~~~~~~~
/Users/stan/perl5/perlbrew/perls/perl-5.20.3/lib/5.20.3/darwin-2level/CORE/XSUB.h:321:52: note: expanded from macro 'XSRETURN_UNDEF'
#define XSRETURN_UNDEF STMT_START { XST_mUNDEF(0); XSRETURN(1); } STMT_END
^~~~~~~~~~~
/Users/stan/perl5/perlbrew/perls/perl-5.20.3/lib/5.20.3/darwin-2level/CORE/XSUB.h:308:5: note: expanded from macro 'XSRETURN'
STMT_START { \
^~~~~~~~~~
/Users/stan/perl5/perlbrew/perls/perl-5.20.3/lib/5.20.3/darwin-2level/CORE/perl.h:511:29: note: expanded from macro 'STMT_START'
# define STMT_START (void)( /* gcc supports "({ STATEMENTS; })" */
^
MethodMaker.xs:18:7: note: '{' token is here
XSRETURN_UNDEF;
^~~~~~~~~~~~~~
/Users/stan/perl5/perlbrew/perls/perl-5.20.3/lib/5.20.3/darwin-2level/CORE/XSUB.h:321:52: note: expanded from macro 'XSRETURN_UNDEF'
#define XSRETURN_UNDEF STMT_START { XST_mUNDEF(0); XSRETURN(1); } STMT_END
^~~~~~~~~~~
/Users/stan/perl5/perlbrew/perls/perl-5.20.3/lib/5.20.3/darwin-2level/CORE/XSUB.h:308:16: note: expanded from macro 'XSRETURN'
STMT_START { \
^
MethodMaker.xs:18:7: warning: '}' and ')' tokens terminating statement expression appear in different macro expansion contexts [-Wcompound-token-split-by-macro]
XSRETURN_UNDEF;
^~~~~~~~~~~~~~
/Users/stan/perl5/perlbrew/perls/perl-5.20.3/lib/5.20.3/darwin-2level/CORE/XSUB.h:321:52: note: expanded from macro 'XSRETURN_UNDEF'
#define XSRETURN_UNDEF STMT_START { XST_mUNDEF(0); XSRETURN(1); } STMT_END
^~~~~~~~~~~
/Users/stan/perl5/perlbrew/perls/perl-5.20.3/lib/5.20.3/darwin-2level/CORE/XSUB.h:312:5: note: expanded from macro 'XSRETURN'
} STMT_END
^
MethodMaker.xs:18:7: note: ')' token is here
XSRETURN_UNDEF;
^~~~~~~~~~~~~~
/Users/stan/perl5/perlbrew/perls/perl-5.20.3/lib/5.20.3/darwin-2level/CORE/XSUB.h:321:52: note: expanded from macro 'XSRETURN_UNDEF'
#define XSRETURN_UNDEF STMT_START { XST_mUNDEF(0); XSRETURN(1); } STMT_END
^~~~~~~~~~~
/Users/stan/perl5/perlbrew/perls/perl-5.20.3/lib/5.20.3/darwin-2level/CORE/XSUB.h:312:7: note: expanded from macro 'XSRETURN'
} STMT_END
^~~~~~~~
/Users/stan/perl5/perlbrew/perls/perl-5.20.3/lib/5.20.3/darwin-2level/CORE/perl.h:512:21: note: expanded from macro 'STMT_END'
# define STMT_END )
^
MethodMaker.xs:18:7: warning: '}' and ')' tokens terminating statement expression appear in different macro expansion contexts [-Wcompound-token-split-by-macro]
XSRETURN_UNDEF;
^~~~~~~~~~~~~~
/Users/stan/perl5/perlbrew/perls/perl-5.20.3/lib/5.20.3/darwin-2level/CORE/XSUB.h:321:65: note: expanded from macro 'XSRETURN_UNDEF'
#define XSRETURN_UNDEF STMT_START { XST_mUNDEF(0); XSRETURN(1); } STMT_END
^
MethodMaker.xs:18:7: note: ')' token is here
XSRETURN_UNDEF;
^~~~~~~~~~~~~~
/Users/stan/perl5/perlbrew/perls/perl-5.20.3/lib/5.20.3/darwin-2level/CORE/XSUB.h:321:67: note: expanded from macro 'XSRETURN_UNDEF'
#define XSRETURN_UNDEF STMT_START { XST_mUNDEF(0); XSRETURN(1); } STMT_END
^~~~~~~~
/Users/stan/perl5/perlbrew/perls/perl-5.20.3/lib/5.20.3/darwin-2level/CORE/perl.h:512:21: note: expanded from macro 'STMT_END'
# define STMT_END )
^
MethodMaker.c:198:2: warning: '(' and '{' tokens introducing statement expression appear in different macro expansion contexts [-Wcompound-token-split-by-macro]
PUSHi((IV)RETVAL);
^~~~~~~~~~~~~~~~~
/Users/stan/perl5/perlbrew/perls/perl-5.20.3/lib/5.20.3/darwin-2level/CORE/pp.h:297:18: note: expanded from macro 'PUSHi'
#define PUSHi(i) STMT_START { sv_setiv(TARG, (IV)(i)); PUSHTARG; } STMT_END
^~~~~~~~~~
/Users/stan/perl5/perlbrew/perls/perl-5.20.3/lib/5.20.3/darwin-2level/CORE/perl.h:511:29: note: expanded from macro 'STMT_START'
# define STMT_START (void)( /* gcc supports "({ STATEMENTS; })" */
^
MethodMaker.c:198:2: note: '{' token is here
PUSHi((IV)RETVAL);
^~~~~~~~~~~~~~~~~
/Users/stan/perl5/perlbrew/perls/perl-5.20.3/lib/5.20.3/darwin-2level/CORE/pp.h:297:29: note: expanded from macro 'PUSHi'
#define PUSHi(i) STMT_START { sv_setiv(TARG, (IV)(i)); PUSHTARG; } STMT_END
^
MethodMaker.c:198:2: warning: '(' and '{' tokens introducing statement expression appear in different macro expansion contexts [-Wcompound-token-split-by-macro]
PUSHi((IV)RETVAL);
^~~~~~~~~~~~~~~~~
/Users/stan/perl5/perlbrew/perls/perl-5.20.3/lib/5.20.3/darwin-2level/CORE/pp.h:297:56: note: expanded from macro 'PUSHi'
#define PUSHi(i) STMT_START { sv_setiv(TARG, (IV)(i)); PUSHTARG; } STMT_END
^~~~~~~~
/Users/stan/perl5/perlbrew/perls/perl-5.20.3/lib/5.20.3/darwin-2level/CORE/pp.h:294:18: note: expanded from macro 'PUSHTARG'
#define PUSHTARG STMT_START { SvSETMAGIC(TARG); PUSHs(TARG); } STMT_END
^~~~~~~~~~
/Users/stan/perl5/perlbrew/perls/perl-5.20.3/lib/5.20.3/darwin-2level/CORE/perl.h:511:29: note: expanded from macro 'STMT_START'
# define STMT_START (void)( /* gcc supports "({ STATEMENTS; })" */
^
MethodMaker.c:198:2: note: '{' token is here
PUSHi((IV)RETVAL);
^~~~~~~~~~~~~~~~~
/Users/stan/perl5/perlbrew/perls/perl-5.20.3/lib/5.20.3/darwin-2level/CORE/pp.h:297:56: note: expanded from macro 'PUSHi'
#define PUSHi(i) STMT_START { sv_setiv(TARG, (IV)(i)); PUSHTARG; } STMT_END
^~~~~~~~
/Users/stan/perl5/perlbrew/perls/perl-5.20.3/lib/5.20.3/darwin-2level/CORE/pp.h:294:29: note: expanded from macro 'PUSHTARG'
#define PUSHTARG STMT_START { SvSETMAGIC(TARG); PUSHs(TARG); } STMT_END
^
MethodMaker.c:198:2: warning: '(' and '{' tokens introducing statement expression appear in different macro expansion contexts [-Wcompound-token-split-by-macro]
PUSHi((IV)RETVAL);
^~~~~~~~~~~~~~~~~
/Users/stan/perl5/perlbrew/perls/perl-5.20.3/lib/5.20.3/darwin-2level/CORE/pp.h:297:56: note: expanded from macro 'PUSHi'
#define PUSHi(i) STMT_START { sv_setiv(TARG, (IV)(i)); PUSHTARG; } STMT_END
^~~~~~~~
/Users/stan/perl5/perlbrew/perls/perl-5.20.3/lib/5.20.3/darwin-2level/CORE/pp.h:294:31: note: expanded from macro 'PUSHTARG'
#define PUSHTARG STMT_START { SvSETMAGIC(TARG); PUSHs(TARG); } STMT_END
^~~~~~~~~~~~~~~~
/Users/stan/perl5/perlbrew/perls/perl-5.20.3/lib/5.20.3/darwin-2level/CORE/sv.h:2067:23: note: expanded from macro 'SvSETMAGIC'
#define SvSETMAGIC(x) STMT_START { if (UNLIKELY(SvSMAGICAL(x))) mg_set(x); } STMT_END
^~~~~~~~~~
/Users/stan/perl5/perlbrew/perls/perl-5.20.3/lib/5.20.3/darwin-2level/CORE/perl.h:511:29: note: expanded from macro 'STMT_START'
# define STMT_START (void)( /* gcc supports "({ STATEMENTS; })" */
^
MethodMaker.c:198:2: note: '{' token is here
PUSHi((IV)RETVAL);
^~~~~~~~~~~~~~~~~
/Users/stan/perl5/perlbrew/perls/perl-5.20.3/lib/5.20.3/darwin-2level/CORE/pp.h:297:56: note: expanded from macro 'PUSHi'
#define PUSHi(i) STMT_START { sv_setiv(TARG, (IV)(i)); PUSHTARG; } STMT_END
^~~~~~~~
/Users/stan/perl5/perlbrew/perls/perl-5.20.3/lib/5.20.3/darwin-2level/CORE/pp.h:294:31: note: expanded from macro 'PUSHTARG'
#define PUSHTARG STMT_START { SvSETMAGIC(TARG); PUSHs(TARG); } STMT_END
^~~~~~~~~~~~~~~~
/Users/stan/perl5/perlbrew/perls/perl-5.20.3/lib/5.20.3/darwin-2level/CORE/sv.h:2067:34: note: expanded from macro 'SvSETMAGIC'
#define SvSETMAGIC(x) STMT_START { if (UNLIKELY(SvSMAGICAL(x))) mg_set(x); } STMT_END
^
MethodMaker.c:198:2: warning: '}' and ')' tokens terminating statement expression appear in different macro expansion contexts [-Wcompound-token-split-by-macro]
PUSHi((IV)RETVAL);
^~~~~~~~~~~~~~~~~
/Users/stan/perl5/perlbrew/perls/perl-5.20.3/lib/5.20.3/darwin-2level/CORE/pp.h:297:56: note: expanded from macro 'PUSHi'
#define PUSHi(i) STMT_START { sv_setiv(TARG, (IV)(i)); PUSHTARG; } STMT_END
^~~~~~~~
/Users/stan/perl5/perlbrew/perls/perl-5.20.3/lib/5.20.3/darwin-2level/CORE/pp.h:294:31: note: expanded from macro 'PUSHTARG'
#define PUSHTARG STMT_START { SvSETMAGIC(TARG); PUSHs(TARG); } STMT_END
^~~~~~~~~~~~~~~~
/Users/stan/perl5/perlbrew/perls/perl-5.20.3/lib/5.20.3/darwin-2level/CORE/sv.h:2067:76: note: expanded from macro 'SvSETMAGIC'
#define SvSETMAGIC(x) STMT_START { if (UNLIKELY(SvSMAGICAL(x))) mg_set(x); } STMT_END
^
MethodMaker.c:198:2: note: ')' token is here
PUSHi((IV)RETVAL);
^~~~~~~~~~~~~~~~~
/Users/stan/perl5/perlbrew/perls/perl-5.20.3/lib/5.20.3/darwin-2level/CORE/pp.h:297:56: note: expanded from macro 'PUSHi'
#define PUSHi(i) STMT_START { sv_setiv(TARG, (IV)(i)); PUSHTARG; } STMT_END
^~~~~~~~
/Users/stan/perl5/perlbrew/perls/perl-5.20.3/lib/5.20.3/darwin-2level/CORE/pp.h:294:31: note: expanded from macro 'PUSHTARG'
#define PUSHTARG STMT_START { SvSETMAGIC(TARG); PUSHs(TARG); } STMT_END
^~~~~~~~~~~~~~~~
/Users/stan/perl5/perlbrew/perls/perl-5.20.3/lib/5.20.3/darwin-2level/CORE/sv.h:2067:78: note: expanded from macro 'SvSETMAGIC'
#define SvSETMAGIC(x) STMT_START { if (UNLIKELY(SvSMAGICAL(x))) mg_set(x); } STMT_END
^~~~~~~~
/Users/stan/perl5/perlbrew/perls/perl-5.20.3/lib/5.20.3/darwin-2level/CORE/perl.h:512:21: note: expanded from macro 'STMT_END'
# define STMT_END )
^
MethodMaker.c:198:2: warning: '}' and ')' tokens terminating statement expression appear in different macro expansion contexts [-Wcompound-token-split-by-macro]
PUSHi((IV)RETVAL);
^~~~~~~~~~~~~~~~~
/Users/stan/perl5/perlbrew/perls/perl-5.20.3/lib/5.20.3/darwin-2level/CORE/pp.h:297:56: note: expanded from macro 'PUSHi'
#define PUSHi(i) STMT_START { sv_setiv(TARG, (IV)(i)); PUSHTARG; } STMT_END
^~~~~~~~
/Users/stan/perl5/perlbrew/perls/perl-5.20.3/lib/5.20.3/darwin-2level/CORE/pp.h:294:62: note: expanded from macro 'PUSHTARG'
#define PUSHTARG STMT_START { SvSETMAGIC(TARG); PUSHs(TARG); } STMT_END
^
MethodMaker.c:198:2: note: ')' token is here
PUSHi((IV)RETVAL);
^~~~~~~~~~~~~~~~~
/Users/stan/perl5/perlbrew/perls/perl-5.20.3/lib/5.20.3/darwin-2level/CORE/pp.h:297:56: note: expanded from macro 'PUSHi'
#define PUSHi(i) STMT_START { sv_setiv(TARG, (IV)(i)); PUSHTARG; } STMT_END
^~~~~~~~
/Users/stan/perl5/perlbrew/perls/perl-5.20.3/lib/5.20.3/darwin-2level/CORE/pp.h:294:64: note: expanded from macro 'PUSHTARG'
#define PUSHTARG STMT_START { SvSETMAGIC(TARG); PUSHs(TARG); } STMT_END
^~~~~~~~
/Users/stan/perl5/perlbrew/perls/perl-5.20.3/lib/5.20.3/darwin-2level/CORE/perl.h:512:21: note: expanded from macro 'STMT_END'
# define STMT_END )
^
MethodMaker.c:198:2: warning: '}' and ')' tokens terminating statement expression appear in different macro expansion contexts [-Wcompound-token-split-by-macro]
PUSHi((IV)RETVAL);
^~~~~~~~~~~~~~~~~
/Users/stan/perl5/perlbrew/perls/perl-5.20.3/lib/5.20.3/darwin-2level/CORE/pp.h:297:66: note: expanded from macro 'PUSHi'
#define PUSHi(i) STMT_START { sv_setiv(TARG, (IV)(i)); PUSHTARG; } STMT_END
^
MethodMaker.c:198:2: note: ')' token is here
PUSHi((IV)RETVAL);
^~~~~~~~~~~~~~~~~
/Users/stan/perl5/perlbrew/perls/perl-5.20.3/lib/5.20.3/darwin-2level/CORE/pp.h:297:68: note: expanded from macro 'PUSHi'
#define PUSHi(i) STMT_START { sv_setiv(TARG, (IV)(i)); PUSHTARG; } STMT_END
^~~~~~~~
/Users/stan/perl5/perlbrew/perls/perl-5.20.3/lib/5.20.3/darwin-2level/CORE/perl.h:512:21: note: expanded from macro 'STMT_END'
# define STMT_END )
^
MethodMaker.c:200:5: warning: '(' and '{' tokens introducing statement expression appear in different macro expansion contexts [-Wcompound-token-split-by-macro]
XSRETURN(1);
^~~~~~~~~~~
/Users/stan/perl5/perlbrew/perls/perl-5.20.3/lib/5.20.3/darwin-2level/CORE/XSUB.h:308:5: note: expanded from macro 'XSRETURN'
STMT_START { \
^~~~~~~~~~
/Users/stan/perl5/perlbrew/perls/perl-5.20.3/lib/5.20.3/darwin-2level/CORE/perl.h:511:29: note: expanded from macro 'STMT_START'
# define STMT_START (void)( /* gcc supports "({ STATEMENTS; })" */
^
MethodMaker.c:200:5: note: '{' token is here
XSRETURN(1);
^~~~~~~~~~~
/Users/stan/perl5/perlbrew/perls/perl-5.20.3/lib/5.20.3/darwin-2level/CORE/XSUB.h:308:16: note: expanded from macro 'XSRETURN'
STMT_START { \
^
MethodMaker.c:200:5: warning: '}' and ')' tokens terminating statement expression appear in different macro expansion contexts [-Wcompound-token-split-by-macro]
XSRETURN(1);
^~~~~~~~~~~
/Users/stan/perl5/perlbrew/perls/perl-5.20.3/lib/5.20.3/darwin-2level/CORE/XSUB.h:312:5: note: expanded from macro 'XSRETURN'
} STMT_END
^
MethodMaker.c:200:5: note: ')' token is here
XSRETURN(1);
^~~~~~~~~~~
/Users/stan/perl5/perlbrew/perls/perl-5.20.3/lib/5.20.3/darwin-2level/CORE/XSUB.h:312:7: note: expanded from macro 'XSRETURN'
} STMT_END
^~~~~~~~
/Users/stan/perl5/perlbrew/perls/perl-5.20.3/lib/5.20.3/darwin-2level/CORE/perl.h:512:21: note: expanded from macro 'STMT_END'
# define STMT_END )
^
MethodMaker.c:237:5: warning: '(' and '{' tokens introducing statement expression appear in different macro expansion contexts [-Wcompound-token-split-by-macro]
XSRETURN_YES;
^~~~~~~~~~~~
/Users/stan/perl5/perlbrew/perls/perl-5.20.3/lib/5.20.3/darwin-2level/CORE/XSUB.h:320:24: note: expanded from macro 'XSRETURN_YES'
#define XSRETURN_YES STMT_START { XST_mYES(0); XSRETURN(1); } STMT_END
^~~~~~~~~~
/Users/stan/perl5/perlbrew/perls/perl-5.20.3/lib/5.20.3/darwin-2level/CORE/perl.h:511:29: note: expanded from macro 'STMT_START'
# define STMT_START (void)( /* gcc supports "({ STATEMENTS; })" */
^
MethodMaker.c:237:5: note: '{' token is here
XSRETURN_YES;
^~~~~~~~~~~~
/Users/stan/perl5/perlbrew/perls/perl-5.20.3/lib/5.20.3/darwin-2level/CORE/XSUB.h:320:35: note: expanded from macro 'XSRETURN_YES'
#define XSRETURN_YES STMT_START { XST_mYES(0); XSRETURN(1); } STMT_END
^
MethodMaker.c:237:5: warning: '(' and '{' tokens introducing statement expression appear in different macro expansion contexts [-Wcompound-token-split-by-macro]
XSRETURN_YES;
^~~~~~~~~~~~
/Users/stan/perl5/perlbrew/perls/perl-5.20.3/lib/5.20.3/darwin-2level/CORE/XSUB.h:320:52: note: expanded from macro 'XSRETURN_YES'
#define XSRETURN_YES STMT_START { XST_mYES(0); XSRETURN(1); } STMT_END
^~~~~~~~~~~
/Users/stan/perl5/perlbrew/perls/perl-5.20.3/lib/5.20.3/darwin-2level/CORE/XSUB.h:308:5: note: expanded from macro 'XSRETURN'
STMT_START { \
^~~~~~~~~~
/Users/stan/perl5/perlbrew/perls/perl-5.20.3/lib/5.20.3/darwin-2level/CORE/perl.h:511:29: note: expanded from macro 'STMT_START'
# define STMT_START (void)( /* gcc supports "({ STATEMENTS; })" */
^
MethodMaker.c:237:5: note: '{' token is here
XSRETURN_YES;
^~~~~~~~~~~~
/Users/stan/perl5/perlbrew/perls/perl-5.20.3/lib/5.20.3/darwin-2level/CORE/XSUB.h:320:52: note: expanded from macro 'XSRETURN_YES'
#define XSRETURN_YES STMT_START { XST_mYES(0); XSRETURN(1); } STMT_END
^~~~~~~~~~~
/Users/stan/perl5/perlbrew/perls/perl-5.20.3/lib/5.20.3/darwin-2level/CORE/XSUB.h:308:16: note: expanded from macro 'XSRETURN'
STMT_START { \
^
MethodMaker.c:237:5: warning: '}' and ')' tokens terminating statement expression appear in different macro expansion contexts [-Wcompound-token-split-by-macro]
XSRETURN_YES;
^~~~~~~~~~~~
/Users/stan/perl5/perlbrew/perls/perl-5.20.3/lib/5.20.3/darwin-2level/CORE/XSUB.h:320:52: note: expanded from macro 'XSRETURN_YES'
#define XSRETURN_YES STMT_START { XST_mYES(0); XSRETURN(1); } STMT_END
^~~~~~~~~~~
/Users/stan/perl5/perlbrew/perls/perl-5.20.3/lib/5.20.3/darwin-2level/CORE/XSUB.h:312:5: note: expanded from macro 'XSRETURN'
} STMT_END
^
MethodMaker.c:237:5: note: ')' token is here
XSRETURN_YES;
^~~~~~~~~~~~
/Users/stan/perl5/perlbrew/perls/perl-5.20.3/lib/5.20.3/darwin-2level/CORE/XSUB.h:320:52: note: expanded from macro 'XSRETURN_YES'
#define XSRETURN_YES STMT_START { XST_mYES(0); XSRETURN(1); } STMT_END
^~~~~~~~~~~
/Users/stan/perl5/perlbrew/perls/perl-5.20.3/lib/5.20.3/darwin-2level/CORE/XSUB.h:312:7: note: expanded from macro 'XSRETURN'
} STMT_END
^~~~~~~~
/Users/stan/perl5/perlbrew/perls/perl-5.20.3/lib/5.20.3/darwin-2level/CORE/perl.h:512:21: note: expanded from macro 'STMT_END'
# define STMT_END )
^
MethodMaker.c:237:5: warning: '}' and ')' tokens terminating statement expression appear in different macro expansion contexts [-Wcompound-token-split-by-macro]
XSRETURN_YES;
^~~~~~~~~~~~
/Users/stan/perl5/perlbrew/perls/perl-5.20.3/lib/5.20.3/darwin-2level/CORE/XSUB.h:320:65: note: expanded from macro 'XSRETURN_YES'
#define XSRETURN_YES STMT_START { XST_mYES(0); XSRETURN(1); } STMT_END
^
MethodMaker.c:237:5: note: ')' token is here
XSRETURN_YES;
^~~~~~~~~~~~
/Users/stan/perl5/perlbrew/perls/perl-5.20.3/lib/5.20.3/darwin-2level/CORE/XSUB.h:320:67: note: expanded from macro 'XSRETURN_YES'
#define XSRETURN_YES STMT_START { XST_mYES(0); XSRETURN(1); } STMT_END
^~~~~~~~
/Users/stan/perl5/perlbrew/perls/perl-5.20.3/lib/5.20.3/darwin-2level/CORE/perl.h:512:21: note: expanded from macro 'STMT_END'
# define STMT_END )
^
33 warnings generated.
rm -f blib/arch/auto/Class/MethodMaker/MethodMaker.bundle
cc -mmacosx-version-min=12.2 -bundle -undefined dynamic_lookup -L/usr/local/lib -fstack-protector MethodMaker.o -o blib/arch/auto/Class/MethodMaker/MethodMaker.bundle \
\
chmod 755 blib/arch/auto/Class/MethodMaker/MethodMaker.bundle
Manifying 8 pod documents
"/Users/stan/perl5/perlbrew/perls/perl-5.20.3/bin/perl" -MExtUtils::Command::MM -e 'cp_nonempty' -- MethodMaker.bs blib/arch/auto/Class/MethodMaker/MethodMaker.bs 644
PERL_DL_NONLAZY=1 "/Users/stan/perl5/perlbrew/perls/perl-5.20.3/bin/perl" "-MExtUtils::Command::MM" "-MTest::Harness" "-e" "undef *Test::Harness::Switches; test_harness(0, 'blib/lib', 'blib/arch')" t/*.t
t/array.t .............. ok
t/basic.t .............. ok
t/diffclass.t .......... ok
t/hash.t ............... ok
t/new.t ................ ok
t/redefine-warnings.t .. ok
t/scalar.t ............. ok
t/warnings.t ........... ok
All tests successful.
Files=8, Tests=1252, 0 wallclock secs ( 0.06 usr 0.01 sys + 0.49 cusr 0.12 csys = 0.68 CPU)
Result: PASS
------------------------------
PREREQUISITES
------------------------------
Prerequisite modules loaded:
runtime:
Module Need Have
------------------- ----- --------
perl 5.006 5.020003
build:
Module Need Have
------------------- ----- --------
ExtUtils::MakeMaker 0 7.70
configure:
Module Need Have
------------------- ----- --------
ExtUtils::MakeMaker 0 7.70
------------------------------
ENVIRONMENT AND OTHER CONTEXT
------------------------------
Environment variables:
LANG = en_US.UTF-8
LC_ALL = en_US.UTF-8
LDFLAGS = -L/usr/local/opt/curl/lib
PATH = /Users/stan/perl5/perlbrew/bin:/Users/stan/perl5/perlbrew/perls/perl-5.20.3/bin:/Users/stan/perl5/perlbrew/bin:/Users/stan/perl5/perlbrew/perls/perl-5.40.0/bin:/usr/local/opt/mysql-client/bin:/usr/local/opt/curl/bin:/usr/local/bin:/usr/local/sbin:/usr/local/bin:/System/Cryptexes/App/usr/bin:/usr/bin:/bin:/usr/sbin:/sbin:/Applications/Little Snitch.app/Contents/Components:/opt/X11/bin:/Applications/Wireshark.app/Contents/MacOS:/var/run/com.apple.security.cryptexd/codex.system/bootstrap/usr/local/bin:/var/run/com.apple.security.cryptexd/codex.system/bootstrap/usr/bin:/var/run/com.apple.security.cryptexd/codex.system/bootstrap/usr/appleinternal/bin:/Users/stan/.vim/bin:/Users/stan/bin:/Users/stan/node_modules/.bin:/usr/local/sbin:/usr/local/opt/mysql-client/bin:/usr/local/opt/curl/bin:/Applications/kitty.app/Contents/MacOS:/Users/stan/.local/bin:/Users/stan/.local/bin:/Users/stan/.local/bin
PERL5LIB =
PERLBREW_HOME = /Users/stan/.perlbrew
PERLBREW_LIB =
PERLBREW_MANPATH = /Users/stan/perl5/perlbrew/perls/perl-5.20.3/man
PERLBREW_PATH = /Users/stan/perl5/perlbrew/bin:/Users/stan/perl5/perlbrew/perls/perl-5.20.3/bin
PERLBREW_PERL = perl-5.20.3
PERLBREW_ROOT = /Users/stan/perl5/perlbrew
PERLBREW_SHELLRC_VERSION = 0.99
PERLBREW_VERSION = 0.99
PERL_LOCAL_LIB_ROOT =
PERL_MM_USE_DEFAULT = 1
SHELL = /usr/local/bin/zsh
TERM = screen-256color
TMPDIR = /var/folders/tk/hx6fvpsj3yzbyd1k1br945mc0000gn/T/
Perl special variables (and OS-specific diagnostics, for MSWin32):
EGID = 20 20 103 12 61 79 80 81 98 701 33 100 204 250 395 398 101
EUID = 501
EXECUTABLE_NAME = /Users/stan/perl5/perlbrew/perls/perl-5.20.3/bin/perl
GID = 20 20 103 12 61 79 80 81 98 701 33 100 204 250 395 398 101
UID = 501
Perl module toolchain versions installed:
Module Have
------------------- --------
CPAN 2.37
CPAN::Meta 2.150010
Cwd 3.75
ExtUtils::CBuilder 0.280236
ExtUtils::Command 7.70
ExtUtils::Install 2.22
ExtUtils::MakeMaker 7.70
ExtUtils::Manifest 1.75
ExtUtils::ParseXS 3.51
File::Spec 3.75
JSON 4.10
JSON::PP 4.16
Module::Build 0.4234
Module::Signature n/a
Parse::CPAN::Meta 2.150010
Test::Harness 3.50
Test::More 1.302204
YAML 1.31
YAML::Syck n/a
version 0.9933
--
Summary of my perl5 (revision 5 version 20 subversion 3) configuration:
Platform:
osname=darwin, osvers=21.3.0, archname=darwin-2level
uname='darwin imac.fritz.box 21.3.0 darwin kernel version 21.3.0: wed jan 5 21:37:58 pst 2022; root:xnu-8019.80.24~20release_x86_64 x86_64 '
config_args='-de -Dprefix=/Users/stan/perl5/perlbrew/perls/perl-5.20.3 -Aeval:scriptdir=/Users/stan/perl5/perlbrew/perls/perl-5.20.3/bin'
hint=recommended, useposix=true, d_sigaction=define
useithreads=undef, usemultiplicity=undef
use64bitint=define, use64bitall=define, uselongdouble=undef
usemymalloc=n, bincompat5005=undef
Compiler:
cc='cc', ccflags ='-fno-common -DPERL_DARWIN -mmacosx-version-min=12.2 -fno-strict-aliasing -pipe -fstack-protector -I/usr/local/include -DPERL_USE_SAFE_PUTENV',
optimize='-O3',
cppflags='-fno-common -DPERL_DARWIN -mmacosx-version-min=12.2 -fno-strict-aliasing -pipe -fstack-protector -I/usr/local/include'
ccversion='', gccversion='Apple LLVM 13.0.0 (clang-1300.0.29.30)', gccosandvers=''
intsize=4, longsize=8, ptrsize=8, doublesize=8, byteorder=12345678
d_longlong=define, longlongsize=8, d_longdbl=define, longdblsize=16
ivtype='long', ivsize=8, nvtype='double', nvsize=8, Off_t='off_t', lseeksize=8
alignbytes=8, prototype=define
Linker and Libraries:
ld='cc', ldflags =' -mmacosx-version-min=12.2 -fstack-protector -L/usr/local/lib'
libpth=/usr/local/lib /Library/Developer/CommandLineTools/usr/lib/clang/13.0.0/lib /Library/Developer/CommandLineTools/SDKs/MacOSX.sdk/usr/lib /Library/Developer/CommandLineTools/usr/lib /usr/lib
libs=-lgdbm -ldb
perllibs=
libc=, so=dylib, useshrplib=false, libperl=libperl.a
gnulibc_version=''
Dynamic Linking:
dlsrc=dl_dlopen.xs, dlext=bundle, d_dlsymun=undef, ccdlflags=' '
cccdlflags=' ', lddlflags=' -mmacosx-version-min=12.2 -bundle -undefined dynamic_lookup -L/usr/local/lib -fstack-protector'
Characteristics of this binary (from libperl):
Compile-time options: HAS_TIMES PERLIO_LAYERS PERL_DONT_CREATE_GVSV
PERL_HASH_FUNC_ONE_AT_A_TIME_HARD PERL_MALLOC_WRAP
PERL_NEW_COPY_ON_WRITE PERL_PRESERVE_IVUV
PERL_USE_SAFE_PUTENV USE_64_BIT_ALL USE_64_BIT_INT
USE_LARGE_FILES USE_LOCALE USE_LOCALE_COLLATE
USE_LOCALE_CTYPE USE_LOCALE_NUMERIC USE_PERLIO
USE_PERL_ATOF
Locally applied patches:
Devel::PatchPerl 2.08
Built under darwin
Compiled at Feb 10 2022 22:49:45
%ENV:
PERL5LIB=""
PERLBREW_HOME="/Users/stan/.perlbrew"
PERLBREW_LIB=""
PERLBREW_MANPATH="/Users/stan/perl5/perlbrew/perls/perl-5.20.3/man"
PERLBREW_PATH="/Users/stan/perl5/perlbrew/bin:/Users/stan/perl5/perlbrew/perls/perl-5.20.3/bin"
PERLBREW_PERL="perl-5.20.3"
PERLBREW_ROOT="/Users/stan/perl5/perlbrew"
PERLBREW_SHELLRC_VERSION="0.99"
PERLBREW_VERSION="0.99"
PERL_LOCAL_LIB_ROOT=""
PERL_MM_USE_DEFAULT="1"
@INC:
/Users/stan/perl5/perlbrew/perls/perl-5.20.3/lib/site_perl/5.20.3/darwin-2level
/Users/stan/perl5/perlbrew/perls/perl-5.20.3/lib/site_perl/5.20.3
/Users/stan/perl5/perlbrew/perls/perl-5.20.3/lib/5.20.3/darwin-2level
/Users/stan/perl5/perlbrew/perls/perl-5.20.3/lib/5.20.3
.