StorageDisplay v2.01 Perl 5 v5.32.1 amd64-freebsd-ld

Status
Pass
From
Slaven Rezić
Dist
StorageDisplay v2.01
Platform
Perl 5 v5.32.1 amd64-freebsd-ld
Date
2023-03-24 23:38:44
ID
03d6da9e-ca9d-11ed-af2e-e2e26d8775ea
This distribution has been tested as part of the CPAN Testers
project, supporting the Perl programming language.  See
http://wiki.cpantesters.org/ for more information or email
questions to cpan-testers-discuss@perl.org


--
Dear Vincent Danjean,

This is a computer-generated report for StorageDisplay-2.01
on perl 5.32.1, created by CPAN-Reporter-1.2018.

Thank you for uploading your work to CPAN.  Congratulations!
All tests were successful.

Sections of this report:

    * Tester comments
    * Program output
    * Prerequisites
    * Environment and other context

------------------------------
TESTER COMMENTS
------------------------------

Additional comments from tester:

none provided

------------------------------
PROGRAM OUTPUT
------------------------------

Output from '/usr/bin/make test':

PERL_DL_NONLAZY=1 "/usr/perl5.32.1Dp/bin/perl" "-MExtUtils::Command::MM" "-MTest::Harness" "-e" "undef *Test::Harness::Switches; test_harness(0, 'blib/lib', 'blib/arch')" t/*.t
# Testing with Perl 5.032001, /usr/perl5.32.1Dp/bin/perl
#     Carp version is 1.50
#     Data::Compare version is 1.28
#     Data::Dumper version is 2.183
#     ExtUtils::MakeMaker version is 7.66
#     Getopt::Long version is 2.54
#     IO::Select version is 1.51
#     JSON::PP version is 4.15
#     Moose version is 2.2201
#     MooseX::NonMoose version is 0.26
#     MooseX::Role::Parameterized version is 1.11
#     Net::OpenSSH version is 0.83
#     Object::ID version is v0.1.2
#     POSIX version is 1.94
#     Path::Class version is 0.37
#     Path::Class::Dir version is 0.37
#     Pod::Usage version is 2.03
#     Scalar::Util version is 1.63
#     Storable version is 3.25
#     Term::ReadKey version is 2.38
#     Test2::V0 version is 0.000148
#     Test::File::Contents version is 0.23
#     Test::More version is 1.302192
#     Test::Script version is 1.29
#     Types::Standard version is 2.002001
#     base version is 2.27
#     bignum version is 0.65
#     bigrat version is 0.65
#     namespace::sweep version is 0.006
#     parent version is 0.238
#     strict version is 1.11
#     utf8 version is 1.22
#     warnings version is 1.47
t/000-report-versions.t .. ok
t/05_round.t ............. ok
t/06_int-data-dumper.t ... ok
# JSON::PP: boolean_values support: 1
# JSON::PP: allow_bignum support: 1
# JSON::PP has boolean_values: 1
t/07_json.t .............. ok
t/10_scripts.t ........... ok
t/20_reference.t ......... ok
t/author-critic.t ........ skipped: these tests are for testing by the author
t/author-distmeta.t ...... skipped: these tests are for testing by the author
t/author-pod-syntax.t .... skipped: these tests are for testing by the author
All tests successful.
Files=9, Tests=111, 11 wallclock secs ( 0.03 usr  0.02 sys +  9.76 cusr  1.00 csys = 10.80 CPU)
Result: PASS

------------------------------
PREREQUISITES
------------------------------

Prerequisite modules loaded:

requires:

    Module                      Need     Have    
    --------------------------- -------- --------
    base                        0        2.27    
    bignum                      0.51     0.65    
    bigrat                      0.51     0.65    
    Carp                        0        1.50    
    Data::Compare               0        1.28    
    Data::Dumper                0        2.183   
    Getopt::Long                0        2.54    
    IO::Select                  0        1.51    
    JSON::PP                    0        4.15    
    Moose                       0        2.2201  
    Moose::Role                 0        2.2201  
    MooseX::NonMoose            0        0.26    
    MooseX::Role::Parameterized 0        1.11    
    namespace::sweep            0        0.006   
    Net::OpenSSH                0        0.83    
    Object::ID                  0        v0.1.2  
    parent                      0        0.238   
    Path::Class::Dir            0        0.37    
    perl                        5.014000 5.032001
    Pod::Usage                  0        2.03    
    POSIX                       0        1.94    
    Scalar::Util                0        1.63    
    Storable                    0        3.25    
    strict                      0        1.11    
    Term::ReadKey               0        2.38    
    Types::Standard             0        2.002001
    warnings                    0        1.47    

build_requires:

    Module                      Need     Have    
    --------------------------- -------- --------
    ExtUtils::MakeMaker         0        7.66    
    Path::Class                 0        0.37    
    Test2::V0                   0        0.000148
    Test::File::Contents        0        0.23    
    Test::More                  0.94     1.302192
    Test::Script                0        1.29    
    utf8                        0        1.22    

configure_requires:

    Module                      Need     Have    
    --------------------------- -------- --------
    ExtUtils::MakeMaker         0        7.66    


------------------------------
ENVIRONMENT AND OTHER CONTEXT
------------------------------

Environment variables:

    PATH = /usr/local/bin:/usr/bin:/bin:/usr/local/sbin:/usr/sbin:/sbin:/home/cpansand/bin/sh:/home/cpansand/bin:/usr/games:/home/cpansand/devel:/usr/home/eserte/src/srezic-misc/scripts
    PERL5LIB = 
    PERL5OPT = 
    PERL5_CPANPLUS_IS_RUNNING = 75603
    PERL5_CPAN_IS_RUNNING = 75603
    PERL5_CPAN_IS_RUNNING_IN_RECURSION = 74546,75603
    PERL_BATCH = yes
    PERL_CANARY_STABILITY_NOPROMPT = 1
    PERL_CPAN_REPORTER_CONFIG = /var/tmp/cpansmoker-1023/2023032423/cpanreporter_000_config.ini
    PERL_EXTUTILS_AUTOINSTALL = --defaultdeps
    PERL_USE_UNSAFE_INC = 1
    SHELL = /bin/sh
    TMPDIR = /var/tmp/cpansmoker-1023/2023032423

Perl special variables (and OS-specific diagnostics, for MSWin32):

    $^X = /usr/perl5.32.1Dp/bin/perl
    $UID/$EUID = 1023 / 1023
    $GID = 1023 1023
    $EGID = 1023 1023

Perl module toolchain versions installed:

    Module              Have    
    ------------------- --------
    CPAN                2.34    
    CPAN::Meta          2.150010
    Cwd                 3.78    
    ExtUtils::CBuilder  0.280236
    ExtUtils::Command   7.66    
    ExtUtils::Install   2.20    
    ExtUtils::MakeMaker 7.66    
    ExtUtils::Manifest  1.72    
    ExtUtils::ParseXS   3.40    
    File::Spec          3.78    
    JSON                4.10    
    JSON::PP            4.15    
    Module::Build       0.4231  
    Module::Signature   0.88    
    Parse::CPAN::Meta   2.150010
    Test::Harness       3.44    
    Test::More          1.302192
    YAML                1.30    
    YAML::Syck          1.34    
    version             0.9929  


--

Summary of my perl5 (revision 5 version 32 subversion 1) configuration:
   
  Platform:
    osname=freebsd
    osvers=13.0-stable
    archname=amd64-freebsd-ld
    uname='freebsd cloud10.bbbike.org 13.0-stable freebsd 13.0-stable #0 stable13-n245623-e2872019983d: thu may 13 16:04:27 utc 2021 root@cloud10.bbbike.org:usrobjusrhomeprojectsfreebsdamd64.amd64sysgeneric amd64 '
    config_args='-ds -e -Dprefix=/usr/perl5.32.1Dp -Duselongdouble -Dcf_email=srezic@cpan.org -Doptimize=-O2 -pipe'
    hint=recommended
    useposix=true
    d_sigaction=define
    useithreads=undef
    usemultiplicity=undef
    use64bitint=define
    use64bitall=define
    uselongdouble=define
    usemymalloc=n
    default_inc_excludes_dot=define
    bincompat5005=undef
  Compiler:
    cc='cc'
    ccflags ='-DHAS_FPSETMASK -DHAS_FLOATINGPOINT_H -fno-strict-aliasing -pipe -fstack-protector-strong -I/usr/local/include'
    optimize='-O2 -pipe'
    cppflags='-DHAS_FPSETMASK -DHAS_FLOATINGPOINT_H -fno-strict-aliasing -pipe -fstack-protector-strong -I/usr/local/include'
    ccversion=''
    gccversion='FreeBSD Clang 11.0.1 (git@github.com:llvm/llvm-project.git llvmorg-11.0.1-0-g43ff75f2c3fe)'
    gccosandvers=''
    intsize=4
    longsize=8
    ptrsize=8
    doublesize=8
    byteorder=12345678
    doublekind=3
    d_longlong=define
    longlongsize=8
    d_longdbl=define
    longdblsize=16
    longdblkind=3
    ivtype='long'
    ivsize=8
    nvtype='long double'
    nvsize=16
    Off_t='off_t'
    lseeksize=8
    alignbytes=16
    prototype=define
  Linker and Libraries:
    ld='cc'
    ldflags ='-pthread -Wl,-E  -fstack-protector-strong -L/usr/local/lib'
    libpth=/usr/lib /usr/local/lib /usr/lib/clang/11.0.1/lib /usr/lib
    libs=-lpthread -lgdbm -ldl -lm -lcrypt -lutil -lc
    perllibs=-lpthread -ldl -lm -lcrypt -lutil -lc
    libc=
    so=so
    useshrplib=false
    libperl=libperl.a
    gnulibc_version=''
  Dynamic Linking:
    dlsrc=dl_dlopen.xs
    dlext=so
    d_dlsymun=undef
    ccdlflags=' '
    cccdlflags='-DPIC -fPIC'
    lddlflags='-shared  -L/usr/local/lib -fstack-protector-strong'


Characteristics of this binary (from libperl): 
  Compile-time options:
    HAS_TIMES
    PERLIO_LAYERS
    PERL_COPY_ON_WRITE
    PERL_DONT_CREATE_GVSV
    PERL_MALLOC_WRAP
    PERL_OP_PARENT
    PERL_PRESERVE_IVUV
    USE_64_BIT_ALL
    USE_64_BIT_INT
    USE_LARGE_FILES
    USE_LOCALE
    USE_LOCALE_COLLATE
    USE_LOCALE_CTYPE
    USE_LOCALE_NUMERIC
    USE_LOCALE_TIME
    USE_LONG_DOUBLE
    USE_PERLIO
    USE_PERL_ATOF
  Built under freebsd
  Compiled at May 16 2021 16:11:18
  %ENV:
    PERL5LIB=""
    PERL5OPT=""
    PERL5_CPANPLUS_IS_RUNNING="75603"
    PERL5_CPAN_IS_RUNNING="75603"
    PERL5_CPAN_IS_RUNNING_IN_RECURSION="74546,75603"
    PERL_BATCH="yes"
    PERL_CANARY_STABILITY_NOPROMPT="1"
    PERL_CPAN_REPORTER_CONFIG="/var/tmp/cpansmoker-1023/2023032423/cpanreporter_000_config.ini"
    PERL_EXTUTILS_AUTOINSTALL="--defaultdeps"
    PERL_USE_UNSAFE_INC="1"
  @INC:
    /usr/perl5.32.1Dp/lib/site_perl/5.32.1/amd64-freebsd-ld
    /usr/perl5.32.1Dp/lib/site_perl/5.32.1
    /usr/perl5.32.1Dp/lib/5.32.1/amd64-freebsd-ld
    /usr/perl5.32.1Dp/lib/5.32.1
    .