Back
From: metabase:user:314402c4-2aae-11df-837a-5e0a49663a4f
Subject: PASS libqbit-perl-0.6 v5.8.9 FreeBSD
Date: 2014-01-17T11:53:43Z
This distribution has been tested as part of the CPAN Testers
project, supporting the Perl programming language.  See
http://wiki.cpantesters.org/ for more information or email
questions to cpan-testers-discuss@perl.org
--
Dear Sergei Svistunov,
This is a computer-generated report for libqbit-perl_0.6
on perl 5.8.9, created by CPAN-Reporter-1.2010.
Thank you for uploading your work to CPAN.  Congratulations!
All tests were successful.
Sections of this report:
    * Tester comments
    * Program output
    * Prerequisites
    * Environment and other context
------------------------------
TESTER COMMENTS
------------------------------
Additional comments from tester:
none provided
------------------------------
PROGRAM OUTPUT
------------------------------
Output from '/usr/bin/make test':
PERL_DL_NONLAZY=1 /usr/local/bin/perl5.8.9t "-MExtUtils::Command::MM" "-MTest::Harness" "-e" "undef *Test::Harness::Switches; test_harness(0, 'blib/lib', 'blib/arch')" t/*.t
t/array.t ...... ok
t/exception.t .. ok
t/file.t ....... ok
t/gettext.t .... ok
t/hash.t ....... ok
t/string.t ..... ok
All tests successful.
Files=6, Tests=52,  1 wallclock secs ( 0.03 usr  0.05 sys +  0.75 cusr  0.24 csys =  1.07 CPU)
Result: PASS
------------------------------
PREREQUISITES
------------------------------
Prerequisite modules loaded:
requires:
    Module              Need Have    
    ------------------- ---- --------
    base                0    2.18    
    Clone               0    0.35    
    Data::Dumper        0    2.145   
    Date::Calc          0    6.3     
  ! Exception           0    n/a     
    Exporter            0    5.68    
    HTML::Entities      0    3.69    
    JSON::XS            0    3.01    
    Locale::Messages    0    1.23    
    Net::LibIDN         0    0.12    
    open                0    1.06    
    overload            0    1.06    
    POSIX               0    1.15    
    Scalar::Util        0    1.35    
    strict              0    1.03    
    Time::Local         0    1.1901  
    URI::Escape         0    3.31    
    utf8                0    1.07    
    warnings            0    1.05_01 
build_requires:
    Module              Need Have    
    ------------------- ---- --------
  ! Exception::Test     0    n/a     
    File::Temp          0    0.2304  
    Test::More          0    1.001002
configure_requires:
    Module              Need Have    
    ------------------- ---- --------
    ExtUtils::MakeMaker 6.30 6.82    
------------------------------
ENVIRONMENT AND OTHER CONTEXT
------------------------------
Environment variables:
    DBIC_NO_WARN_BAD_PERL = 1
    PATH = /usr/local/bin:/usr/bin:/bin:/usr/local/sbin:/usr/sbin:/sbin:/home/cpansand/bin/freebsd9.1:/home/cpansand/bin/sh:/home/cpansand/bin:/usr/games:/home/cpansand/devel:/usr/home/eserte/work/srezic-misc/scripts
    PERL5LIB = /home/eserte/.cpan/build/Net-LibIDN-0.12-MS75Up/blib/arch:/home/eserte/.cpan/build/Net-LibIDN-0.12-MS75Up/blib/lib:/home/eserte/.cpan/build/Crypt-SRP-0.013-uk9XwS/blib/arch:/home/eserte/.cpan/build/Crypt-SRP-0.013-uk9XwS/blib/lib
    PERL5OPT = 
    PERL5_CPANPLUS_IS_RUNNING = 92418
    PERL5_CPAN_IS_RUNNING = 92418
    PERL5_CPAN_IS_RUNNING_IN_RECURSION = 92396,92418
    PERLDOC = -MPod::Perldoc::ToTextOverstrike
    PERL_BATCH = yes
    PERL_CPAN_REPORTER_CONFIG = /var/tmp/cpansmoker-1023/nwyEac0UUu_config.ini
    PERL_EXTUTILS_AUTOINSTALL = --defaultdeps
    PERL_HTML_DISPLAY_CLASS = HTML::Display::Mozilla
    SHELL = /usr/local/bin/zsh
    TERM = screen
    TMPDIR = /var/tmp/cpansmoker-1023
Perl special variables (and OS-specific diagnostics, for MSWin32):
    $^X = /usr/local/bin/perl5.8.9t
    $UID/$EUID = 1023 / 1023
    $GID = 1023 1023
    $EGID = 1023 1023
Perl module toolchain versions installed:
    Module              Have    
    ------------------- --------
    CPAN                2.00    
    CPAN::Meta          2.132830
    Cwd                 3.40    
    ExtUtils::CBuilder  0.280212
    ExtUtils::Command   1.16    
    ExtUtils::Install   1.54    
    ExtUtils::MakeMaker 6.82    
    ExtUtils::Manifest  1.60    
    ExtUtils::ParseXS   3.22    
    File::Spec          3.40    
    JSON                2.90    
    JSON::PP            2.27203 
    Module::Build       0.4204  
    Module::Signature   0.73    
    Parse::CPAN::Meta   1.4409  
    Test::Harness       3.30    
    Test::More          1.001002
    YAML                0.84    
    YAML::Syck          1.27    
    version             0.9906  
--
Summary of my perl5 (revision 5 version 8 subversion 9) configuration:
  Platform:
    osname=freebsd, osvers=9.2-release, archname=amd64-freebsd-thread-multi
    uname='freebsd cvrsnica-freebsd-92 9.2-release freebsd 9.2-release #0 r255898: thu sep 26 22:50:31 utc 2013 root@bake.isc.freebsd.org:usrobjusrsrcsysgeneric amd64 '
    config_args='-ds -e -Dprefix=/usr/perl5.8.9t -Dusethreads'
    hint=recommended, useposix=true, d_sigaction=define
    usethreads=define use5005threads=undef useithreads=define usemultiplicity=define
    useperlio=define d_sfio=undef uselargefiles=define usesocks=undef
    use64bitint=define use64bitall=define uselongdouble=undef
    usemymalloc=n, bincompat5005=undef
  Compiler:
    cc='cc', ccflags ='-DHAS_FPSETMASK -DHAS_FLOATINGPOINT_H -fno-strict-aliasing -pipe -I/usr/local/include',
    optimize='-O',
    cppflags='-DHAS_FPSETMASK -DHAS_FLOATINGPOINT_H -fno-strict-aliasing -pipe -I/usr/local/include'
    ccversion='', gccversion='4.2.1 20070831 patched [FreeBSD]', gccosandvers=''
    intsize=4, longsize=8, ptrsize=8, doublesize=8, byteorder=12345678
    d_longlong=define, longlongsize=8, d_longdbl=define, longdblsize=16
    ivtype='long', ivsize=8, nvtype='double', nvsize=8, Off_t='off_t', lseeksize=8
    alignbytes=8, prototype=define
  Linker and Libraries:
    ld='cc', ldflags ='-pthread -Wl,-E  -L/usr/local/lib'
    libpth=/usr/lib /usr/local/lib
    libs=-lm -lcrypt
    perllibs=-lm -lcrypt
    libc=, so=so, useshrplib=false, libperl=libperl.a
    gnulibc_version=''
  Dynamic Linking:
    dlsrc=dl_dlopen.xs, dlext=so, d_dlsymun=undef, ccdlflags=' '
    cccdlflags='-DPIC -fPIC', lddlflags='-shared  -L/usr/local/lib'
Characteristics of this binary (from libperl): 
  Compile-time options: MULTIPLICITY PERL_IMPLICIT_CONTEXT PERL_MALLOC_WRAP
                        USE_64_BIT_ALL USE_64_BIT_INT USE_FAST_STDIO
                        USE_ITHREADS USE_LARGE_FILES USE_PERLIO
                        USE_REENTRANT_API
  Built under freebsd
  Compiled at Nov 17 2013 16:12:53
  %ENV:
    PERL5LIB="/home/eserte/.cpan/build/Net-LibIDN-0.12-MS75Up/blib/arch:/home/eserte/.cpan/build/Net-LibIDN-0.12-MS75Up/blib/lib:/home/eserte/.cpan/build/Crypt-SRP-0.013-uk9XwS/blib/arch:/home/eserte/.cpan/build/Crypt-SRP-0.013-uk9XwS/blib/lib"
    PERL5OPT=""
    PERL5_CPANPLUS_IS_RUNNING="92418"
    PERL5_CPAN_IS_RUNNING="92418"
    PERL5_CPAN_IS_RUNNING_IN_RECURSION="92396,92418"
    PERLDOC="-MPod::Perldoc::ToTextOverstrike"
    PERL_BATCH="yes"
    PERL_CPAN_REPORTER_CONFIG="/var/tmp/cpansmoker-1023/nwyEac0UUu_config.ini"
    PERL_EXTUTILS_AUTOINSTALL="--defaultdeps"
    PERL_HTML_DISPLAY_CLASS="HTML::Display::Mozilla"
  @INC:
    /home/eserte/.cpan/build/Net-LibIDN-0.12-MS75Up/blib/arch
    /home/eserte/.cpan/build/Net-LibIDN-0.12-MS75Up/blib/lib
    /home/eserte/.cpan/build/Crypt-SRP-0.013-uk9XwS/blib/arch
    /home/eserte/.cpan/build/Crypt-SRP-0.013-uk9XwS/blib/lib
    /usr/perl5.8.9t/lib/5.8.9/amd64-freebsd-thread-multi
    /usr/perl5.8.9t/lib/5.8.9
    /usr/perl5.8.9t/lib/site_perl/5.8.9/amd64-freebsd-thread-multi
    /usr/perl5.8.9t/lib/site_perl/5.8.9
    .