Catalyst-Authentication-Credential-HTTP v1.018 Perl 5 v5.38.0 RC2 amd64-netbsd-thread-multi

Status
Pass
From
Carlos Guevara
Dist
Catalyst-Authentication-Credential-HTTP v1.018
Platform
Perl 5 v5.38.0 RC2 amd64-netbsd-thread-multi
Date
2023-06-29 08:43:26
ID
03fd68fa-1659-11ee-bc78-c28b9259ce8c
This distribution has been tested as part of the CPAN Testers
project, supporting the Perl programming language.  See
http://wiki.cpantesters.org/ for more information or email
questions to cpan-testers-discuss@perl.org


--
Dear Karen Etheridge,

This is a computer-generated report for Catalyst-Authentication-Credential-HTTP-1.018
on perl 5.38.0, created by CPAN-Reporter-1.2019.

Thank you for uploading your work to CPAN.  Congratulations!
All tests were successful.

Sections of this report:

    * Tester comments
    * Program output
    * Prerequisites
    * Environment and other context

------------------------------
TESTER COMMENTS
------------------------------

Additional comments from tester:

this report is from an automated smoke testing program
and was not reviewed by a human for accuracy

------------------------------
PROGRAM OUTPUT
------------------------------

Output from './Build test':

# 
# Versions for all modules listed in MYMETA.json (including optional ones):
# 
# === Configure Requires ===
# 
#     Module               Want  Have
#     ------------------- ----- -----
#     Module::Build::Tiny 0.034 0.046
# 
# === Test Requires ===
# 
#     Module                    Want       Have
#     ------------------------- ---- ----------
#     Catalyst::Controller       any      undef
#     File::Spec                 any       3.88
#     FindBin                    any       1.53
#     HTTP::Headers              any       6.44
#     HTTP::Request              any       6.44
#     Module::Metadata           any   1.000038
#     Test::Exception            any       0.43
#     Test::MockObject           any 1.20200122
#     Test::MockObject::Extends  any 1.20200122
#     Test::More                 any   1.302195
#     Test::Needs                any   0.002010
#     lib                        any       0.65
# 
# === Test Recommends ===
# 
#     Module         Want     Have
#     ---------- -------- --------
#     CPAN::Meta 2.120900 2.150010
# 
# === Runtime Requires ===
# 
#     Module                                            Want     Have
#     ---------------------------------------------- ------- --------
#     Catalyst                                           any  5.90130
#     Catalyst::Authentication::Credential::Password     any    undef
#     Catalyst::Plugin::Authentication               0.10005  0.10023
#     Class::Accessor::Fast                              any     0.51
#     Data::UUID                                        0.11    1.226
#     Digest::MD5                                        any  2.58_01
#     String::Escape                                     any 2010.002
#     URI::Escape                                        any     5.19
#     base                                               any     2.27
#     strict                                             any     1.12
#     warnings                                           any     1.65
# 
# === Other Modules ===
# 
#     Module           Have
#     ------------- -------
#     JSON::PP         4.16
#     Pod::Coverage missing
#     Sub::Name        0.27
#     YAML             1.30
#     autodie          2.36
# 
t/00-report-prereqs.t ....... ok
# Catalyst 5.90130
# Catalyst::Plugin::Authentication 0.10023
# Catalyst::Authentication::Credential::HTTP 1.018
t/00use.t ................... ok
t/basic.t ................... ok
t/live_app.t ................ skipped: Need Test::WWW::Mechanize::Catalyst 0.51
t/live_app_digest.t ......... skipped: Need Test::WWW::Mechanize::Catalyst 0.51
t/live_app_digest_dotnet.t .. skipped: Need Test::WWW::Mechanize::Catalyst 0.51
All tests successful.
Files=6, Tests=39,  4 wallclock secs ( 0.07 usr  0.03 sys +  3.65 cusr  0.55 csys =  4.30 CPU)
Result: PASS

------------------------------
PREREQUISITES
------------------------------

Prerequisite modules loaded:

requires:

    Module                                         Need    Have      
    ---------------------------------------------- ------- ----------
    base                                           0       2.27      
    Catalyst                                       0       5.90130   
    Catalyst::Authentication::Credential::Password 0       0         
    Catalyst::Plugin::Authentication               0.10005 0.10023   
    Class::Accessor::Fast                          0       0.51      
    Data::UUID                                     0.11    1.226     
    Digest::MD5                                    0       2.58_01   
    perl                                           5.006   5.038000  
    strict                                         0       1.12      
    String::Escape                                 0       2010.002  
    URI::Escape                                    0       5.19      
    warnings                                       0       1.65      

build_requires:

    Module                                         Need    Have      
    ---------------------------------------------- ------- ----------
    Catalyst::Controller                           0       0         
    File::Spec                                     0       3.88      
    FindBin                                        0       1.53      
    HTTP::Headers                                  0       6.44      
    HTTP::Request                                  0       6.44      
    lib                                            0       0.65      
    Module::Metadata                               0       1.000038  
    perl                                           5.006   5.038000  
    Test::Exception                                0       0.43      
    Test::MockObject                               0       1.20200122
    Test::MockObject::Extends                      0       1.20200122
    Test::More                                     0       1.302195  
    Test::Needs                                    0       0.002010  

configure_requires:

    Module                                         Need    Have      
    ---------------------------------------------- ------- ----------
    Module::Build::Tiny                            0.034   0.046     
    perl                                           5.006   5.038000  


------------------------------
ENVIRONMENT AND OTHER CONTEXT
------------------------------

Environment variables:

    AUTOMATED_TESTING = 1
    DATE_MANIP_TEST_DM5 = 1
    LC_ALL = C
    NONINTERACTIVE_TESTING = 1
    NO_NETWORK_TESTING = 1
    PATH = /home/cpan/bin/perl/bin:/home/cpan/bin:/home/cpan/bin:/bin:/sbin:/usr/bin:/usr/sbin:/usr/X11R7/bin:/usr/pkg/bin:/usr/pkg/sbin:/usr/games:/usr/local/bin:/usr/local/sbin
    PERL5LIB = 
    PERL5OPT = 
    PERL5_CPANPLUS_IS_RUNNING = 10322
    PERL5_CPAN_IS_RUNNING = 10322
    PERL_MM_USE_DEFAULT = 1
    PERL_USE_UNSAFE_INC = 1
    SHELL = /usr/pkg/bin/bash
    TERM = screen
    TMPDIR = /home/cpan/tmp

Perl special variables (and OS-specific diagnostics, for MSWin32):

    $^X = /home/cpan/bin/perl/bin/perl5.38.0
    $UID/$EUID = 1001 / 1001
    $GID = 100 100
    $EGID = 100 100

Perl module toolchain versions installed:

    Module              Have    
    ------------------- --------
    CPAN                2.36    
    CPAN::Meta          2.150010
    Cwd                 3.89    
    ExtUtils::CBuilder  0.280238
    ExtUtils::Command   7.70    
    ExtUtils::Install   2.22    
    ExtUtils::MakeMaker 7.70    
    ExtUtils::Manifest  1.75    
    ExtUtils::ParseXS   3.51    
    File::Spec          3.88    
    JSON                4.10    
    JSON::PP            4.16    
    Module::Build       0.4234  
    Module::Signature   n/a     
    Parse::CPAN::Meta   2.150010
    Test2               1.302195
    Test::Harness       3.44    
    Test::More          1.302195
    YAML                1.30    
    YAML::Syck          n/a     
    version             0.9929  


--

Summary of my perl5 (revision 5 version 38 subversion 0) configuration:
  Commit id: 815251bd22ddf4bf221549c96736004652928824
  Platform:
    osname=netbsd
    osvers=8.2
    archname=amd64-netbsd-thread-multi
    uname='netbsd cjg-netbsd8 8.2 netbsd 8.2 (generic) #0: tue mar 31 05:08:40 utc 2020 mkrepro@mkrepro.netbsd.org:usrsrcsysarchamd64compilegeneric amd64 '
    config_args='-des -Dprefix=/home/cpan/bin/perl -Dscriptdir=/home/cpan/bin/perl/bin -Dusedevel -Duse64bitall -Duseithreads'
    hint=recommended
    useposix=true
    d_sigaction=define
    useithreads=define
    usemultiplicity=define
    use64bitint=define
    use64bitall=define
    uselongdouble=undef
    usemymalloc=n
    default_inc_excludes_dot=define
  Compiler:
    cc='cc'
    ccflags ='-fwrapv -fno-strict-aliasing -pipe -fstack-protector-strong -I/usr/pkg/include -D_FORTIFY_SOURCE=2'
    optimize='-O'
    cppflags='-fwrapv -fno-strict-aliasing -pipe -fstack-protector-strong -I/usr/pkg/include'
    ccversion=''
    gccversion='5.5.0'
    gccosandvers=''
    intsize=4
    longsize=8
    ptrsize=8
    doublesize=8
    byteorder=12345678
    doublekind=3
    d_longlong=define
    longlongsize=8
    d_longdbl=define
    longdblsize=16
    longdblkind=3
    ivtype='long'
    ivsize=8
    nvtype='double'
    nvsize=8
    Off_t='off_t'
    lseeksize=8
    alignbytes=8
    prototype=define
  Linker and Libraries:
    ld='cc'
    ldflags =' -Wl,-rpath,/usr/pkg/lib -Wl,-rpath,/usr/local/lib -fstack-protector-strong -L/usr/pkg/lib'
    libpth=/usr/lib /usr/pkg/lib /lib
    libs=-lpthread -lm -lcrypt -lutil -lc -lposix
    perllibs=-lpthread -lm -lcrypt -lutil -lc -lposix
    libc=/lib/libc.so
    so=so
    useshrplib=false
    libperl=libperl.a
    gnulibc_version=''
  Dynamic Linking:
    dlsrc=dl_dlopen.xs
    dlext=so
    d_dlsymun=undef
    ccdlflags='-Wl,-E '
    cccdlflags='-DPIC -fPIC '
    lddlflags='-shared  -L/usr/pkg/lib -fstack-protector-strong'


Characteristics of this binary (from libperl): 
  Compile-time options:
    HAS_LONG_DOUBLE
    HAS_STRTOLD
    HAS_TIMES
    MULTIPLICITY
    PERLIO_LAYERS
    PERL_COPY_ON_WRITE
    PERL_DONT_CREATE_GVSV
    PERL_HASH_FUNC_SIPHASH13
    PERL_HASH_USE_SBOX32
    PERL_MALLOC_WRAP
    PERL_OP_PARENT
    PERL_PRESERVE_IVUV
    PERL_USE_DEVEL
    PERL_USE_SAFE_PUTENV
    USE_64_BIT_ALL
    USE_64_BIT_INT
    USE_ITHREADS
    USE_LARGE_FILES
    USE_LOCALE
    USE_LOCALE_COLLATE
    USE_LOCALE_CTYPE
    USE_LOCALE_NUMERIC
    USE_LOCALE_TIME
    USE_PERLIO
    USE_PERL_ATOF
    USE_REENTRANT_API
  Locally applied patches:
    RC2
  Built under netbsd
  Compiled at Jun 28 2023 14:54:51
  %ENV:
    PERL5LIB=""
    PERL5OPT=""
    PERL5_CPANPLUS_IS_RUNNING="10322"
    PERL5_CPAN_IS_RUNNING="10322"
    PERL_MM_USE_DEFAULT="1"
    PERL_USE_UNSAFE_INC="1"
  @INC:
    /home/cpan/bin/perl/lib/site_perl/5.38.0/amd64-netbsd-thread-multi
    /home/cpan/bin/perl/lib/site_perl/5.38.0
    /home/cpan/bin/perl/lib/5.38.0/amd64-netbsd-thread-multi
    /home/cpan/bin/perl/lib/5.38.0
    .