Back
From: metabase:user:30977d10-2aae-11df-837a-5e0a49663a4f
Subject: PASS Data-FormValidator-4.81 v5.25.7 GNU/Linux
Date: 2017-02-23T05:50:43Z
This distribution has been tested as part of the CPAN Testers
project, supporting the Perl programming language. See
http://wiki.cpantesters.org/ for more information or email
questions to cpan-testers-discuss@perl.org
--
Dear Mark Stosberg,
This is a computer-generated report for Data-FormValidator-4.81
on perl 5.25.7, created by CPAN-Reporter-1.2018.
Thank you for uploading your work to CPAN. Congratulations!
All tests were successful.
Sections of this report:
* Tester comments
* Program output
* Prerequisites
* Environment and other context
------------------------------
TESTER COMMENTS
------------------------------
Additional comments from tester:
this report is from an automated smoke testing program
and was not reviewed by a human for accuracy
------------------------------
PROGRAM OUTPUT
------------------------------
Output from './Build test':
t/00_base.t .............................. ok
t/02_code_ref.t .......................... ok
CGI::param called in list context from /home/stro/cpan/build/5.25.7t/build/Data-FormValidator-4.81-0/blib/lib/Data/FormValidator/Results.pm line 1074, this can lead to vulnerabilities. See the warning in "Fetching the value or values of a single named parameter" at /home/stro/perl/5.25.7t/lib/site_perl/5.25.7/CGI.pm line 412.
t/03_dependency.t ........................ ok
t/04_arrayify_undef.t .................... ok
t/05_valid_ip_address.t .................. ok
t/06_regexp_map.t ........................ ok
t/09_require_some.t ...................... ok
t/11_procedural_match.t .................. ok
t/13_validator_packages.t ................ ok
t/15_literal_param_constraints.t ......... ok
CGI::param called in list context from /home/stro/cpan/build/5.25.7t/build/Data-FormValidator-4.81-0/blib/lib/Data/FormValidator/Results.pm line 1074, this can lead to vulnerabilities. See the warning in "Fetching the value or values of a single named parameter" at /home/stro/perl/5.25.7t/lib/site_perl/5.25.7/CGI.pm line 412.
t/16_cgi_object.t ........................ ok
t/17_multi_valued_keys.t ................. ok
t/18_constraint_refs.t ................... ok
t/19_refs_as_values.t .................... ok
t/20_careful_exception_handling.t ........ ok
t/21_multiple_fields.t ................... ok
t/25_results.t ........................... ok
t/26_qr.t ................................ ok
t/27_qualify_ref_happy_death.t ........... ok
t/28_defaults_for_new.t .................. ok
t/30_filter_definedness.t ................ ok
t/FV_length.t ............................ ok
t/any_errors.t ........................... ok
t/check_profile_syntax.t ................. ok
t/closure_msgs.t ......................... ok
t/constraint_method.t .................... ok
t/constraint_method_string.t ............. ok
t/constraint_method_zero.t ............... ok
t/constraint_regexp_map_profile_reuse.t .. ok
t/constraints_builtin.t .................. ok
t/constraints_builtin_closure.t .......... ok
t/constraints_factory.t .................. ok
t/constraints_invalid_once_only.t ........ ok
t/constraints_num_values.t ............... ok
t/constraints_regexp_map_interaction.t ... ok
t/constraints_reuse.t .................... ok
t/credit_card.t .......................... ok
t/dates.t ................................ ok
t/dates_closure.t ........................ ok
t/dependency_coderef.t ................... ok
CGI::param called in list context from /home/stro/cpan/build/5.25.7t/build/Data-FormValidator-4.81-0/blib/lib/Data/FormValidator/Results.pm line 1074, this can lead to vulnerabilities. See the warning in "Fetching the value or values of a single named parameter" at /home/stro/perl/5.25.7t/lib/site_perl/5.25.7/CGI.pm line 412.
t/dependency_groups.t .................... ok
t/filter_constraints.t ................... ok
t/filters_builtin.t ...................... ok
t/filters_shouldnt_modify.t .............. ok
t/get_filtered_data.t .................... ok
CGI::param called in list context from /home/stro/cpan/build/5.25.7t/build/Data-FormValidator-4.81-0/blib/lib/Data/FormValidator/Results.pm line 1074, this can lead to vulnerabilities. See the warning in "Fetching the value or values of a single named parameter" at /home/stro/perl/5.25.7t/lib/site_perl/5.25.7/CGI.pm line 412.
t/get_input_data.t ....................... ok
CGI::param called in list context from /home/stro/cpan/build/5.25.7t/build/Data-FormValidator-4.81-0/blib/lib/Data/FormValidator/Results.pm line 1074, this can lead to vulnerabilities. See the warning in "Fetching the value or values of a single named parameter" at /home/stro/perl/5.25.7t/lib/site_perl/5.25.7/CGI.pm line 412.
t/missing_optional.t ..................... ok
t/msgs.t ................................. ok
t/multiple_constraints.t ................. ok
CGI::param called in list context from /home/stro/cpan/build/5.25.7t/build/Data-FormValidator-4.81-0/blib/lib/Data/FormValidator/Results.pm line 1074, this can lead to vulnerabilities. See the warning in "Fetching the value or values of a single named parameter" at /home/stro/perl/5.25.7t/lib/site_perl/5.25.7/CGI.pm line 412.
t/params_not_mentioned.t ................. ok
t/pod.t .................................. ok
t/procedural_valid.t ..................... ok
t/profile_checking.t ..................... ok
t/regexp_common.t ........................ ok
t/regexp_common_closure.t ................ ok
t/rename_builtin_constraints.t ........... ok
t/results_success.t ...................... ok
t/simple.t ............................... ok
t/tt_and_overload.t ...................... ok
t/undefined_arrayref.t ................... ok
t/unknown.t .............................. ok
t/untaint.t .............................. ok
# Adding CGI::Simple tests
# testing with CGI.pm version: 4.35
# testing with CGI::Simple version: 1.115
# Running tests with CGI
CGI::param called in list context from /home/stro/cpan/build/5.25.7t/build/Data-FormValidator-4.81-0/blib/lib/Data/FormValidator/Results.pm line 1074, this can lead to vulnerabilities. See the warning in "Fetching the value or values of a single named parameter" at /home/stro/perl/5.25.7t/lib/site_perl/5.25.7/CGI.pm line 412.
# Running tests with CGI::Simple
t/upload.t ............................... ok
# testing with CGI.pm version: 4.35
CGI::param called in list context from /home/stro/cpan/build/5.25.7t/build/Data-FormValidator-4.81-0/blib/lib/Data/FormValidator/Results.pm line 1074, this can lead to vulnerabilities. See the warning in "Fetching the value or values of a single named parameter" at /home/stro/perl/5.25.7t/lib/site_perl/5.25.7/CGI.pm line 412.
t/upload_closure.t ....................... ok
t/upload_mime_types.t .................... ok
All tests successful.
Files=65, Tests=631, 8 wallclock secs ( 0.19 usr 0.07 sys + 5.05 cusr 0.43 csys = 5.74 CPU)
Result: PASS
------------------------------
PREREQUISITES
------------------------------
Prerequisite modules loaded:
requires:
Module Need Have
--------------- ----- ----------
Date::Calc 5 6.4
Email::Valid 0 1.202
File::MMagic 1.17 1.30
Image::Size 0 3.300
MIME::Types 1.005 2.13
overload 0 1.27
perl 5.008 5.025007
Perl6::Junction 1.1 1.60000
Regexp::Common 0 2016060801
Scalar::Util 0 1.47
Test::More 0 1.302075
build_requires:
Module Need Have
--------------- ----- ----------
CGI 3.48 4.35
configure_requires:
Module Need Have
--------------- ----- ----------
Module::Build 0.38 0.4220
------------------------------
ENVIRONMENT AND OTHER CONTEXT
------------------------------
Environment variables:
AUTOMATED_TESTING = 1
LANG = en_US.UTF-8
PATH = /usr/local/bin:/usr/bin:/bin:/usr/local/games:/usr/games
PERL5LIB =
PERL5OPT =
PERL5_CPANPLUS_IS_RUNNING = 1670
PERL5_CPAN_IS_RUNNING = 1670
PERL5_CPAN_IS_RUNNING_IN_RECURSION = 18445,1670
PERL_CR_SMOKER_CURRENT = Params-Profile-0.12
PERL_EXTUTILS_AUTOINSTALL = --defaultdeps
PERL_MM_USE_DEFAULT = 1
SHELL = /bin/bash
TERM = xterm
Perl special variables (and OS-specific diagnostics, for MSWin32):
$^X = /home/stro/perl/5.25.7t/bin/perl
$UID/$EUID = 1000 / 1000
$GID = 1000 24 25 29 30 44 46 108 114 1000
$EGID = 1000 24 25 29 30 44 46 108 114 1000
Perl module toolchain versions installed:
Module Have
------------------- ----------
CPAN 2.16
CPAN::Meta 2.150010
Cwd 3.66
ExtUtils::CBuilder 0.280225
ExtUtils::Command 7.24
ExtUtils::Install 2.04
ExtUtils::MakeMaker 7.24
ExtUtils::Manifest 1.70
ExtUtils::ParseXS 3.33
File::Spec 3.66
JSON 2.90
JSON::PP 2.27400_02
Module::Build 0.4220
Module::Signature 0.81
Parse::CPAN::Meta 2.150010
Test::Harness 3.36_01
Test::More 1.302075
YAML 1.23
YAML::Syck 1.29
version 0.9917
--
Summary of my perl5 (revision 5 version 25 subversion 7) configuration:
Platform:
osname=linux
osvers=3.16.0-4-amd64
archname=x86_64-linux-thread-multi
uname='linux vm-debian-001 3.16.0-4-amd64 #1 smp debian 3.16.7-ckt11-1 (2015-05-24) x86_64 gnulinux '
config_args=''
hint=recommended
useposix=true
d_sigaction=define
useithreads=define
usemultiplicity=define
use64bitint=define
use64bitall=define
uselongdouble=undef
usemymalloc=n
bincompat5005=undef
Compiler:
cc='cc'
ccflags ='-D_REENTRANT -D_GNU_SOURCE -fwrapv -fno-strict-aliasing -pipe -fstack-protector-strong -I/usr/local/include -D_LARGEFILE_SOURCE -D_FILE_OFFSET_BITS=64 -D_FORTIFY_SOURCE=2'
optimize='-O2'
cppflags='-D_REENTRANT -D_GNU_SOURCE -fwrapv -fno-strict-aliasing -pipe -fstack-protector-strong -I/usr/local/include'
ccversion=''
gccversion='4.9.2'
gccosandvers=''
intsize=4
longsize=8
ptrsize=8
doublesize=8
byteorder=12345678
doublekind=3
d_longlong=define
longlongsize=8
d_longdbl=define
longdblsize=16
longdblkind=3
ivtype='long'
ivsize=8
nvtype='double'
nvsize=8
Off_t='off_t'
lseeksize=8
alignbytes=8
prototype=define
Linker and Libraries:
ld='cc'
ldflags =' -fstack-protector-strong -L/usr/local/lib'
libpth=/usr/local/lib /usr/lib/gcc/x86_64-linux-gnu/4.9/include-fixed /usr/include/x86_64-linux-gnu /usr/lib /lib/x86_64-linux-gnu /lib/../lib /usr/lib/x86_64-linux-gnu /usr/lib/../lib /lib
libs=-lpthread -lnsl -ldl -lm -lcrypt -lutil -lc
perllibs=-lpthread -lnsl -ldl -lm -lcrypt -lutil -lc
libc=libc-2.19.so
so=so
useshrplib=false
libperl=libperl.a
gnulibc_version='2.19'
Dynamic Linking:
dlsrc=dl_dlopen.xs
dlext=so
d_dlsymun=undef
ccdlflags='-Wl,-E'
cccdlflags='-fPIC'
lddlflags='-shared -O2 -L/usr/local/lib -fstack-protector-strong'
Characteristics of this binary (from libperl):
Compile-time options:
HAS_TIMES
MULTIPLICITY
PERLIO_LAYERS
PERL_COPY_ON_WRITE
PERL_DONT_CREATE_GVSV
PERL_HASH_FUNC_ONE_AT_A_TIME_HARD
PERL_IMPLICIT_CONTEXT
PERL_MALLOC_WRAP
PERL_OP_PARENT
PERL_PRESERVE_IVUV
USE_64_BIT_ALL
USE_64_BIT_INT
USE_ITHREADS
USE_LARGE_FILES
USE_LOCALE
USE_LOCALE_COLLATE
USE_LOCALE_CTYPE
USE_LOCALE_NUMERIC
USE_LOCALE_TIME
USE_PERLIO
USE_PERL_ATOF
USE_REENTRANT_API
Built under linux
Compiled at Nov 23 2016 11:17:04
%ENV:
PERL5LIB=""
PERL5OPT=""
PERL5_CPANPLUS_IS_RUNNING="1670"
PERL5_CPAN_IS_RUNNING="1670"
PERL5_CPAN_IS_RUNNING_IN_RECURSION="18445,1670"
PERL_CR_SMOKER_CURRENT="Params-Profile-0.12"
PERL_EXTUTILS_AUTOINSTALL="--defaultdeps"
PERL_MM_USE_DEFAULT="1"
@INC:
/home/stro/perl/5.25.7t/lib/site_perl/5.25.7/x86_64-linux-thread-multi
/home/stro/perl/5.25.7t/lib/site_perl/5.25.7
/home/stro/perl/5.25.7t/lib/5.25.7/x86_64-linux-thread-multi
/home/stro/perl/5.25.7t/lib/5.25.7
.