Report for Plucene-1.25

Back
From: metabase:user:314402c4-2aae-11df-837a-5e0a49663a4f
Subject: PASS Plucene-1.25 v5.27.1 GNU/Linux
Date: 2017-07-12T20:52:28Z

This distribution has been tested as part of the CPAN Testers
project, supporting the Perl programming language.  See
http://wiki.cpantesters.org/ for more information or email
questions to cpan-testers-discuss@perl.org


--
Dear Tony Bowden,

This is a computer-generated report for Plucene-1.25
on perl 5.27.1, created by CPAN-Reporter-1.2018.

Thank you for uploading your work to CPAN.  Congratulations!
All tests were successful.

Sections of this report:

    * Tester comments
    * Program output
    * Prerequisites
    * Environment and other context

------------------------------
TESTER COMMENTS
------------------------------

Additional comments from tester:

none provided

------------------------------
PROGRAM OUTPUT
------------------------------

Output from './Build test':

t/98_pod_coverage.t .. ok
t/99_pod.t ........... skipped: Test::Pod 1.00+ required for testing POD
t/analyzers.t ........ ok
t/datesearch.t ....... ok
t/dateserializer.t ... ok
t/deletable.t ........ ok
t/delete.t ........... ok
t/indexsearcher.t .... ok
t/mergefactor.t ...... ok
t/queryparser.t ...... ok
t/regress-01.t ....... ok
t/regress-02.t ....... ok
t/regress-04.t ....... ok
t/search_hits.t ...... ok
t/searchtest.t ....... ok
t/segments.t ......... ok
t/similarity.t ....... ok
t/sloppy_scorer.t .... ok
# Indexing the entire Odyssey. This may take some time
# t/data/book1
# t/data/book10
# t/data/book11
# t/data/book12
# t/data/book13
# t/data/book14
# t/data/book15
# t/data/book16
# t/data/book17
# t/data/book18
# t/data/book19
# t/data/book2
# t/data/book20
# t/data/book21
# t/data/book22
# t/data/book23
# t/data/book24
# t/data/book3
# t/data/book4
# t/data/book5
# t/data/book6
# t/data/book7
# t/data/book8
# t/data/book9
# t/data/preface
# Closing
t/stress.t ........... ok
t/terminfostest.t .... ok
t/testbitvector.t .... ok
t/testindexwriter.t .. ok
t/tokenfilter.t ...... ok
t/tokenizer.t ........ ok
t/utf8.t ............. ok
All tests successful.
Files=25, Tests=6031,  7 wallclock secs ( 0.35 usr  0.24 sys +  6.22 cusr  0.72 csys =  7.53 CPU)
Result: PASS

------------------------------
PREREQUISITES
------------------------------

Prerequisite modules loaded:

requires:

    Module                Need      Have   
    --------------------- --------- -------
    Bit::Vector::Minimal  1.0       1.3    
    Carp                  0         1.42   
    Class::Accessor       0.18      0.34   
    Class::Accessor::Fast 0.02      0.34   
    Class::Virtual        0.03      0.08   
    Encode                0         2.90   
    File::Spec::Functions 1.1       3.67   
    IO::File              1.08      1.16   
    IO::Handle            1.21_00   1.36   
    IO::Scalar            2.104     2.111  
    Lingua::Stem::En      2.12      2.16   
    List::Util            1.13      1.48   
    Memoize               1.01      1.03_01
    Tie::Array::Sorted    1.1       1.41   
    Time::Piece           1.08      1.3201 

build_requires:

    Module                Need      Have   
    --------------------- --------- -------
    File::Slurp           2002.1031 9999.19
    Test::Harness         2.30      3.39   


------------------------------
ENVIRONMENT AND OTHER CONTEXT
------------------------------

Environment variables:

    LANG = C
    PATH = /usr/local/bin:/usr/bin:/bin:/usr/local/sbin:/usr/sbin:/sbin:/home/cpansand/bin/linux-gnu:/home/cpansand/bin/sh:/home/cpansand/bin:/usr/games:/home/cpansand/devel:/home/eserte/src/srezic-misc/scripts
    PERL5LIB = /home/cpansand/.cpan/build/2017071218/Tie-Array-Sorted-1.41-0/blib/arch:/home/cpansand/.cpan/build/2017071218/Tie-Array-Sorted-1.41-0/blib/lib:/home/cpansand/.cpan/build/2017071218/Bit-Vector-Minimal-1.3-0/blib/arch:/home/cpansand/.cpan/build/2017071218/Bit-Vector-Minimal-1.3-0/blib/lib
    PERL5OPT = -MDevel::Hide
    PERL5_CPANPLUS_IS_RUNNING = 17528
    PERL5_CPAN_IS_RUNNING = 17528
    PERL5_CPAN_IS_RUNNING_IN_RECURSION = 17513,17528
    PERLDOC = -MPod::Perldoc::ToTextOverstrike
    PERL_BATCH = yes
    PERL_CANARY_STABILITY_NOPROMPT = 1
    PERL_CPAN_REPORTER_CONFIG = /var/tmp/cpansmoker-1023/2017071218/cpanreporter_001_config.ini
    PERL_EXTUTILS_AUTOINSTALL = --defaultdeps
    PERL_USE_UNSAFE_INC = 1
    SHELL = /usr/bin/zsh
    TERM = screen
    TMPDIR = /var/tmp/cpansmoker-1023/2017071218

Perl special variables (and OS-specific diagnostics, for MSWin32):

    $^X = /opt/perl-5.27.1/bin/perl5.27.1
    $UID/$EUID = 1023 / 1023
    $GID = 1023 1023
    $EGID = 1023 1023

Perl module toolchain versions installed:

    Module              Have    
    ------------------- --------
    CPAN                2.18    
    CPAN::Meta          2.150010
    Cwd                 3.67    
    ExtUtils::CBuilder  0.280225
    ExtUtils::Command   7.30    
    ExtUtils::Install   2.14    
    ExtUtils::MakeMaker 7.30    
    ExtUtils::Manifest  1.70    
    ExtUtils::ParseXS   3.34    
    File::Spec          3.67    
    JSON                2.94    
    JSON::PP            2.94    
    Module::Build       0.4224  
    Module::Signature   0.81    
    Parse::CPAN::Meta   2.150010
    Test::Harness       3.39    
    Test::More          1.302086
    YAML                1.23    
    YAML::Syck          1.30    
    version             0.9918  


--

Summary of my perl5 (revision 5 version 27 subversion 1) configuration:
   
  Platform:
    osname=linux
    osvers=4.9.0-3-amd64
    archname=x86_64-linux
    uname='linux debian9 4.9.0-3-amd64 #1 smp debian 4.9.30-2+deb9u1 (2017-06-18) x86_64 gnulinux '
    config_args='-ds -e -Dprefix=/opt/perl-5.27.1 -Dusedevel -Dusemallocwrap=no -Dcf_email=srezic@cpan.org'
    hint=recommended
    useposix=true
    d_sigaction=define
    useithreads=undef
    usemultiplicity=undef
    use64bitint=define
    use64bitall=define
    uselongdouble=undef
    usemymalloc=n
    default_inc_excludes_dot=define
    bincompat5005=undef
  Compiler:
    cc='cc'
    ccflags ='-fwrapv -fno-strict-aliasing -pipe -fstack-protector-strong -I/usr/local/include -D_LARGEFILE_SOURCE -D_FILE_OFFSET_BITS=64'
    optimize='-O2'
    cppflags='-fwrapv -fno-strict-aliasing -pipe -fstack-protector-strong -I/usr/local/include'
    ccversion=''
    gccversion='6.3.0 20170516'
    gccosandvers=''
    intsize=4
    longsize=8
    ptrsize=8
    doublesize=8
    byteorder=12345678
    doublekind=3
    d_longlong=define
    longlongsize=8
    d_longdbl=define
    longdblsize=16
    longdblkind=3
    ivtype='long'
    ivsize=8
    nvtype='double'
    nvsize=8
    Off_t='off_t'
    lseeksize=8
    alignbytes=8
    prototype=define
  Linker and Libraries:
    ld='cc'
    ldflags =' -fstack-protector-strong -L/usr/local/lib'
    libpth=/usr/local/lib /usr/lib/gcc/x86_64-linux-gnu/6/include-fixed /usr/include/x86_64-linux-gnu /usr/lib /lib/x86_64-linux-gnu /lib/../lib /usr/lib/x86_64-linux-gnu /usr/lib/../lib /lib
    libs=-lpthread -lnsl -lgdbm -ldb -ldl -lm -lcrypt -lutil -lc -lgdbm_compat
    perllibs=-lpthread -lnsl -ldl -lm -lcrypt -lutil -lc
    libc=libc-2.24.so
    so=so
    useshrplib=false
    libperl=libperl.a
    gnulibc_version='2.24'
  Dynamic Linking:
    dlsrc=dl_dlopen.xs
    dlext=so
    d_dlsymun=undef
    ccdlflags='-Wl,-E'
    cccdlflags='-fPIC'
    lddlflags='-shared -O2 -L/usr/local/lib -fstack-protector-strong'


Characteristics of this binary (from libperl): 
  Compile-time options:
    HAS_TIMES
    PERLIO_LAYERS
    PERL_COPY_ON_WRITE
    PERL_DONT_CREATE_GVSV
    PERL_OP_PARENT
    PERL_PRESERVE_IVUV
    PERL_USE_DEVEL
    USE_64_BIT_ALL
    USE_64_BIT_INT
    USE_LARGE_FILES
    USE_LOCALE
    USE_LOCALE_COLLATE
    USE_LOCALE_CTYPE
    USE_LOCALE_NUMERIC
    USE_LOCALE_TIME
    USE_PERLIO
    USE_PERL_ATOF
  Built under linux
  Compiled at Jun 20 2017 18:45:25
  %ENV:
    PERL5LIB="/home/cpansand/.cpan/build/2017071218/Tie-Array-Sorted-1.41-0/blib/arch:/home/cpansand/.cpan/build/2017071218/Tie-Array-Sorted-1.41-0/blib/lib:/home/cpansand/.cpan/build/2017071218/Bit-Vector-Minimal-1.3-0/blib/arch:/home/cpansand/.cpan/build/2017071218/Bit-Vector-Minimal-1.3-0/blib/lib"
    PERL5OPT="-MDevel::Hide"
    PERL5_CPANPLUS_IS_RUNNING="17528"
    PERL5_CPAN_IS_RUNNING="17528"
    PERL5_CPAN_IS_RUNNING_IN_RECURSION="17513,17528"
    PERLDOC="-MPod::Perldoc::ToTextOverstrike"
    PERL_BATCH="yes"
    PERL_CANARY_STABILITY_NOPROMPT="1"
    PERL_CPAN_REPORTER_CONFIG="/var/tmp/cpansmoker-1023/2017071218/cpanreporter_001_config.ini"
    PERL_EXTUTILS_AUTOINSTALL="--defaultdeps"
    PERL_USE_UNSAFE_INC="1"
  @INC:
    CODE(0x5582421415e8)
    /home/cpansand/.cpan/build/2017071218/Tie-Array-Sorted-1.41-0/blib/arch
    /home/cpansand/.cpan/build/2017071218/Tie-Array-Sorted-1.41-0/blib/lib
    /home/cpansand/.cpan/build/2017071218/Bit-Vector-Minimal-1.3-0/blib/arch
    /home/cpansand/.cpan/build/2017071218/Bit-Vector-Minimal-1.3-0/blib/lib
    /opt/perl-5.27.1/lib/site_perl/5.27.1/x86_64-linux
    /opt/perl-5.27.1/lib/site_perl/5.27.1
    /opt/perl-5.27.1/lib/5.27.1/x86_64-linux
    /opt/perl-5.27.1/lib/5.27.1
    .