Scalar-Does v0.203 Perl 5 v5.26.0 arm-freebsd
- Status
- Pass
- From
- Nigel Horne
- Dist
-
Scalar-Does v0.203
- Platform
- Perl 5 v5.26.0 arm-freebsd
- Date
- 2018-07-12 23:33:44
- ID
- 042b7762-862c-11e8-8fb1-ef5133556b3f
This distribution has been tested as part of the CPAN Testers
project, supporting the Perl programming language. See
http://wiki.cpantesters.org/ for more information or email
questions to cpan-testers-discuss@perl.org
--
Dear Toby Inkster,
This is a computer-generated report for Scalar-Does-0.203
on perl 5.26.0, created by CPAN-Reporter-1.2018.
Thank you for uploading your work to CPAN. Congratulations!
All tests were successful.
Sections of this report:
* Tester comments
* Program output
* Prerequisites
* Environment and other context
------------------------------
TESTER COMMENTS
------------------------------
Additional comments from tester:
this report is from an automated smoke testing program
and was not reviewed by a human for accuracy
------------------------------
PROGRAM OUTPUT
------------------------------
Output from '/usr/bin/make test':
PERL_DL_NONLAZY=1 "/mnt/nas/home/pi2b/njh/perl5/perlbrew/perls/perl-5.26.0/bin/perl" "-MExtUtils::Command::MM" "-MTest::Harness" "-e" "undef *Test::Harness::Switches; test_harness(0, 'blib/lib', 'blib/arch')" t/*.t
t/01basic.t ............ ok
t/04cleanliness.t ...... ok
t/02does.t ............. ok
t/05custom.t ........... ok
t/07makerole.t ......... ok
t/03moosey.t ........... skipped: Test requires module 'MooseX::Types::Moose' but it's not found
t/06constants.t ........ ok
t/10underscore.t ....... skipped: skipping lexical $_ test in Perl >= 5.17
t/08mooselike.t ........ ok
t/11givenwhen.t ........ skipped: skipping given/when test in Perl >= 5.17
t/09warnings.t ......... ok
t/iod-01basic.t ........ ok
t/iod-03filenames.t .... ok
t/iod-02filehandles.t .. skipped: only works on Linux
t/iod-04fileuris.t ..... ok
t/iod-11ioall.t ........ skipped: Test requires module 'IO::All' but it's not found
t/iod-05ducktype.t ..... ok
t/iod-06asfh.t ......... ok
t/iod-12pathclass.t .... skipped: Test requires module 'Path::Class' but it's not found
t/iod-13pathtiny.t ..... ok
All tests successful.
Files=20, Tests=223, 14 wallclock secs ( 0.91 usr 0.39 sys + 32.17 cusr 13.39 csys = 46.87 CPU)
Result: PASS
------------------------------
PREREQUISITES
------------------------------
Prerequisite modules loaded:
requires:
Module Need Have
------------------- ----- --------
Exporter::Tiny 0.026 1.000000
lexical::underscore 0 0.004
namespace::clean 0.19 0.27
perl 5.008 5.026000
Scalar::Util 1.24 1.46_02
Type::Tiny 0.004 1.002002
URI::file 0 4.21
build_requires:
Module Need Have
------------------- ----- --------
Test::More 0.96 1.302136
Test::NoWarnings 0 1.04
Test::Requires 0.06 0.10
URI 0 1.74
configure_requires:
Module Need Have
------------------- ----- --------
ExtUtils::MakeMaker 6.17 7.24
------------------------------
ENVIRONMENT AND OTHER CONTEXT
------------------------------
Environment variables:
AUTOMATED_TESTING = 1
HARNESS_OPTIONS = j4
PATH = /home/njh/perl5/perlbrew/bin:/home/njh/perl5/perlbrew/perls/perl-5.26.0/bin:/usr/local/bin:/bin:/usr/bin:src/njh/smoker/bin
PERL5LIB = /var/tmp/build/lexical-underscore-0.004-0/blib/arch:/var/tmp/build/lexical-underscore-0.004-0/blib/lib:/var/tmp/build/Type-Tiny-1.002002-0/blib/arch:/var/tmp/build/Type-Tiny-1.002002-0/blib/lib:/var/tmp/build/Date-Calc-6.4-0/blib/arch:/var/tmp/build/Date-Calc-6.4-0/blib/lib:/var/tmp/build/Bit-Vector-7.4-0/blib/arch:/var/tmp/build/Bit-Vector-7.4-0/blib/lib:/var/tmp/build/Carp-Clan-6.06-0/blib/arch:/var/tmp/build/Carp-Clan-6.06-0/blib/lib
PERL5OPT =
PERL5_CPANPLUS_IS_RUNNING = 44480
PERL5_CPAN_IS_RUNNING = 44480
PERLBREW_BASHRC_VERSION = 0.80
PERLBREW_HOME = /home/njh/.perlbrew
PERLBREW_MANPATH = /home/njh/perl5/perlbrew/perls/perl-5.26.0/man
PERLBREW_PATH = /home/njh/perl5/perlbrew/bin:/home/njh/perl5/perlbrew/perls/perl-5.26.0/bin
PERLBREW_PERL = perl-5.26.0
PERLBREW_ROOT = /home/njh/perl5/perlbrew
PERLBREW_VERSION = 0.80
PERL_USE_UNSAFE_INC = 1
SHELL = /bin/sh
TMPDIR = /tmp/testwrapper.44469
Perl special variables (and OS-specific diagnostics, for MSWin32):
$^X = /mnt/nas/home/pi2b/njh/perl5/perlbrew/perls/perl-5.26.0/bin/perl
$UID/$EUID = 1000 / 1000
$GID = 1000 1000 0
$EGID = 1000 1000 0
Perl module toolchain versions installed:
Module Have
------------------- ----------
CPAN 2.18
CPAN::Meta 2.150010
Cwd 3.67
ExtUtils::CBuilder 0.280225
ExtUtils::Command 7.24
ExtUtils::Install 2.04
ExtUtils::MakeMaker 7.24
ExtUtils::Manifest 1.70
ExtUtils::ParseXS 3.34
File::Spec 3.67
JSON 2.97001
JSON::PP 2.27400_02
Module::Build 0.4224
Module::Signature n/a
Parse::CPAN::Meta 2.150010
Test::Harness 3.38
Test::More 1.302136
YAML 1.26
YAML::Syck 1.30
version 0.9917
--
Summary of my perl5 (revision 5 version 26 subversion 0) configuration:
Platform:
osname=freebsd
osvers=11.1-stable
archname=arm-freebsd
uname='freebsd pi2b.bandsman.co.uk 11.1-stable freebsd 11.1-stable #0 r330605: wed mar 7 18:50:15 utc 2018 root@releng2.nyi.freebsd.org:usrobjarm.armv6usrsrcsysrpi2 arm '
config_args='-des -Ud_flock'
hint=previous
useposix=true
d_sigaction=define
useithreads=undef
usemultiplicity=undef
use64bitint=undef
use64bitall=undef
uselongdouble=undef
usemymalloc=n
default_inc_excludes_dot=define
bincompat5005=undef
Compiler:
cc='cc'
ccflags ='-DHAS_FPSETMASK -DHAS_FLOATINGPOINT_H -fno-strict-aliasing -pipe -fstack-protector-strong -I/usr/local/include -D_FORTIFY_SOURCE=2'
optimize='-O'
cppflags='-DHAS_FPSETMASK -DHAS_FLOATINGPOINT_H -fno-strict-aliasing -pipe -fstack-protector-strong -I/usr/local/include'
ccversion=''
gccversion='4.2.1 Compatible FreeBSD Clang 5.0.1 (tags/RELEASE_501/final 320880)'
gccosandvers=''
intsize=4
longsize=4
ptrsize=4
doublesize=8
byteorder=1234
doublekind=3
d_longlong=define
longlongsize=8
d_longdbl=define
longdblsize=8
longdblkind=0
ivtype='long'
ivsize=4
nvtype='double'
nvsize=8
Off_t='off_t'
lseeksize=8
alignbytes=8
prototype=define
Linker and Libraries:
ld='cc'
ldflags ='-Wl,-E -fstack-protector-strong -L/usr/local/lib'
libpth=/usr/lib /usr/local/lib /usr/lib/clang/5.0.1/lib /usr/lib /usr/lib/clang/5.0.1/lib /usr/lib /usr/lib/clang/5.0.1/lib /usr/lib /usr/lib/clang/5.0.1/lib /usr/lib
libs=-lpthread -lm -lcrypt -lutil -lc
perllibs=-lpthread -lm -lcrypt -lutil -lc
libc=
so=so
useshrplib=false
libperl=libperl.a
gnulibc_version=''
Dynamic Linking:
dlsrc=dl_dlopen.xs
dlext=so
d_dlsymun=undef
ccdlflags=' '
cccdlflags='-DPIC -fPIC'
lddlflags='-shared -L/usr/local/lib -fstack-protector-strong'
Characteristics of this binary (from libperl):
Compile-time options:
HAS_TIMES
PERLIO_LAYERS
PERL_COPY_ON_WRITE
PERL_DONT_CREATE_GVSV
PERL_HASH_FUNC_ONE_AT_A_TIME_HARD
PERL_MALLOC_WRAP
PERL_OP_PARENT
PERL_PRESERVE_IVUV
USE_LARGE_FILES
USE_LOCALE
USE_LOCALE_COLLATE
USE_LOCALE_CTYPE
USE_LOCALE_NUMERIC
USE_LOCALE_TIME
USE_PERLIO
USE_PERL_ATOF
Locally applied patches:
Devel::PatchPerl 1.38
Built under freebsd
Compiled at May 27 2018 09:53:26
%ENV:
PERL5LIB="/var/tmp/build/lexical-underscore-0.004-0/blib/arch:/var/tmp/build/lexical-underscore-0.004-0/blib/lib:/var/tmp/build/Type-Tiny-1.002002-0/blib/arch:/var/tmp/build/Type-Tiny-1.002002-0/blib/lib:/var/tmp/build/Date-Calc-6.4-0/blib/arch:/var/tmp/build/Date-Calc-6.4-0/blib/lib:/var/tmp/build/Bit-Vector-7.4-0/blib/arch:/var/tmp/build/Bit-Vector-7.4-0/blib/lib:/var/tmp/build/Carp-Clan-6.06-0/blib/arch:/var/tmp/build/Carp-Clan-6.06-0/blib/lib"
PERL5OPT=""
PERL5_CPANPLUS_IS_RUNNING="44480"
PERL5_CPAN_IS_RUNNING="44480"
PERLBREW_BASHRC_VERSION="0.80"
PERLBREW_HOME="/home/njh/.perlbrew"
PERLBREW_MANPATH="/home/njh/perl5/perlbrew/perls/perl-5.26.0/man"
PERLBREW_PATH="/home/njh/perl5/perlbrew/bin:/home/njh/perl5/perlbrew/perls/perl-5.26.0/bin"
PERLBREW_PERL="perl-5.26.0"
PERLBREW_ROOT="/home/njh/perl5/perlbrew"
PERLBREW_VERSION="0.80"
PERL_USE_UNSAFE_INC="1"
@INC:
/var/tmp/build/lexical-underscore-0.004-0/blib/arch
/var/tmp/build/lexical-underscore-0.004-0/blib/lib
/var/tmp/build/Type-Tiny-1.002002-0/blib/arch
/var/tmp/build/Type-Tiny-1.002002-0/blib/lib
/var/tmp/build/Date-Calc-6.4-0/blib/arch
/var/tmp/build/Date-Calc-6.4-0/blib/lib
/var/tmp/build/Bit-Vector-7.4-0/blib/arch
/var/tmp/build/Bit-Vector-7.4-0/blib/lib
/var/tmp/build/Carp-Clan-6.06-0/blib/arch
/var/tmp/build/Carp-Clan-6.06-0/blib/lib
/home/njh/perl5/perlbrew/perls/perl-5.26.0/lib/site_perl/5.26.0/arm-freebsd
/home/njh/perl5/perlbrew/perls/perl-5.26.0/lib/site_perl/5.26.0
/home/njh/perl5/perlbrew/perls/perl-5.26.0/lib/5.26.0/arm-freebsd
/home/njh/perl5/perlbrew/perls/perl-5.26.0/lib/5.26.0
.