Report for XML-ExtOn-0.17

Back
From: metabase:user:449f9f13-6c00-1014-b632-1a0a632ea5e8
Subject: PASS XML-ExtOn-0.17 v5.14.2 GNU/Linux
Date: 2011-10-25T11:03:49Z

This distribution has been tested as part of the CPAN Testers
project, supporting the Perl programming language.  See
http://wiki.cpantesters.org/ for more information or email
questions to cpan-testers-discuss@perl.org


--
Dear Zahatski Aliaksandr,

This is a computer-generated report for XML-ExtOn-0.17
on perl 5.14.2, created by CPAN-Reporter-1.2002.

Thank you for uploading your work to CPAN.  Congratulations!
All tests were successful.

Sections of this report:

    * Tester comments
    * Program output
    * Prerequisites
    * Environment and other context

------------------------------
TESTER COMMENTS
------------------------------

Additional comments from tester:

this report is from an automated smoke testing program
and was not reviewed by a human for accuracy

------------------------------
PROGRAM OUTPUT
------------------------------

Output from './Build test':

t/008_TieAttrs.t .......... ok
t/009_Attributes.t ........ ok
t/009_Context.t ........... ok
t/010_Element.t ........... ok
Use of uninitialized value $uri in concatenation (.) or string at /home/perltest/.cpan/build/XML-Filter-SAX1toSAX2-0.03-FQ_McZ/blib/lib/XML/Filter/SAX1toSAX2.pm line 81.
Use of uninitialized value in substitution iterator at /home/perltest/.cpan/build/XML-SAX-Writer-0.53-jxAUm4/blib/lib/XML/SAX/Writer.pm line 152.
Use of uninitialized value in substitution iterator at /home/perltest/.cpan/build/XML-SAX-Writer-0.53-jxAUm4/blib/lib/XML/SAX/Writer.pm line 152.
Use of uninitialized value in substitution iterator at /home/perltest/.cpan/build/XML-SAX-Writer-0.53-jxAUm4/blib/lib/XML/SAX/Writer.pm line 152.
Use of uninitialized value in substitution iterator at /home/perltest/.cpan/build/XML-SAX-Writer-0.53-jxAUm4/blib/lib/XML/SAX/Writer.pm line 152.
Use of uninitialized value in substitution iterator at /home/perltest/.cpan/build/XML-SAX-Writer-0.53-jxAUm4/blib/lib/XML/SAX/Writer.pm line 152.
Use of uninitialized value in substitution iterator at /home/perltest/.cpan/build/XML-SAX-Writer-0.53-jxAUm4/blib/lib/XML/SAX/Writer.pm line 152.
Use of uninitialized value in substitution iterator at /home/perltest/.cpan/build/XML-SAX-Writer-0.53-jxAUm4/blib/lib/XML/SAX/Writer.pm line 152.
Use of uninitialized value in substitution iterator at /home/perltest/.cpan/build/XML-SAX-Writer-0.53-jxAUm4/blib/lib/XML/SAX/Writer.pm line 152.
Use of uninitialized value in substitution iterator at /home/perltest/.cpan/build/XML-SAX-Writer-0.53-jxAUm4/blib/lib/XML/SAX/Writer.pm line 152.
Use of uninitialized value in substitution iterator at /home/perltest/.cpan/build/XML-SAX-Writer-0.53-jxAUm4/blib/lib/XML/SAX/Writer.pm line 152.
Use of uninitialized value in substitution iterator at /home/perltest/.cpan/build/XML-SAX-Writer-0.53-jxAUm4/blib/lib/XML/SAX/Writer.pm line 152.
Use of uninitialized value in substitution iterator at /home/perltest/.cpan/build/XML-SAX-Writer-0.53-jxAUm4/blib/lib/XML/SAX/Writer.pm line 152.
Use of uninitialized value in substitution iterator at /home/perltest/.cpan/build/XML-SAX-Writer-0.53-jxAUm4/blib/lib/XML/SAX/Writer.pm line 152.
Use of uninitialized value in substitution iterator at /home/perltest/.cpan/build/XML-SAX-Writer-0.53-jxAUm4/blib/lib/XML/SAX/Writer.pm line 152.
Use of uninitialized value in substitution iterator at /home/perltest/.cpan/build/XML-SAX-Writer-0.53-jxAUm4/blib/lib/XML/SAX/Writer.pm line 152.
Use of uninitialized value in substitution iterator at /home/perltest/.cpan/build/XML-SAX-Writer-0.53-jxAUm4/blib/lib/XML/SAX/Writer.pm line 152.
Use of uninitialized value in substitution iterator at /home/perltest/.cpan/build/XML-SAX-Writer-0.53-jxAUm4/blib/lib/XML/SAX/Writer.pm line 152.
Use of uninitialized value in substitution iterator at /home/perltest/.cpan/build/XML-SAX-Writer-0.53-jxAUm4/blib/lib/XML/SAX/Writer.pm line 152.
Use of uninitialized value in substitution iterator at /home/perltest/.cpan/build/XML-SAX-Writer-0.53-jxAUm4/blib/lib/XML/SAX/Writer.pm line 152.
Use of uninitialized value in substitution iterator at /home/perltest/.cpan/build/XML-SAX-Writer-0.53-jxAUm4/blib/lib/XML/SAX/Writer.pm line 152.
Use of uninitialized value in substitution iterator at /home/perltest/.cpan/build/XML-SAX-Writer-0.53-jxAUm4/blib/lib/XML/SAX/Writer.pm line 152.
Use of uninitialized value in substitution iterator at /home/perltest/.cpan/build/XML-SAX-Writer-0.53-jxAUm4/blib/lib/XML/SAX/Writer.pm line 152.
Use of uninitialized value in substitution iterator at /home/perltest/.cpan/build/XML-SAX-Writer-0.53-jxAUm4/blib/lib/XML/SAX/Writer.pm line 152.
Use of uninitialized value in substitution iterator at /home/perltest/.cpan/build/XML-SAX-Writer-0.53-jxAUm4/blib/lib/XML/SAX/Writer.pm line 152.
Use of uninitialized value in substitution iterator at /home/perltest/.cpan/build/XML-SAX-Writer-0.53-jxAUm4/blib/lib/XML/SAX/Writer.pm line 152.
Use of uninitialized value in substitution iterator at /home/perltest/.cpan/build/XML-SAX-Writer-0.53-jxAUm4/blib/lib/XML/SAX/Writer.pm line 152.
Use of uninitialized value in substitution iterator at /home/perltest/.cpan/build/XML-SAX-Writer-0.53-jxAUm4/blib/lib/XML/SAX/Writer.pm line 152.
Use of uninitialized value in substitution iterator at /home/perltest/.cpan/build/XML-SAX-Writer-0.53-jxAUm4/blib/lib/XML/SAX/Writer.pm line 152.
Use of uninitialized value in substitution iterator at /home/perltest/.cpan/build/XML-SAX-Writer-0.53-jxAUm4/blib/lib/XML/SAX/Writer.pm line 152.
Use of uninitialized value in substitution iterator at /home/perltest/.cpan/build/XML-SAX-Writer-0.53-jxAUm4/blib/lib/XML/SAX/Writer.pm line 152.
Use of uninitialized value in substitution iterator at /home/perltest/.cpan/build/XML-SAX-Writer-0.53-jxAUm4/blib/lib/XML/SAX/Writer.pm line 152.
Use of uninitialized value in substitution iterator at /home/perltest/.cpan/build/XML-SAX-Writer-0.53-jxAUm4/blib/lib/XML/SAX/Writer.pm line 152.
Use of uninitialized value in substitution iterator at /home/perltest/.cpan/build/XML-SAX-Writer-0.53-jxAUm4/blib/lib/XML/SAX/Writer.pm line 152.
Use of uninitialized value in substitution iterator at /home/perltest/.cpan/build/XML-SAX-Writer-0.53-jxAUm4/blib/lib/XML/SAX/Writer.pm line 152.
Use of uninitialized value in substitution iterator at /home/perltest/.cpan/build/XML-SAX-Writer-0.53-jxAUm4/blib/lib/XML/SAX/Writer.pm line 152.
Use of uninitialized value in substitution iterator at /home/perltest/.cpan/build/XML-SAX-Writer-0.53-jxAUm4/blib/lib/XML/SAX/Writer.pm line 152.
Use of uninitialized value in substitution iterator at /home/perltest/.cpan/build/XML-SAX-Writer-0.53-jxAUm4/blib/lib/XML/SAX/Writer.pm line 152.
Use of uninitialized value in substitution iterator at /home/perltest/.cpan/build/XML-SAX-Writer-0.53-jxAUm4/blib/lib/XML/SAX/Writer.pm line 152.
Use of uninitialized value in substitution iterator at /home/perltest/.cpan/build/XML-SAX-Writer-0.53-jxAUm4/blib/lib/XML/SAX/Writer.pm line 152.
Use of uninitialized value in substitution iterator at /home/perltest/.cpan/build/XML-SAX-Writer-0.53-jxAUm4/blib/lib/XML/SAX/Writer.pm line 152.
Use of uninitialized value in substitution iterator at /home/perltest/.cpan/build/XML-SAX-Writer-0.53-jxAUm4/blib/lib/XML/SAX/Writer.pm line 152.
Use of uninitialized value in substitution iterator at /home/perltest/.cpan/build/XML-SAX-Writer-0.53-jxAUm4/blib/lib/XML/SAX/Writer.pm line 152.
Use of uninitialized value in substitution iterator at /home/perltest/.cpan/build/XML-SAX-Writer-0.53-jxAUm4/blib/lib/XML/SAX/Writer.pm line 152.
Use of uninitialized value in substitution iterator at /home/perltest/.cpan/build/XML-SAX-Writer-0.53-jxAUm4/blib/lib/XML/SAX/Writer.pm line 152.
Use of uninitialized value in substitution iterator at /home/perltest/.cpan/build/XML-SAX-Writer-0.53-jxAUm4/blib/lib/XML/SAX/Writer.pm line 152.
Use of uninitialized value in substitution iterator at /home/perltest/.cpan/build/XML-SAX-Writer-0.53-jxAUm4/blib/lib/XML/SAX/Writer.pm line 152.
Use of uninitialized value in substitution iterator at /home/perltest/.cpan/build/XML-SAX-Writer-0.53-jxAUm4/blib/lib/XML/SAX/Writer.pm line 152.
Use of uninitialized value in substitution iterator at /home/perltest/.cpan/build/XML-SAX-Writer-0.53-jxAUm4/blib/lib/XML/SAX/Writer.pm line 152.
Use of uninitialized value in substitution iterator at /home/perltest/.cpan/build/XML-SAX-Writer-0.53-jxAUm4/blib/lib/XML/SAX/Writer.pm line 152.
Use of uninitialized value in substitution iterator at /home/perltest/.cpan/build/XML-SAX-Writer-0.53-jxAUm4/blib/lib/XML/SAX/Writer.pm line 152.
Use of uninitialized value in substitution iterator at /home/perltest/.cpan/build/XML-SAX-Writer-0.53-jxAUm4/blib/lib/XML/SAX/Writer.pm line 152.
Use of uninitialized value in substitution iterator at /home/perltest/.cpan/build/XML-SAX-Writer-0.53-jxAUm4/blib/lib/XML/SAX/Writer.pm line 152.
Use of uninitialized value in substitution iterator at /home/perltest/.cpan/build/XML-SAX-Writer-0.53-jxAUm4/blib/lib/XML/SAX/Writer.pm line 152.
Use of uninitialized value in substitution iterator at /home/perltest/.cpan/build/XML-SAX-Writer-0.53-jxAUm4/blib/lib/XML/SAX/Writer.pm line 152.
Use of uninitialized value in substitution iterator at /home/perltest/.cpan/build/XML-SAX-Writer-0.53-jxAUm4/blib/lib/XML/SAX/Writer.pm line 152.
Use of uninitialized value $uri in concatenation (.) or string at /home/perltest/.cpan/build/XML-Filter-SAX1toSAX2-0.03-FQ_McZ/blib/lib/XML/Filter/SAX1toSAX2.pm line 81.
Use of uninitialized value $uri in concatenation (.) or string at /home/perltest/.cpan/build/XML-Filter-SAX1toSAX2-0.03-FQ_McZ/blib/lib/XML/Filter/SAX1toSAX2.pm line 81.
Use of uninitialized value in substitution iterator at /home/perltest/.cpan/build/XML-SAX-Writer-0.53-jxAUm4/blib/lib/XML/SAX/Writer.pm line 152.
Use of uninitialized value in substitution iterator at /home/perltest/.cpan/build/XML-SAX-Writer-0.53-jxAUm4/blib/lib/XML/SAX/Writer.pm line 152.
Use of uninitialized value in substitution iterator at /home/perltest/.cpan/build/XML-SAX-Writer-0.53-jxAUm4/blib/lib/XML/SAX/Writer.pm line 152.
Use of uninitialized value in substitution iterator at /home/perltest/.cpan/build/XML-SAX-Writer-0.53-jxAUm4/blib/lib/XML/SAX/Writer.pm line 152.
Use of uninitialized value in substitution iterator at /home/perltest/.cpan/build/XML-SAX-Writer-0.53-jxAUm4/blib/lib/XML/SAX/Writer.pm line 152.
Use of uninitialized value in substitution iterator at /home/perltest/.cpan/build/XML-SAX-Writer-0.53-jxAUm4/blib/lib/XML/SAX/Writer.pm line 152.
Use of uninitialized value in substitution iterator at /home/perltest/.cpan/build/XML-SAX-Writer-0.53-jxAUm4/blib/lib/XML/SAX/Writer.pm line 152.
Use of uninitialized value in substitution iterator at /home/perltest/.cpan/build/XML-SAX-Writer-0.53-jxAUm4/blib/lib/XML/SAX/Writer.pm line 152.
Use of uninitialized value in substitution iterator at /home/perltest/.cpan/build/XML-SAX-Writer-0.53-jxAUm4/blib/lib/XML/SAX/Writer.pm line 152.
Use of uninitialized value in substitution iterator at /home/perltest/.cpan/build/XML-SAX-Writer-0.53-jxAUm4/blib/lib/XML/SAX/Writer.pm line 152.
Use of uninitialized value $uri in concatenation (.) or string at /home/perltest/.cpan/build/XML-Filter-SAX1toSAX2-0.03-FQ_McZ/blib/lib/XML/Filter/SAX1toSAX2.pm line 81.
Use of uninitialized value in substitution iterator at /home/perltest/.cpan/build/XML-SAX-Writer-0.53-jxAUm4/blib/lib/XML/SAX/Writer.pm line 152.
Use of uninitialized value in substitution iterator at /home/perltest/.cpan/build/XML-SAX-Writer-0.53-jxAUm4/blib/lib/XML/SAX/Writer.pm line 152.
Use of uninitialized value in substitution iterator at /home/perltest/.cpan/build/XML-SAX-Writer-0.53-jxAUm4/blib/lib/XML/SAX/Writer.pm line 152.
Use of uninitialized value in substitution iterator at /home/perltest/.cpan/build/XML-SAX-Writer-0.53-jxAUm4/blib/lib/XML/SAX/Writer.pm line 152.
Use of uninitialized value in substitution iterator at /home/perltest/.cpan/build/XML-SAX-Writer-0.53-jxAUm4/blib/lib/XML/SAX/Writer.pm line 152.
Use of uninitialized value in substitution iterator at /home/perltest/.cpan/build/XML-SAX-Writer-0.53-jxAUm4/blib/lib/XML/SAX/Writer.pm line 152.
Use of uninitialized value in substitution iterator at /home/perltest/.cpan/build/XML-SAX-Writer-0.53-jxAUm4/blib/lib/XML/SAX/Writer.pm line 152.
Use of uninitialized value in substitution iterator at /home/perltest/.cpan/build/XML-SAX-Writer-0.53-jxAUm4/blib/lib/XML/SAX/Writer.pm line 152.
Use of uninitialized value in substitution iterator at /home/perltest/.cpan/build/XML-SAX-Writer-0.53-jxAUm4/blib/lib/XML/SAX/Writer.pm line 152.
Use of uninitialized value in substitution iterator at /home/perltest/.cpan/build/XML-SAX-Writer-0.53-jxAUm4/blib/lib/XML/SAX/Writer.pm line 152.
Use of uninitialized value in substitution iterator at /home/perltest/.cpan/build/XML-SAX-Writer-0.53-jxAUm4/blib/lib/XML/SAX/Writer.pm line 152.
Use of uninitialized value in substitution iterator at /home/perltest/.cpan/build/XML-SAX-Writer-0.53-jxAUm4/blib/lib/XML/SAX/Writer.pm line 152.
Use of uninitialized value in substitution iterator at /home/perltest/.cpan/build/XML-SAX-Writer-0.53-jxAUm4/blib/lib/XML/SAX/Writer.pm line 152.
Use of uninitialized value in substitution iterator at /home/perltest/.cpan/build/XML-SAX-Writer-0.53-jxAUm4/blib/lib/XML/SAX/Writer.pm line 152.
Use of uninitialized value in substitution iterator at /home/perltest/.cpan/build/XML-SAX-Writer-0.53-jxAUm4/blib/lib/XML/SAX/Writer.pm line 152.
Use of uninitialized value in substitution iterator at /home/perltest/.cpan/build/XML-SAX-Writer-0.53-jxAUm4/blib/lib/XML/SAX/Writer.pm line 152.
Use of uninitialized value in substitution iterator at /home/perltest/.cpan/build/XML-SAX-Writer-0.53-jxAUm4/blib/lib/XML/SAX/Writer.pm line 152.
Use of uninitialized value in substitution iterator at /home/perltest/.cpan/build/XML-SAX-Writer-0.53-jxAUm4/blib/lib/XML/SAX/Writer.pm line 152.
Use of uninitialized value in substitution iterator at /home/perltest/.cpan/build/XML-SAX-Writer-0.53-jxAUm4/blib/lib/XML/SAX/Writer.pm line 152.
Use of uninitialized value in substitution iterator at /home/perltest/.cpan/build/XML-SAX-Writer-0.53-jxAUm4/blib/lib/XML/SAX/Writer.pm line 152.
Use of uninitialized value in substitution iterator at /home/perltest/.cpan/build/XML-SAX-Writer-0.53-jxAUm4/blib/lib/XML/SAX/Writer.pm line 152.
Use of uninitialized value in substitution iterator at /home/perltest/.cpan/build/XML-SAX-Writer-0.53-jxAUm4/blib/lib/XML/SAX/Writer.pm line 152.
Use of uninitialized value in substitution iterator at /home/perltest/.cpan/build/XML-SAX-Writer-0.53-jxAUm4/blib/lib/XML/SAX/Writer.pm line 152.
Use of uninitialized value in substitution iterator at /home/perltest/.cpan/build/XML-SAX-Writer-0.53-jxAUm4/blib/lib/XML/SAX/Writer.pm line 152.
Use of uninitialized value in substitution iterator at /home/perltest/.cpan/build/XML-SAX-Writer-0.53-jxAUm4/blib/lib/XML/SAX/Writer.pm line 152.
Use of uninitialized value in substitution iterator at /home/perltest/.cpan/build/XML-SAX-Writer-0.53-jxAUm4/blib/lib/XML/SAX/Writer.pm line 152.
Use of uninitialized value in substitution iterator at /home/perltest/.cpan/build/XML-SAX-Writer-0.53-jxAUm4/blib/lib/XML/SAX/Writer.pm line 152.
Use of uninitialized value in substitution iterator at /home/perltest/.cpan/build/XML-SAX-Writer-0.53-jxAUm4/blib/lib/XML/SAX/Writer.pm line 152.
Use of uninitialized value in substitution iterator at /home/perltest/.cpan/build/XML-SAX-Writer-0.53-jxAUm4/blib/lib/XML/SAX/Writer.pm line 152.
Use of uninitialized value in substitution iterator at /home/perltest/.cpan/build/XML-SAX-Writer-0.53-jxAUm4/blib/lib/XML/SAX/Writer.pm line 152.
Use of uninitialized value in substitution iterator at /home/perltest/.cpan/build/XML-SAX-Writer-0.53-jxAUm4/blib/lib/XML/SAX/Writer.pm line 152.
Use of uninitialized value in substitution iterator at /home/perltest/.cpan/build/XML-SAX-Writer-0.53-jxAUm4/blib/lib/XML/SAX/Writer.pm line 152.
Use of uninitialized value in substitution iterator at /home/perltest/.cpan/build/XML-SAX-Writer-0.53-jxAUm4/blib/lib/XML/SAX/Writer.pm line 152.
Use of uninitialized value in substitution iterator at /home/perltest/.cpan/build/XML-SAX-Writer-0.53-jxAUm4/blib/lib/XML/SAX/Writer.pm line 152.
Use of uninitialized value in substitution iterator at /home/perltest/.cpan/build/XML-SAX-Writer-0.53-jxAUm4/blib/lib/XML/SAX/Writer.pm line 152.
Use of uninitialized value in substitution iterator at /home/perltest/.cpan/build/XML-SAX-Writer-0.53-jxAUm4/blib/lib/XML/SAX/Writer.pm line 152.
Use of uninitialized value in substitution iterator at /home/perltest/.cpan/build/XML-SAX-Writer-0.53-jxAUm4/blib/lib/XML/SAX/Writer.pm line 152.
Use of uninitialized value in substitution iterator at /home/perltest/.cpan/build/XML-SAX-Writer-0.53-jxAUm4/blib/lib/XML/SAX/Writer.pm line 152.
Use of uninitialized value in substitution iterator at /home/perltest/.cpan/build/XML-SAX-Writer-0.53-jxAUm4/blib/lib/XML/SAX/Writer.pm line 152.
Use of uninitialized value in substitution iterator at /home/perltest/.cpan/build/XML-SAX-Writer-0.53-jxAUm4/blib/lib/XML/SAX/Writer.pm line 152.
Use of uninitialized value in substitution iterator at /home/perltest/.cpan/build/XML-SAX-Writer-0.53-jxAUm4/blib/lib/XML/SAX/Writer.pm line 152.
Use of uninitialized value in substitution iterator at /home/perltest/.cpan/build/XML-SAX-Writer-0.53-jxAUm4/blib/lib/XML/SAX/Writer.pm line 152.
Use of uninitialized value in substitution iterator at /home/perltest/.cpan/build/XML-SAX-Writer-0.53-jxAUm4/blib/lib/XML/SAX/Writer.pm line 152.
Use of uninitialized value in substitution iterator at /home/perltest/.cpan/build/XML-SAX-Writer-0.53-jxAUm4/blib/lib/XML/SAX/Writer.pm line 152.
Use of uninitialized value in substitution iterator at /home/perltest/.cpan/build/XML-SAX-Writer-0.53-jxAUm4/blib/lib/XML/SAX/Writer.pm line 152.
Use of uninitialized value in substitution iterator at /home/perltest/.cpan/build/XML-SAX-Writer-0.53-jxAUm4/blib/lib/XML/SAX/Writer.pm line 152.
Use of uninitialized value in substitution iterator at /home/perltest/.cpan/build/XML-SAX-Writer-0.53-jxAUm4/blib/lib/XML/SAX/Writer.pm line 152.
Use of uninitialized value in substitution iterator at /home/perltest/.cpan/build/XML-SAX-Writer-0.53-jxAUm4/blib/lib/XML/SAX/Writer.pm line 152.
Use of uninitialized value in substitution iterator at /home/perltest/.cpan/build/XML-SAX-Writer-0.53-jxAUm4/blib/lib/XML/SAX/Writer.pm line 152.
Use of uninitialized value in substitution iterator at /home/perltest/.cpan/build/XML-SAX-Writer-0.53-jxAUm4/blib/lib/XML/SAX/Writer.pm line 152.
Use of uninitialized value in substitution iterator at /home/perltest/.cpan/build/XML-SAX-Writer-0.53-jxAUm4/blib/lib/XML/SAX/Writer.pm line 152.
Use of uninitialized value in substitution iterator at /home/perltest/.cpan/build/XML-SAX-Writer-0.53-jxAUm4/blib/lib/XML/SAX/Writer.pm line 152.
Use of uninitialized value in substitution iterator at /home/perltest/.cpan/build/XML-SAX-Writer-0.53-jxAUm4/blib/lib/XML/SAX/Writer.pm line 152.
Use of uninitialized value in substitution iterator at /home/perltest/.cpan/build/XML-SAX-Writer-0.53-jxAUm4/blib/lib/XML/SAX/Writer.pm line 152.
Use of uninitialized value in substitution iterator at /home/perltest/.cpan/build/XML-SAX-Writer-0.53-jxAUm4/blib/lib/XML/SAX/Writer.pm line 152.
Use of uninitialized value in substitution iterator at /home/perltest/.cpan/build/XML-SAX-Writer-0.53-jxAUm4/blib/lib/XML/SAX/Writer.pm line 152.
Use of uninitialized value in substitution iterator at /home/perltest/.cpan/build/XML-SAX-Writer-0.53-jxAUm4/blib/lib/XML/SAX/Writer.pm line 152.
Use of uninitialized value in substitution iterator at /home/perltest/.cpan/build/XML-SAX-Writer-0.53-jxAUm4/blib/lib/XML/SAX/Writer.pm line 152.
Use of uninitialized value $uri in concatenation (.) or string at /home/perltest/.cpan/build/XML-Filter-SAX1toSAX2-0.03-FQ_McZ/blib/lib/XML/Filter/SAX1toSAX2.pm line 81.
Use of uninitialized value in substitution iterator at /home/perltest/.cpan/build/XML-SAX-Writer-0.53-jxAUm4/blib/lib/XML/SAX/Writer.pm line 152.
Use of uninitialized value in substitution iterator at /home/perltest/.cpan/build/XML-SAX-Writer-0.53-jxAUm4/blib/lib/XML/SAX/Writer.pm line 152.
Use of uninitialized value in substitution iterator at /home/perltest/.cpan/build/XML-SAX-Writer-0.53-jxAUm4/blib/lib/XML/SAX/Writer.pm line 152.
Use of uninitialized value in substitution iterator at /home/perltest/.cpan/build/XML-SAX-Writer-0.53-jxAUm4/blib/lib/XML/SAX/Writer.pm line 152.
Use of uninitialized value in substitution iterator at /home/perltest/.cpan/build/XML-SAX-Writer-0.53-jxAUm4/blib/lib/XML/SAX/Writer.pm line 152.
Use of uninitialized value in substitution iterator at /home/perltest/.cpan/build/XML-SAX-Writer-0.53-jxAUm4/blib/lib/XML/SAX/Writer.pm line 152.
Use of uninitialized value in substitution iterator at /home/perltest/.cpan/build/XML-SAX-Writer-0.53-jxAUm4/blib/lib/XML/SAX/Writer.pm line 152.
Use of uninitialized value in substitution iterator at /home/perltest/.cpan/build/XML-SAX-Writer-0.53-jxAUm4/blib/lib/XML/SAX/Writer.pm line 152.
Use of uninitialized value in substitution iterator at /home/perltest/.cpan/build/XML-SAX-Writer-0.53-jxAUm4/blib/lib/XML/SAX/Writer.pm line 152.
Use of uninitialized value in substitution iterator at /home/perltest/.cpan/build/XML-SAX-Writer-0.53-jxAUm4/blib/lib/XML/SAX/Writer.pm line 152.
Use of uninitialized value in substitution iterator at /home/perltest/.cpan/build/XML-SAX-Writer-0.53-jxAUm4/blib/lib/XML/SAX/Writer.pm line 152.
Use of uninitialized value in substitution iterator at /home/perltest/.cpan/build/XML-SAX-Writer-0.53-jxAUm4/blib/lib/XML/SAX/Writer.pm line 152.
Use of uninitialized value in substitution iterator at /home/perltest/.cpan/build/XML-SAX-Writer-0.53-jxAUm4/blib/lib/XML/SAX/Writer.pm line 152.
Use of uninitialized value in substitution iterator at /home/perltest/.cpan/build/XML-SAX-Writer-0.53-jxAUm4/blib/lib/XML/SAX/Writer.pm line 152.
Use of uninitialized value in substitution iterator at /home/perltest/.cpan/build/XML-SAX-Writer-0.53-jxAUm4/blib/lib/XML/SAX/Writer.pm line 152.
Use of uninitialized value in substitution iterator at /home/perltest/.cpan/build/XML-SAX-Writer-0.53-jxAUm4/blib/lib/XML/SAX/Writer.pm line 152.
Use of uninitialized value in substitution iterator at /home/perltest/.cpan/build/XML-SAX-Writer-0.53-jxAUm4/blib/lib/XML/SAX/Writer.pm line 152.
Use of uninitialized value in substitution iterator at /home/perltest/.cpan/build/XML-SAX-Writer-0.53-jxAUm4/blib/lib/XML/SAX/Writer.pm line 152.
Use of uninitialized value in substitution iterator at /home/perltest/.cpan/build/XML-SAX-Writer-0.53-jxAUm4/blib/lib/XML/SAX/Writer.pm line 152.
Use of uninitialized value in substitution iterator at /home/perltest/.cpan/build/XML-SAX-Writer-0.53-jxAUm4/blib/lib/XML/SAX/Writer.pm line 152.
Use of uninitialized value in substitution iterator at /home/perltest/.cpan/build/XML-SAX-Writer-0.53-jxAUm4/blib/lib/XML/SAX/Writer.pm line 152.
Use of uninitialized value $uri in concatenation (.) or string at /home/perltest/.cpan/build/XML-Filter-SAX1toSAX2-0.03-FQ_McZ/blib/lib/XML/Filter/SAX1toSAX2.pm line 81.
Use of uninitialized value $uri in concatenation (.) or string at /home/perltest/.cpan/build/XML-Filter-SAX1toSAX2-0.03-FQ_McZ/blib/lib/XML/Filter/SAX1toSAX2.pm line 81.
Use of uninitialized value in substitution iterator at /home/perltest/.cpan/build/XML-SAX-Writer-0.53-jxAUm4/blib/lib/XML/SAX/Writer.pm line 152.
Use of uninitialized value in substitution iterator at /home/perltest/.cpan/build/XML-SAX-Writer-0.53-jxAUm4/blib/lib/XML/SAX/Writer.pm line 152.
Use of uninitialized value in substitution iterator at /home/perltest/.cpan/build/XML-SAX-Writer-0.53-jxAUm4/blib/lib/XML/SAX/Writer.pm line 152.
Use of uninitialized value in substitution iterator at /home/perltest/.cpan/build/XML-SAX-Writer-0.53-jxAUm4/blib/lib/XML/SAX/Writer.pm line 152.
Use of uninitialized value in substitution iterator at /home/perltest/.cpan/build/XML-SAX-Writer-0.53-jxAUm4/blib/lib/XML/SAX/Writer.pm line 152.
Use of uninitialized value in substitution iterator at /home/perltest/.cpan/build/XML-SAX-Writer-0.53-jxAUm4/blib/lib/XML/SAX/Writer.pm line 152.
Use of uninitialized value in substitution iterator at /home/perltest/.cpan/build/XML-SAX-Writer-0.53-jxAUm4/blib/lib/XML/SAX/Writer.pm line 152.
Use of uninitialized value in substitution iterator at /home/perltest/.cpan/build/XML-SAX-Writer-0.53-jxAUm4/blib/lib/XML/SAX/Writer.pm line 152.
Use of uninitialized value in substitution iterator at /home/perltest/.cpan/build/XML-SAX-Writer-0.53-jxAUm4/blib/lib/XML/SAX/Writer.pm line 152.
Use of uninitialized value in substitution iterator at /home/perltest/.cpan/build/XML-SAX-Writer-0.53-jxAUm4/blib/lib/XML/SAX/Writer.pm line 152.
Use of uninitialized value in substitution iterator at /home/perltest/.cpan/build/XML-SAX-Writer-0.53-jxAUm4/blib/lib/XML/SAX/Writer.pm line 152.
Use of uninitialized value in substitution iterator at /home/perltest/.cpan/build/XML-SAX-Writer-0.53-jxAUm4/blib/lib/XML/SAX/Writer.pm line 152.
Use of uninitialized value in substitution iterator at /home/perltest/.cpan/build/XML-SAX-Writer-0.53-jxAUm4/blib/lib/XML/SAX/Writer.pm line 152.
Use of uninitialized value in substitution iterator at /home/perltest/.cpan/build/XML-SAX-Writer-0.53-jxAUm4/blib/lib/XML/SAX/Writer.pm line 152.
Use of uninitialized value in substitution iterator at /home/perltest/.cpan/build/XML-SAX-Writer-0.53-jxAUm4/blib/lib/XML/SAX/Writer.pm line 152.
Use of uninitialized value in substitution iterator at /home/perltest/.cpan/build/XML-SAX-Writer-0.53-jxAUm4/blib/lib/XML/SAX/Writer.pm line 152.
Use of uninitialized value in substitution iterator at /home/perltest/.cpan/build/XML-SAX-Writer-0.53-jxAUm4/blib/lib/XML/SAX/Writer.pm line 152.
Use of uninitialized value in substitution iterator at /home/perltest/.cpan/build/XML-SAX-Writer-0.53-jxAUm4/blib/lib/XML/SAX/Writer.pm line 152.
Use of uninitialized value in substitution iterator at /home/perltest/.cpan/build/XML-SAX-Writer-0.53-jxAUm4/blib/lib/XML/SAX/Writer.pm line 152.
Use of uninitialized value in substitution iterator at /home/perltest/.cpan/build/XML-SAX-Writer-0.53-jxAUm4/blib/lib/XML/SAX/Writer.pm line 152.
Use of uninitialized value in substitution iterator at /home/perltest/.cpan/build/XML-SAX-Writer-0.53-jxAUm4/blib/lib/XML/SAX/Writer.pm line 152.
Use of uninitialized value in substitution iterator at /home/perltest/.cpan/build/XML-SAX-Writer-0.53-jxAUm4/blib/lib/XML/SAX/Writer.pm line 152.
Use of uninitialized value in substitution iterator at /home/perltest/.cpan/build/XML-SAX-Writer-0.53-jxAUm4/blib/lib/XML/SAX/Writer.pm line 152.
Use of uninitialized value in substitution iterator at /home/perltest/.cpan/build/XML-SAX-Writer-0.53-jxAUm4/blib/lib/XML/SAX/Writer.pm line 152.
Use of uninitialized value in substitution iterator at /home/perltest/.cpan/build/XML-SAX-Writer-0.53-jxAUm4/blib/lib/XML/SAX/Writer.pm line 152.
Use of uninitialized value in substitution iterator at /home/perltest/.cpan/build/XML-SAX-Writer-0.53-jxAUm4/blib/lib/XML/SAX/Writer.pm line 152.
Use of uninitialized value in substitution iterator at /home/perltest/.cpan/build/XML-SAX-Writer-0.53-jxAUm4/blib/lib/XML/SAX/Writer.pm line 152.
Use of uninitialized value in substitution iterator at /home/perltest/.cpan/build/XML-SAX-Writer-0.53-jxAUm4/blib/lib/XML/SAX/Writer.pm line 152.
Use of uninitialized value in substitution iterator at /home/perltest/.cpan/build/XML-SAX-Writer-0.53-jxAUm4/blib/lib/XML/SAX/Writer.pm line 152.
Use of uninitialized value in substitution iterator at /home/perltest/.cpan/build/XML-SAX-Writer-0.53-jxAUm4/blib/lib/XML/SAX/Writer.pm line 152.
Use of uninitialized value in substitution iterator at /home/perltest/.cpan/build/XML-SAX-Writer-0.53-jxAUm4/blib/lib/XML/SAX/Writer.pm line 152.
Use of uninitialized value in substitution iterator at /home/perltest/.cpan/build/XML-SAX-Writer-0.53-jxAUm4/blib/lib/XML/SAX/Writer.pm line 152.
Use of uninitialized value in substitution iterator at /home/perltest/.cpan/build/XML-SAX-Writer-0.53-jxAUm4/blib/lib/XML/SAX/Writer.pm line 152.
Use of uninitialized value in substitution iterator at /home/perltest/.cpan/build/XML-SAX-Writer-0.53-jxAUm4/blib/lib/XML/SAX/Writer.pm line 152.
Use of uninitialized value in substitution iterator at /home/perltest/.cpan/build/XML-SAX-Writer-0.53-jxAUm4/blib/lib/XML/SAX/Writer.pm line 152.
Use of uninitialized value in substitution iterator at /home/perltest/.cpan/build/XML-SAX-Writer-0.53-jxAUm4/blib/lib/XML/SAX/Writer.pm line 152.
Use of uninitialized value in substitution iterator at /home/perltest/.cpan/build/XML-SAX-Writer-0.53-jxAUm4/blib/lib/XML/SAX/Writer.pm line 152.
Use of uninitialized value in substitution iterator at /home/perltest/.cpan/build/XML-SAX-Writer-0.53-jxAUm4/blib/lib/XML/SAX/Writer.pm line 152.
Use of uninitialized value in substitution iterator at /home/perltest/.cpan/build/XML-SAX-Writer-0.53-jxAUm4/blib/lib/XML/SAX/Writer.pm line 152.
Use of uninitialized value in substitution iterator at /home/perltest/.cpan/build/XML-SAX-Writer-0.53-jxAUm4/blib/lib/XML/SAX/Writer.pm line 152.
Use of uninitialized value in substitution iterator at /home/perltest/.cpan/build/XML-SAX-Writer-0.53-jxAUm4/blib/lib/XML/SAX/Writer.pm line 152.
Use of uninitialized value in substitution iterator at /home/perltest/.cpan/build/XML-SAX-Writer-0.53-jxAUm4/blib/lib/XML/SAX/Writer.pm line 152.
Use of uninitialized value in substitution iterator at /home/perltest/.cpan/build/XML-SAX-Writer-0.53-jxAUm4/blib/lib/XML/SAX/Writer.pm line 152.
Use of uninitialized value in substitution iterator at /home/perltest/.cpan/build/XML-SAX-Writer-0.53-jxAUm4/blib/lib/XML/SAX/Writer.pm line 152.
Use of uninitialized value in substitution iterator at /home/perltest/.cpan/build/XML-SAX-Writer-0.53-jxAUm4/blib/lib/XML/SAX/Writer.pm line 152.
Use of uninitialized value in substitution iterator at /home/perltest/.cpan/build/XML-SAX-Writer-0.53-jxAUm4/blib/lib/XML/SAX/Writer.pm line 152.
Use of uninitialized value in substitution iterator at /home/perltest/.cpan/build/XML-SAX-Writer-0.53-jxAUm4/blib/lib/XML/SAX/Writer.pm line 152.
Use of uninitialized value in substitution iterator at /home/perltest/.cpan/build/XML-SAX-Writer-0.53-jxAUm4/blib/lib/XML/SAX/Writer.pm line 152.
Use of uninitialized value in substitution iterator at /home/perltest/.cpan/build/XML-SAX-Writer-0.53-jxAUm4/blib/lib/XML/SAX/Writer.pm line 152.
Use of uninitialized value in substitution iterator at /home/perltest/.cpan/build/XML-SAX-Writer-0.53-jxAUm4/blib/lib/XML/SAX/Writer.pm line 152.
Use of uninitialized value in substitution iterator at /home/perltest/.cpan/build/XML-SAX-Writer-0.53-jxAUm4/blib/lib/XML/SAX/Writer.pm line 152.
Use of uninitialized value in substitution iterator at /home/perltest/.cpan/build/XML-SAX-Writer-0.53-jxAUm4/blib/lib/XML/SAX/Writer.pm line 152.
Use of uninitialized value in substitution iterator at /home/perltest/.cpan/build/XML-SAX-Writer-0.53-jxAUm4/blib/lib/XML/SAX/Writer.pm line 152.
Use of uninitialized value in substitution iterator at /home/perltest/.cpan/build/XML-SAX-Writer-0.53-jxAUm4/blib/lib/XML/SAX/Writer.pm line 152.
Use of uninitialized value in substitution iterator at /home/perltest/.cpan/build/XML-SAX-Writer-0.53-jxAUm4/blib/lib/XML/SAX/Writer.pm line 152.
Use of uninitialized value in substitution iterator at /home/perltest/.cpan/build/XML-SAX-Writer-0.53-jxAUm4/blib/lib/XML/SAX/Writer.pm line 152.
Use of uninitialized value in substitution iterator at /home/perltest/.cpan/build/XML-SAX-Writer-0.53-jxAUm4/blib/lib/XML/SAX/Writer.pm line 152.
Use of uninitialized value in substitution iterator at /home/perltest/.cpan/build/XML-SAX-Writer-0.53-jxAUm4/blib/lib/XML/SAX/Writer.pm line 152.
Use of uninitialized value in substitution iterator at /home/perltest/.cpan/build/XML-SAX-Writer-0.53-jxAUm4/blib/lib/XML/SAX/Writer.pm line 152.
Use of uninitialized value in substitution iterator at /home/perltest/.cpan/build/XML-SAX-Writer-0.53-jxAUm4/blib/lib/XML/SAX/Writer.pm line 152.
Use of uninitialized value in substitution iterator at /home/perltest/.cpan/build/XML-SAX-Writer-0.53-jxAUm4/blib/lib/XML/SAX/Writer.pm line 152.
Use of uninitialized value in substitution iterator at /home/perltest/.cpan/build/XML-SAX-Writer-0.53-jxAUm4/blib/lib/XML/SAX/Writer.pm line 152.
Use of uninitialized value in substitution iterator at /home/perltest/.cpan/build/XML-SAX-Writer-0.53-jxAUm4/blib/lib/XML/SAX/Writer.pm line 152.
Use of uninitialized value in substitution iterator at /home/perltest/.cpan/build/XML-SAX-Writer-0.53-jxAUm4/blib/lib/XML/SAX/Writer.pm line 152.
Use of uninitialized value in substitution iterator at /home/perltest/.cpan/build/XML-SAX-Writer-0.53-jxAUm4/blib/lib/XML/SAX/Writer.pm line 152.
Use of uninitialized value in substitution iterator at /home/perltest/.cpan/build/XML-SAX-Writer-0.53-jxAUm4/blib/lib/XML/SAX/Writer.pm line 152.
Use of uninitialized value $uri in concatenation (.) or string at /home/perltest/.cpan/build/XML-Filter-SAX1toSAX2-0.03-FQ_McZ/blib/lib/XML/Filter/SAX1toSAX2.pm line 81.
Use of uninitialized value $uri in concatenation (.) or string at /home/perltest/.cpan/build/XML-Filter-SAX1toSAX2-0.03-FQ_McZ/blib/lib/XML/Filter/SAX1toSAX2.pm line 81.
Use of uninitialized value in substitution iterator at /home/perltest/.cpan/build/XML-SAX-Writer-0.53-jxAUm4/blib/lib/XML/SAX/Writer.pm line 152.
Use of uninitialized value in substitution iterator at /home/perltest/.cpan/build/XML-SAX-Writer-0.53-jxAUm4/blib/lib/XML/SAX/Writer.pm line 152.
Use of uninitialized value in substitution iterator at /home/perltest/.cpan/build/XML-SAX-Writer-0.53-jxAUm4/blib/lib/XML/SAX/Writer.pm line 152.
Use of uninitialized value in substitution iterator at /home/perltest/.cpan/build/XML-SAX-Writer-0.53-jxAUm4/blib/lib/XML/SAX/Writer.pm line 152.
Use of uninitialized value in substitution iterator at /home/perltest/.cpan/build/XML-SAX-Writer-0.53-jxAUm4/blib/lib/XML/SAX/Writer.pm line 152.
Use of uninitialized value in substitution iterator at /home/perltest/.cpan/build/XML-SAX-Writer-0.53-jxAUm4/blib/lib/XML/SAX/Writer.pm line 152.
Use of uninitialized value in substitution iterator at /home/perltest/.cpan/build/XML-SAX-Writer-0.53-jxAUm4/blib/lib/XML/SAX/Writer.pm line 152.
Use of uninitialized value in substitution iterator at /home/perltest/.cpan/build/XML-SAX-Writer-0.53-jxAUm4/blib/lib/XML/SAX/Writer.pm line 152.
Use of uninitialized value in substitution iterator at /home/perltest/.cpan/build/XML-SAX-Writer-0.53-jxAUm4/blib/lib/XML/SAX/Writer.pm line 152.
Use of uninitialized value in substitution iterator at /home/perltest/.cpan/build/XML-SAX-Writer-0.53-jxAUm4/blib/lib/XML/SAX/Writer.pm line 152.
Use of uninitialized value in substitution iterator at /home/perltest/.cpan/build/XML-SAX-Writer-0.53-jxAUm4/blib/lib/XML/SAX/Writer.pm line 152.
Use of uninitialized value in substitution iterator at /home/perltest/.cpan/build/XML-SAX-Writer-0.53-jxAUm4/blib/lib/XML/SAX/Writer.pm line 152.
Use of uninitialized value in substitution iterator at /home/perltest/.cpan/build/XML-SAX-Writer-0.53-jxAUm4/blib/lib/XML/SAX/Writer.pm line 152.
Use of uninitialized value in substitution iterator at /home/perltest/.cpan/build/XML-SAX-Writer-0.53-jxAUm4/blib/lib/XML/SAX/Writer.pm line 152.
Use of uninitialized value in substitution iterator at /home/perltest/.cpan/build/XML-SAX-Writer-0.53-jxAUm4/blib/lib/XML/SAX/Writer.pm line 152.
Use of uninitialized value in substitution iterator at /home/perltest/.cpan/build/XML-SAX-Writer-0.53-jxAUm4/blib/lib/XML/SAX/Writer.pm line 152.
Use of uninitialized value in substitution iterator at /home/perltest/.cpan/build/XML-SAX-Writer-0.53-jxAUm4/blib/lib/XML/SAX/Writer.pm line 152.
Use of uninitialized value in substitution iterator at /home/perltest/.cpan/build/XML-SAX-Writer-0.53-jxAUm4/blib/lib/XML/SAX/Writer.pm line 152.
Use of uninitialized value in substitution iterator at /home/perltest/.cpan/build/XML-SAX-Writer-0.53-jxAUm4/blib/lib/XML/SAX/Writer.pm line 152.
Use of uninitialized value in substitution iterator at /home/perltest/.cpan/build/XML-SAX-Writer-0.53-jxAUm4/blib/lib/XML/SAX/Writer.pm line 152.
Use of uninitialized value in substitution iterator at /home/perltest/.cpan/build/XML-SAX-Writer-0.53-jxAUm4/blib/lib/XML/SAX/Writer.pm line 152.
Use of uninitialized value in substitution iterator at /home/perltest/.cpan/build/XML-SAX-Writer-0.53-jxAUm4/blib/lib/XML/SAX/Writer.pm line 152.
Use of uninitialized value in substitution iterator at /home/perltest/.cpan/build/XML-SAX-Writer-0.53-jxAUm4/blib/lib/XML/SAX/Writer.pm line 152.
Use of uninitialized value in substitution iterator at /home/perltest/.cpan/build/XML-SAX-Writer-0.53-jxAUm4/blib/lib/XML/SAX/Writer.pm line 152.
Use of uninitialized value in substitution iterator at /home/perltest/.cpan/build/XML-SAX-Writer-0.53-jxAUm4/blib/lib/XML/SAX/Writer.pm line 152.
Use of uninitialized value in substitution iterator at /home/perltest/.cpan/build/XML-SAX-Writer-0.53-jxAUm4/blib/lib/XML/SAX/Writer.pm line 152.
Use of uninitialized value in substitution iterator at /home/perltest/.cpan/build/XML-SAX-Writer-0.53-jxAUm4/blib/lib/XML/SAX/Writer.pm line 152.
Use of uninitialized value in substitution iterator at /home/perltest/.cpan/build/XML-SAX-Writer-0.53-jxAUm4/blib/lib/XML/SAX/Writer.pm line 152.
Use of uninitialized value in substitution iterator at /home/perltest/.cpan/build/XML-SAX-Writer-0.53-jxAUm4/blib/lib/XML/SAX/Writer.pm line 152.
Use of uninitialized value in substitution iterator at /home/perltest/.cpan/build/XML-SAX-Writer-0.53-jxAUm4/blib/lib/XML/SAX/Writer.pm line 152.
Use of uninitialized value in substitution iterator at /home/perltest/.cpan/build/XML-SAX-Writer-0.53-jxAUm4/blib/lib/XML/SAX/Writer.pm line 152.
Use of uninitialized value in substitution iterator at /home/perltest/.cpan/build/XML-SAX-Writer-0.53-jxAUm4/blib/lib/XML/SAX/Writer.pm line 152.
Use of uninitialized value in substitution iterator at /home/perltest/.cpan/build/XML-SAX-Writer-0.53-jxAUm4/blib/lib/XML/SAX/Writer.pm line 152.
Use of uninitialized value in substitution iterator at /home/perltest/.cpan/build/XML-SAX-Writer-0.53-jxAUm4/blib/lib/XML/SAX/Writer.pm line 152.
Use of uninitialized value in substitution iterator at /home/perltest/.cpan/build/XML-SAX-Writer-0.53-jxAUm4/blib/lib/XML/SAX/Writer.pm line 152.
Use of uninitialized value in substitution iterator at /home/perltest/.cpan/build/XML-SAX-Writer-0.53-jxAUm4/blib/lib/XML/SAX/Writer.pm line 152.
Use of uninitialized value in substitution iterator at /home/perltest/.cpan/build/XML-SAX-Writer-0.53-jxAUm4/blib/lib/XML/SAX/Writer.pm line 152.
Use of uninitialized value in substitution iterator at /home/perltest/.cpan/build/XML-SAX-Writer-0.53-jxAUm4/blib/lib/XML/SAX/Writer.pm line 152.
Use of uninitialized value in substitution iterator at /home/perltest/.cpan/build/XML-SAX-Writer-0.53-jxAUm4/blib/lib/XML/SAX/Writer.pm line 152.
Use of uninitialized value in substitution iterator at /home/perltest/.cpan/build/XML-SAX-Writer-0.53-jxAUm4/blib/lib/XML/SAX/Writer.pm line 152.
Use of uninitialized value in substitution iterator at /home/perltest/.cpan/build/XML-SAX-Writer-0.53-jxAUm4/blib/lib/XML/SAX/Writer.pm line 152.
Use of uninitialized value in substitution iterator at /home/perltest/.cpan/build/XML-SAX-Writer-0.53-jxAUm4/blib/lib/XML/SAX/Writer.pm line 152.
Use of uninitialized value in substitution iterator at /home/perltest/.cpan/build/XML-SAX-Writer-0.53-jxAUm4/blib/lib/XML/SAX/Writer.pm line 152.
Use of uninitialized value $uri in concatenation (.) or string at /home/perltest/.cpan/build/XML-Filter-SAX1toSAX2-0.03-FQ_McZ/blib/lib/XML/Filter/SAX1toSAX2.pm line 81.
Use of uninitialized value in substitution iterator at /home/perltest/.cpan/build/XML-SAX-Writer-0.53-jxAUm4/blib/lib/XML/SAX/Writer.pm line 152.
Use of uninitialized value in substitution iterator at /home/perltest/.cpan/build/XML-SAX-Writer-0.53-jxAUm4/blib/lib/XML/SAX/Writer.pm line 152.
Use of uninitialized value in substitution iterator at /home/perltest/.cpan/build/XML-SAX-Writer-0.53-jxAUm4/blib/lib/XML/SAX/Writer.pm line 152.
Use of uninitialized value in substitution iterator at /home/perltest/.cpan/build/XML-SAX-Writer-0.53-jxAUm4/blib/lib/XML/SAX/Writer.pm line 152.
Use of uninitialized value in substitution iterator at /home/perltest/.cpan/build/XML-SAX-Writer-0.53-jxAUm4/blib/lib/XML/SAX/Writer.pm line 152.
Use of uninitialized value in substitution iterator at /home/perltest/.cpan/build/XML-SAX-Writer-0.53-jxAUm4/blib/lib/XML/SAX/Writer.pm line 152.
Use of uninitialized value in substitution iterator at /home/perltest/.cpan/build/XML-SAX-Writer-0.53-jxAUm4/blib/lib/XML/SAX/Writer.pm line 152.
Use of uninitialized value in substitution iterator at /home/perltest/.cpan/build/XML-SAX-Writer-0.53-jxAUm4/blib/lib/XML/SAX/Writer.pm line 152.
Use of uninitialized value in substitution iterator at /home/perltest/.cpan/build/XML-SAX-Writer-0.53-jxAUm4/blib/lib/XML/SAX/Writer.pm line 152.
Use of uninitialized value in substitution iterator at /home/perltest/.cpan/build/XML-SAX-Writer-0.53-jxAUm4/blib/lib/XML/SAX/Writer.pm line 152.
Use of uninitialized value in substitution iterator at /home/perltest/.cpan/build/XML-SAX-Writer-0.53-jxAUm4/blib/lib/XML/SAX/Writer.pm line 152.
Use of uninitialized value in substitution iterator at /home/perltest/.cpan/build/XML-SAX-Writer-0.53-jxAUm4/blib/lib/XML/SAX/Writer.pm line 152.
Use of uninitialized value in substitution iterator at /home/perltest/.cpan/build/XML-SAX-Writer-0.53-jxAUm4/blib/lib/XML/SAX/Writer.pm line 152.
Use of uninitialized value in substitution iterator at /home/perltest/.cpan/build/XML-SAX-Writer-0.53-jxAUm4/blib/lib/XML/SAX/Writer.pm line 152.
Use of uninitialized value in substitution iterator at /home/perltest/.cpan/build/XML-SAX-Writer-0.53-jxAUm4/blib/lib/XML/SAX/Writer.pm line 152.
Use of uninitialized value in substitution iterator at /home/perltest/.cpan/build/XML-SAX-Writer-0.53-jxAUm4/blib/lib/XML/SAX/Writer.pm line 152.
Use of uninitialized value in substitution iterator at /home/perltest/.cpan/build/XML-SAX-Writer-0.53-jxAUm4/blib/lib/XML/SAX/Writer.pm line 152.
Use of uninitialized value in substitution iterator at /home/perltest/.cpan/build/XML-SAX-Writer-0.53-jxAUm4/blib/lib/XML/SAX/Writer.pm line 152.
Use of uninitialized value in substitution iterator at /home/perltest/.cpan/build/XML-SAX-Writer-0.53-jxAUm4/blib/lib/XML/SAX/Writer.pm line 152.
Use of uninitialized value in substitution iterator at /home/perltest/.cpan/build/XML-SAX-Writer-0.53-jxAUm4/blib/lib/XML/SAX/Writer.pm line 152.
Use of uninitialized value in substitution iterator at /home/perltest/.cpan/build/XML-SAX-Writer-0.53-jxAUm4/blib/lib/XML/SAX/Writer.pm line 152.
Use of uninitialized value in substitution iterator at /home/perltest/.cpan/build/XML-SAX-Writer-0.53-jxAUm4/blib/lib/XML/SAX/Writer.pm line 152.
Use of uninitialized value in substitution iterator at /home/perltest/.cpan/build/XML-SAX-Writer-0.53-jxAUm4/blib/lib/XML/SAX/Writer.pm line 152.
Use of uninitialized value in substitution iterator at /home/perltest/.cpan/build/XML-SAX-Writer-0.53-jxAUm4/blib/lib/XML/SAX/Writer.pm line 152.
Use of uninitialized value in substitution iterator at /home/perltest/.cpan/build/XML-SAX-Writer-0.53-jxAUm4/blib/lib/XML/SAX/Writer.pm line 152.
Use of uninitialized value in substitution iterator at /home/perltest/.cpan/build/XML-SAX-Writer-0.53-jxAUm4/blib/lib/XML/SAX/Writer.pm line 152.
Use of uninitialized value in substitution iterator at /home/perltest/.cpan/build/XML-SAX-Writer-0.53-jxAUm4/blib/lib/XML/SAX/Writer.pm line 152.
Use of uninitialized value in substitution iterator at /home/perltest/.cpan/build/XML-SAX-Writer-0.53-jxAUm4/blib/lib/XML/SAX/Writer.pm line 152.
Use of uninitialized value in substitution iterator at /home/perltest/.cpan/build/XML-SAX-Writer-0.53-jxAUm4/blib/lib/XML/SAX/Writer.pm line 152.
Use of uninitialized value in substitution iterator at /home/perltest/.cpan/build/XML-SAX-Writer-0.53-jxAUm4/blib/lib/XML/SAX/Writer.pm line 152.
Use of uninitialized value in substitution iterator at /home/perltest/.cpan/build/XML-SAX-Writer-0.53-jxAUm4/blib/lib/XML/SAX/Writer.pm line 152.
Use of uninitialized value in substitution iterator at /home/perltest/.cpan/build/XML-SAX-Writer-0.53-jxAUm4/blib/lib/XML/SAX/Writer.pm line 152.
t/050.t ................... ok
t/060_ExtOn_skip_root.t ... ok
Use of uninitialized value in substitution iterator at /home/perltest/.cpan/build/XML-SAX-Writer-0.53-jxAUm4/blib/lib/XML/SAX/Writer.pm line 152.
Use of uninitialized value in substitution iterator at /home/perltest/.cpan/build/XML-SAX-Writer-0.53-jxAUm4/blib/lib/XML/SAX/Writer.pm line 152.
Use of uninitialized value in substitution iterator at /home/perltest/.cpan/build/XML-SAX-Writer-0.53-jxAUm4/blib/lib/XML/SAX/Writer.pm line 152.
t/070_characters_cdata.t .. ok
Use of uninitialized value in substitution iterator at /home/perltest/.cpan/build/XML-SAX-Writer-0.53-jxAUm4/blib/lib/XML/SAX/Writer.pm line 152.
Use of uninitialized value in substitution iterator at /home/perltest/.cpan/build/XML-SAX-Writer-0.53-jxAUm4/blib/lib/XML/SAX/Writer.pm line 152.
Use of uninitialized value in substitution iterator at /home/perltest/.cpan/build/XML-SAX-Writer-0.53-jxAUm4/blib/lib/XML/SAX/Writer.pm line 152.
Use of uninitialized value in substitution iterator at /home/perltest/.cpan/build/XML-SAX-Writer-0.53-jxAUm4/blib/lib/XML/SAX/Writer.pm line 152.
Use of uninitialized value in substitution iterator at /home/perltest/.cpan/build/XML-SAX-Writer-0.53-jxAUm4/blib/lib/XML/SAX/Writer.pm line 152.
Use of uninitialized value in substitution iterator at /home/perltest/.cpan/build/XML-SAX-Writer-0.53-jxAUm4/blib/lib/XML/SAX/Writer.pm line 152.
Use of uninitialized value in substitution iterator at /home/perltest/.cpan/build/XML-SAX-Writer-0.53-jxAUm4/blib/lib/XML/SAX/Writer.pm line 152.
t/080_create_pipe.t ....... ok
t/081_split_pipe.t ........ ok
t/090_add_content.t ....... ok
t/093_wrap_around.t ....... ok
All tests successful.
Files=11, Tests=81,  4 wallclock secs ( 0.20 usr  0.03 sys +  3.03 cusr  0.33 csys =  3.59 CPU)
Result: PASS

------------------------------
PREREQUISITES
------------------------------

Prerequisite modules loaded:

requires:

    Module                  Need Have  
    ----------------------- ---- ------
    Tie::UnionHash          0    0.02  
    XML::Filter::SAX1toSAX2 0    0.03  
    XML::Flow               0.85 0.86  
    XML::Parser::PerlSAX    0    0.08  
    XML::SAX                0    0.99  
    XML::SAX::Writer        0    0.53  

configure_requires:

    Module                  Need Have  
    ----------------------- ---- ------
    Module::Build           0.36 0.3800


------------------------------
ENVIRONMENT AND OTHER CONTEXT
------------------------------

Environment variables:

    AUTOMATED_TESTING = 1
    LANG = de_AT.UTF-8
    PATH = /home/perltest/perl5/perlbrew/bin:/home/perltest/perl5/perlbrew/perls/perl-5.14.2/bin:/usr/local/bin:/usr/bin:/bin:/usr/local/sbin:/usr/sbin:/sbin:/usr/share/java/apache-ant/bin:/usr/bin/site_perl:/usr/bin/vendor_perl:/usr/bin/core_perl:/opt/plan9/bin
    PATH_WITHOUT_PERLBREW = /usr/local/bin:/usr/bin:/bin:/usr/local/sbin:/usr/sbin:/sbin:/usr/share/java/apache-ant/bin:/usr/bin/site_perl:/usr/bin/vendor_perl:/usr/bin/core_perl:/opt/plan9/bin
    PERL5LIB = /home/perltest/.cpan/build/XML-Flow-0.86-u9RSNc/blib/arch:/home/perltest/.cpan/build/XML-Flow-0.86-u9RSNc/blib/lib:/home/perltest/.cpan/build/libxml-perl-0.08-Tnirw5/blib/arch:/home/perltest/.cpan/build/libxml-perl-0.08-Tnirw5/blib/lib:/home/perltest/.cpan/build/Tie-UnionHash-0.02-3z9AUE/blib/arch:/home/perltest/.cpan/build/Tie-UnionHash-0.02-3z9AUE/blib/lib:/home/perltest/.cpan/build/XML-Filter-SAX1toSAX2-0.03-FQ_McZ/blib/arch:/home/perltest/.cpan/build/XML-Filter-SAX1toSAX2-0.03-FQ_McZ/blib/lib:/home/perltest/.cpan/build/XML-SAX-Writer-0.53-jxAUm4/blib/arch:/home/perltest/.cpan/build/XML-SAX-Writer-0.53-jxAUm4/blib/lib:/home/perltest/.cpan/build/XML-Filter-BufferText-1.01-uJHOnq/blib/arch:/home/perltest/.cpan/build/XML-Filter-BufferText-1.01-uJHOnq/blib/lib:/home/perltest/.cpan/build/Test-Class-0.36-jxXZ45/blib/arch:/home/perltest/.cpan/build/Test-Class-0.36-jxXZ45/blib/lib
    PERL5OPT = 
    PERL5_CPANPLUS_IS_RUNNING = 9891
    PERL5_CPAN_IS_RUNNING = 9891
    PERL5_CPAN_IS_RUNNING_IN_RECURSION = 32441,9891
    PERLBREW_HOME = /home/perltest/.perlbrew
    PERLBREW_PATH = /home/perltest/perl5/perlbrew/bin:/home/perltest/perl5/perlbrew/perls/perl-5.14.2/bin
    PERLBREW_PERL = perl-5.14.2
    PERLBREW_ROOT = /home/perltest/perl5/perlbrew
    PERLBREW_VERSION = 0.29
    PERL_CR_SMOKER_CURRENT = Perl6-Pod-0.35
    PERL_EXTUTILS_AUTOINSTALL = --defaultdeps
    PERL_MM_USE_DEFAULT = 1
    SHELL = /bin/bash
    TERM = xterm-256color

Perl special variables (and OS-specific diagnostics, for MSWin32):

    $^X = /home/perltest/perl5/perlbrew/perls/perl-5.14.2/bin/perl
    $UID/$EUID = 1005 / 1005
    $GID = 1005 1005
    $EGID = 1005 1005

Perl module toolchain versions installed:

    Module              Have    
    ------------------- --------
    CPAN                1.9800  
    CPAN::Meta          2.112621
    Cwd                 3.36    
    ExtUtils::CBuilder  0.280203
    ExtUtils::Command   1.17    
    ExtUtils::Install   1.56    
    ExtUtils::MakeMaker 6.62    
    ExtUtils::Manifest  1.60    
    ExtUtils::ParseXS   3.05    
    File::Spec          3.33    
    JSON                2.53    
    JSON::PP            2.27200 
    Module::Build       0.3800  
    Module::Signature   n/a     
    Parse::CPAN::Meta   1.4401  
    Test::Harness       3.23    
    Test::More          0.98    
    YAML                0.77    
    YAML::Syck          1.17    
    version             0.94    


--

Summary of my perl5 (revision 5 version 14 subversion 2) configuration:
   
  Platform:
    osname=linux, osvers=3.0-arch, archname=i686-linux
    uname='linux one 3.0-arch #1 smp preempt fri oct 7 10:11:05 utc 2011 i686 intel(r) atom(tm) cpu n270 @ 1.60ghz genuineintel gnulinux '
    config_args='-de -Dprefix=/home/perltest/perl5/perlbrew/perls/perl-5.14.2'
    hint=recommended, useposix=true, d_sigaction=define
    useithreads=undef, usemultiplicity=undef
    useperlio=define, d_sfio=undef, uselargefiles=define, usesocks=undef
    use64bitint=undef, use64bitall=undef, uselongdouble=undef
    usemymalloc=n, bincompat5005=undef
  Compiler:
    cc='cc', ccflags ='-fno-strict-aliasing -pipe -fstack-protector -I/usr/local/include -D_LARGEFILE_SOURCE -D_FILE_OFFSET_BITS=64',
    optimize='-O2',
    cppflags='-fno-strict-aliasing -pipe -fstack-protector -I/usr/local/include'
    ccversion='', gccversion='4.6.1 20110819 (prerelease)', gccosandvers=''
    intsize=4, longsize=4, ptrsize=4, doublesize=8, byteorder=1234
    d_longlong=define, longlongsize=8, d_longdbl=define, longdblsize=12
    ivtype='long', ivsize=4, nvtype='double', nvsize=8, Off_t='off_t', lseeksize=8
    alignbytes=4, prototype=define
  Linker and Libraries:
    ld='cc', ldflags =' -fstack-protector -L/usr/local/lib'
    libpth=/usr/local/lib /lib /usr/lib
    libs=-lnsl -lgdbm -ldb -ldl -lm -lcrypt -lutil -lc -lgdbm_compat
    perllibs=-lnsl -ldl -lm -lcrypt -lutil -lc
    libc=/lib/libc-2.14.so, so=so, useshrplib=false, libperl=libperl.a
    gnulibc_version='2.14'
  Dynamic Linking:
    dlsrc=dl_dlopen.xs, dlext=so, d_dlsymun=undef, ccdlflags='-Wl,-E'
    cccdlflags='-fPIC', lddlflags='-shared -O2 -L/usr/local/lib -fstack-protector'


Characteristics of this binary (from libperl): 
  Compile-time options: PERL_DONT_CREATE_GVSV PERL_MALLOC_WRAP
                        PERL_PRESERVE_IVUV USE_LARGE_FILES USE_PERLIO
                        USE_PERL_ATOF
  Built under linux
  Compiled at Oct 12 2011 20:15:11
  %ENV:
    PERL5LIB="/home/perltest/.cpan/build/XML-Flow-0.86-u9RSNc/blib/arch:/home/perltest/.cpan/build/XML-Flow-0.86-u9RSNc/blib/lib:/home/perltest/.cpan/build/libxml-perl-0.08-Tnirw5/blib/arch:/home/perltest/.cpan/build/libxml-perl-0.08-Tnirw5/blib/lib:/home/perltest/.cpan/build/Tie-UnionHash-0.02-3z9AUE/blib/arch:/home/perltest/.cpan/build/Tie-UnionHash-0.02-3z9AUE/blib/lib:/home/perltest/.cpan/build/XML-Filter-SAX1toSAX2-0.03-FQ_McZ/blib/arch:/home/perltest/.cpan/build/XML-Filter-SAX1toSAX2-0.03-FQ_McZ/blib/lib:/home/perltest/.cpan/build/XML-SAX-Writer-0.53-jxAUm4/blib/arch:/home/perltest/.cpan/build/XML-SAX-Writer-0.53-jxAUm4/blib/lib:/home/perltest/.cpan/build/XML-Filter-BufferText-1.01-uJHOnq/blib/arch:/home/perltest/.cpan/build/XML-Filter-BufferText-1.01-uJHOnq/blib/lib:/home/perltest/.cpan/build/Test-Class-0.36-jxXZ45/blib/arch:/home/perltest/.cpan/build/Test-Class-0.36-jxXZ45/blib/lib"
    PERL5OPT=""
    PERL5_CPANPLUS_IS_RUNNING="9891"
    PERL5_CPAN_IS_RUNNING="9891"
    PERL5_CPAN_IS_RUNNING_IN_RECURSION="32441,9891"
    PERLBREW_HOME="/home/perltest/.perlbrew"
    PERLBREW_PATH="/home/perltest/perl5/perlbrew/bin:/home/perltest/perl5/perlbrew/perls/perl-5.14.2/bin"
    PERLBREW_PERL="perl-5.14.2"
    PERLBREW_ROOT="/home/perltest/perl5/perlbrew"
    PERLBREW_VERSION="0.29"
    PERL_CR_SMOKER_CURRENT="Perl6-Pod-0.35"
    PERL_EXTUTILS_AUTOINSTALL="--defaultdeps"
    PERL_MM_USE_DEFAULT="1"
  @INC:
    /home/perltest/.cpan/build/XML-Flow-0.86-u9RSNc/blib/arch
    /home/perltest/.cpan/build/XML-Flow-0.86-u9RSNc/blib/lib
    /home/perltest/.cpan/build/libxml-perl-0.08-Tnirw5/blib/arch
    /home/perltest/.cpan/build/libxml-perl-0.08-Tnirw5/blib/lib
    /home/perltest/.cpan/build/Tie-UnionHash-0.02-3z9AUE/blib/arch
    /home/perltest/.cpan/build/Tie-UnionHash-0.02-3z9AUE/blib/lib
    /home/perltest/.cpan/build/XML-Filter-SAX1toSAX2-0.03-FQ_McZ/blib/arch
    /home/perltest/.cpan/build/XML-Filter-SAX1toSAX2-0.03-FQ_McZ/blib/lib
    /home/perltest/.cpan/build/XML-SAX-Writer-0.53-jxAUm4/blib/arch
    /home/perltest/.cpan/build/XML-SAX-Writer-0.53-jxAUm4/blib/lib
    /home/perltest/.cpan/build/XML-Filter-BufferText-1.01-uJHOnq/blib/arch
    /home/perltest/.cpan/build/XML-Filter-BufferText-1.01-uJHOnq/blib/lib
    /home/perltest/.cpan/build/Test-Class-0.36-jxXZ45/blib/arch
    /home/perltest/.cpan/build/Test-Class-0.36-jxXZ45/blib/lib
    /home/perltest/perl5/perlbrew/perls/perl-5.14.2/lib/site_perl/5.14.2/i686-linux
    /home/perltest/perl5/perlbrew/perls/perl-5.14.2/lib/site_perl/5.14.2
    /home/perltest/perl5/perlbrew/perls/perl-5.14.2/lib/5.14.2/i686-linux
    /home/perltest/perl5/perlbrew/perls/perl-5.14.2/lib/5.14.2
    .