Format-Util v0.13 Perl 5 v5.18.4 amd64-freebsd
- Status
- Pass
- From
- Slaven Rezić (SREZIC)
- Dist
-
Format-Util v0.13
- Platform
- Perl 5 v5.18.4 amd64-freebsd
- Date
- 2017-12-21 07:31:53
- ID
- 045582ba-e621-11e7-b75a-cb5d3b92a4ed
This distribution has been tested as part of the CPAN Testers
project, supporting the Perl programming language. See
http://wiki.cpantesters.org/ for more information or email
questions to cpan-testers-discuss@perl.org
--
Dear Binary.com,
This is a computer-generated report for Format-Util-0.13
on perl 5.18.4, created by CPAN-Reporter-1.2018.
Thank you for uploading your work to CPAN. Congratulations!
All tests were successful.
Sections of this report:
* Tester comments
* Program output
* Prerequisites
* Environment and other context
------------------------------
TESTER COMMENTS
------------------------------
Additional comments from tester:
none provided
------------------------------
PROGRAM OUTPUT
------------------------------
Output from '/usr/bin/make test':
Skip blib/lib/auto/share/dist/Format-Util/precision.yml (unchanged)
PERL_DL_NONLAZY=1 "/usr/perl5.18.4p/bin/perl" "-MExtUtils::Command::MM" "-MTest::Harness" "-e" "undef *Test::Harness::Switches; test_harness(0, 'blib/lib', 'blib/arch')" t/*.t
t/00-check-deps.t ...... ok
t/00-compile.t ......... ok
#
# Versions for all modules listed in MYMETA.json (including optional ones):
#
# === Configure Requires ===
#
# Module Want Have
# ----------------------- ---- ----
# ExtUtils::MakeMaker 6.48 7.30
# File::ShareDir::Install 0.06 0.11
#
# === Build Requires ===
#
# Module Want Have
# ------------------- ---- ----
# ExtUtils::MakeMaker any 7.30
#
# === Test Requires ===
#
# Module Want Have
# ------------------- ----- --------
# ExtUtils::MakeMaker any 7.30
# File::Spec any 3.40
# IO::Handle any 1.34
# IPC::Open3 any 1.13
# Test::CheckDeps 0.010 0.010
# Test::Exception any 0.43
# Test::More 0.94 1.302120
# Test::NoWarnings any 1.04
#
# === Test Recommends ===
#
# Module Want Have
# ---------- -------- --------
# CPAN::Meta 2.120900 2.150010
#
# === Runtime Requires ===
#
# Module Want Have
# -------------- ---- --------
# Encode any 2.93
# File::ShareDir any 1.104
# Math::BigFloat any 1.999811
# Math::BigInt any 1.999811
# POSIX any 1.32
# Scalar::Util any 1.49
# YAML::XS any 0.68
#
t/00-report-prereqs.t .. ok
t/boilerplate.t ........ ok
t/Numbers.t ............ ok
t/Strings.t ............ ok
All tests successful.
Test Summary Report
-------------------
t/boilerplate.t (Wstat: 0 Tests: 3 Failed: 0)
TODO passed: 1-2
Files=6, Tests=38, 3 wallclock secs ( 0.07 usr 0.02 sys + 0.84 cusr 0.49 csys = 1.42 CPU)
Result: PASS
------------------------------
PREREQUISITES
------------------------------
Prerequisite modules loaded:
requires:
Module Need Have
----------------------- -------- --------
Encode 0 2.93
File::ShareDir 0 1.104
Math::BigFloat 0 1.999811
Math::BigInt 0 1.999811
perl 5.014000 5.018004
POSIX 0 1.32
Scalar::Util 0 1.49
YAML::XS 0 0.68
build_requires:
Module Need Have
----------------------- -------- --------
ExtUtils::MakeMaker 0 7.30
File::Spec 0 3.40
IO::Handle 0 1.34
IPC::Open3 0 1.13
Test::CheckDeps 0.010 0.010
Test::Exception 0 0.43
Test::More 0.94 1.302120
Test::NoWarnings 0 1.04
configure_requires:
Module Need Have
----------------------- -------- --------
ExtUtils::MakeMaker 6.48 7.30
File::ShareDir::Install 0.06 0.11
------------------------------
ENVIRONMENT AND OTHER CONTEXT
------------------------------
Environment variables:
PATH = /usr/local/bin:/usr/bin:/bin:/usr/local/sbin:/usr/sbin:/sbin:/home/cpansand/bin/freebsd12.0:/home/cpansand/bin/sh:/home/cpansand/bin:/usr/games:/home/cpansand/devel:/home/eserte/src/srezic-misc/scripts
PERL5LIB = /home/cpansand/.cpan/build/2017122115/Tie-Hash-LRU-0.05-ixFXPA/blib/arch:/home/cpansand/.cpan/build/2017122115/Tie-Hash-LRU-0.05-ixFXPA/blib/lib:/home/cpansand/.cpan/build/2017122115/Time-Piece-1.3203-ho7H2x/blib/arch:/home/cpansand/.cpan/build/2017122115/Time-Piece-1.3203-ho7H2x/blib/lib:/home/cpansand/.cpan/build/2017122115/Math-Util-CalculatedValue-0.07-aDC5Zg/blib/arch:/home/cpansand/.cpan/build/2017122115/Math-Util-CalculatedValue-0.07-aDC5Zg/blib/lib:/home/cpansand/.cpan/build/2017122115/MooseX-Role-Validatable-0.10-WRMyqF/blib/arch:/home/cpansand/.cpan/build/2017122115/MooseX-Role-Validatable-0.10-WRMyqF/blib/lib:/home/cpansand/.cpan/build/2017122115/WWW-Shorten-URLchen-v0.0.4-4kmhNk/blib/arch:/home/cpansand/.cpan/build/2017122115/WWW-Shorten-URLchen-v0.0.4-4kmhNk/blib/lib:/home/cpansand/.cpan/build/2017122115/WWW-Shorten-3.093-9j1I9J/blib/arch:/home/cpansand/.cpan/build/2017122115/WWW-Shorten-3.093-9j1I9J/blib/lib
PERL5OPT =
PERL5_CPANPLUS_IS_RUNNING = 87925
PERL5_CPAN_IS_RUNNING = 87925
PERL5_CPAN_IS_RUNNING_IN_RECURSION = 87783,87925
PERLDOC = -MPod::Perldoc::ToTextOverstrike
PERL_BATCH = yes
PERL_CANARY_STABILITY_NOPROMPT = 1
PERL_CPAN_REPORTER_CONFIG = /var/tmp/cpansmoker-1023/2017122115/cpanreporter_000_config.ini
PERL_EXTUTILS_AUTOINSTALL = --defaultdeps
SHELL = /usr/local/bin/zsh
TERM = screen
TMPDIR = /var/tmp/cpansmoker-1023/2017122115
Perl special variables (and OS-specific diagnostics, for MSWin32):
$^X = /usr/perl5.18.4p/bin/perl
$UID/$EUID = 1023 / 1023
$GID = 1023 1023
$EGID = 1023 1023
Perl module toolchain versions installed:
Module Have
------------------- --------
CPAN 2.00
CPAN::Meta 2.150010
Cwd 3.40
ExtUtils::CBuilder 0.280230
ExtUtils::Command 7.30
ExtUtils::Install 2.06
ExtUtils::MakeMaker 7.30
ExtUtils::Manifest 1.70
ExtUtils::ParseXS 3.35
File::Spec 3.40
JSON 2.94
JSON::PP 2.94
Module::Build 0.4224
Module::Signature 0.81
Parse::CPAN::Meta 2.150010
Test::Harness 3.39
Test::More 1.302120
YAML 1.24
YAML::Syck 1.30
version 0.9918
--
Summary of my perl5 (revision 5 version 18 subversion 4) configuration:
Platform:
osname=freebsd, osvers=12.0-current, archname=amd64-freebsd
uname='freebsd ali1.bbbike.org 12.0-current freebsd 12.0-current #0 bd8385a990e(master)-dirty: fri nov 17 03:13:11 utc 2017 root@ali1.bbbike.org:usrobjhomeprojectsfreebsdamd64.amd64sysgeneric-nodebug amd64 '
config_args='-ds -e -Dprefix=/usr/perl5.18.4p -Dcf_email=srezic@cpan.org -Doptimize=-O2 -pipe'
hint=recommended, useposix=true, d_sigaction=define
useithreads=undef, usemultiplicity=undef
useperlio=define, d_sfio=undef, uselargefiles=define, usesocks=undef
use64bitint=define, use64bitall=define, uselongdouble=undef
usemymalloc=n, bincompat5005=undef
Compiler:
cc='cc', ccflags ='-DHAS_FPSETMASK -DHAS_FLOATINGPOINT_H -fno-strict-aliasing -pipe -fstack-protector -I/usr/local/include',
optimize='-O2 -pipe',
cppflags='-DHAS_FPSETMASK -DHAS_FLOATINGPOINT_H -fno-strict-aliasing -pipe -fstack-protector -I/usr/local/include'
ccversion='', gccversion='4.2.1 Compatible FreeBSD Clang 5.0.0 (tags/RELEASE_500/final 312559)', gccosandvers=''
intsize=4, longsize=8, ptrsize=8, doublesize=8, byteorder=12345678
d_longlong=define, longlongsize=8, d_longdbl=define, longdblsize=16
ivtype='long', ivsize=8, nvtype='double', nvsize=8, Off_t='off_t', lseeksize=8
alignbytes=8, prototype=define
Linker and Libraries:
ld='cc', ldflags ='-pthread -Wl,-E -fstack-protector -L/usr/local/lib'
libpth=/usr/lib /usr/local/lib
libs=-lgdbm -lm -lcrypt -lutil -lc
perllibs=-lm -lcrypt -lutil -lc
libc=, so=so, useshrplib=false, libperl=libperl.a
gnulibc_version=''
Dynamic Linking:
dlsrc=dl_dlopen.xs, dlext=so, d_dlsymun=undef, ccdlflags=' '
cccdlflags='-DPIC -fPIC', lddlflags='-shared -L/usr/local/lib -fstack-protector'
Characteristics of this binary (from libperl):
Compile-time options: HAS_TIMES PERLIO_LAYERS PERL_DONT_CREATE_GVSV
PERL_HASH_FUNC_ONE_AT_A_TIME_HARD PERL_MALLOC_WRAP
PERL_PRESERVE_IVUV PERL_SAWAMPERSAND USE_64_BIT_ALL
USE_64_BIT_INT USE_LARGE_FILES USE_LOCALE
USE_LOCALE_COLLATE USE_LOCALE_CTYPE
USE_LOCALE_NUMERIC USE_PERLIO USE_PERL_ATOF
Built under freebsd
Compiled at Nov 17 2017 06:44:20
%ENV:
PERL5LIB="/home/cpansand/.cpan/build/2017122115/Tie-Hash-LRU-0.05-ixFXPA/blib/arch:/home/cpansand/.cpan/build/2017122115/Tie-Hash-LRU-0.05-ixFXPA/blib/lib:/home/cpansand/.cpan/build/2017122115/Time-Piece-1.3203-ho7H2x/blib/arch:/home/cpansand/.cpan/build/2017122115/Time-Piece-1.3203-ho7H2x/blib/lib:/home/cpansand/.cpan/build/2017122115/Math-Util-CalculatedValue-0.07-aDC5Zg/blib/arch:/home/cpansand/.cpan/build/2017122115/Math-Util-CalculatedValue-0.07-aDC5Zg/blib/lib:/home/cpansand/.cpan/build/2017122115/MooseX-Role-Validatable-0.10-WRMyqF/blib/arch:/home/cpansand/.cpan/build/2017122115/MooseX-Role-Validatable-0.10-WRMyqF/blib/lib:/home/cpansand/.cpan/build/2017122115/WWW-Shorten-URLchen-v0.0.4-4kmhNk/blib/arch:/home/cpansand/.cpan/build/2017122115/WWW-Shorten-URLchen-v0.0.4-4kmhNk/blib/lib:/home/cpansand/.cpan/build/2017122115/WWW-Shorten-3.093-9j1I9J/blib/arch:/home/cpansand/.cpan/build/2017122115/WWW-Shorten-3.093-9j1I9J/blib/lib"
PERL5OPT=""
PERL5_CPANPLUS_IS_RUNNING="87925"
PERL5_CPAN_IS_RUNNING="87925"
PERL5_CPAN_IS_RUNNING_IN_RECURSION="87783,87925"
PERLDOC="-MPod::Perldoc::ToTextOverstrike"
PERL_BATCH="yes"
PERL_CANARY_STABILITY_NOPROMPT="1"
PERL_CPAN_REPORTER_CONFIG="/var/tmp/cpansmoker-1023/2017122115/cpanreporter_000_config.ini"
PERL_EXTUTILS_AUTOINSTALL="--defaultdeps"
@INC:
/home/cpansand/.cpan/build/2017122115/Tie-Hash-LRU-0.05-ixFXPA/blib/arch
/home/cpansand/.cpan/build/2017122115/Tie-Hash-LRU-0.05-ixFXPA/blib/lib
/home/cpansand/.cpan/build/2017122115/Time-Piece-1.3203-ho7H2x/blib/arch
/home/cpansand/.cpan/build/2017122115/Time-Piece-1.3203-ho7H2x/blib/lib
/home/cpansand/.cpan/build/2017122115/Math-Util-CalculatedValue-0.07-aDC5Zg/blib/arch
/home/cpansand/.cpan/build/2017122115/Math-Util-CalculatedValue-0.07-aDC5Zg/blib/lib
/home/cpansand/.cpan/build/2017122115/MooseX-Role-Validatable-0.10-WRMyqF/blib/arch
/home/cpansand/.cpan/build/2017122115/MooseX-Role-Validatable-0.10-WRMyqF/blib/lib
/home/cpansand/.cpan/build/2017122115/WWW-Shorten-URLchen-v0.0.4-4kmhNk/blib/arch
/home/cpansand/.cpan/build/2017122115/WWW-Shorten-URLchen-v0.0.4-4kmhNk/blib/lib
/home/cpansand/.cpan/build/2017122115/WWW-Shorten-3.093-9j1I9J/blib/arch
/home/cpansand/.cpan/build/2017122115/WWW-Shorten-3.093-9j1I9J/blib/lib
/usr/perl5.18.4p/lib/site_perl/5.18.4/amd64-freebsd
/usr/perl5.18.4p/lib/site_perl/5.18.4
/usr/perl5.18.4p/lib/5.18.4/amd64-freebsd
/usr/perl5.18.4p/lib/5.18.4
.