Report for Data-Collector-0.15

Back
From: metabase:user:320bfe00-2aae-11df-837a-5e0a49663a4f
Subject: PASS Data-Collector-0.15 v5.25.9 GNU/Linux
Date: 2016-12-25T19:47:50Z

This distribution has been tested as part of the CPAN Testers
project, supporting the Perl programming language.  See
http://wiki.cpantesters.org/ for more information or email
questions to cpan-testers-discuss@perl.org


--
Dear Sawyer X,

This is a computer-generated report for Data-Collector-0.15
on perl 5.25.9, created by CPAN-Reporter-1.2018.

Thank you for uploading your work to CPAN.  Congratulations!
All tests were successful.

Sections of this report:

    * Tester comments
    * Program output
    * Prerequisites
    * Environment and other context

------------------------------
TESTER COMMENTS
------------------------------

Additional comments from tester:

this report is from an automated smoke testing program
and was not reviewed by a human for accuracy

------------------------------
PROGRAM OUTPUT
------------------------------

Output from './Build test':

t/00-compile.t ........................ ok
# Testing Data::Collector 0.15, Perl 5.025009, /tmp/basesmoker-reloperl-aOpX/bin/perl
t/00-load.t ........................... ok
t/collector/collect.t ................. ok
t/collector/nonexistent_engine.t ...... ok
t/collector/nonexistent_serializer.t .. ok
t/engine/basic.t ...................... ok
Use of uninitialized value in numeric eq (==) at /home/sand/src/perl/repoperls/installed-perls/host/k93msid/v5.25.8-73-g22f0498f72/f11c/lib/site_perl/5.25.9/Net/OpenSSH.pm line 732.
Use of uninitialized value in numeric eq (==) at /home/sand/src/perl/repoperls/installed-perls/host/k93msid/v5.25.8-73-g22f0498f72/f11c/lib/site_perl/5.25.9/Net/OpenSSH.pm line 734.
Use of uninitialized value in numeric ne (!=) at /home/sand/src/perl/repoperls/installed-perls/host/k93msid/v5.25.8-73-g22f0498f72/f11c/lib/site_perl/5.25.9/Net/OpenSSH.pm line 983.
	(in cleanup) Can't use an undefined value as an ARRAY reference at /home/sand/src/perl/repoperls/installed-perls/host/k93msid/v5.25.8-73-g22f0498f72/f11c/lib/site_perl/5.25.9/Net/OpenSSH.pm line 121.
Use of uninitialized value in numeric eq (==) at /home/sand/src/perl/repoperls/installed-perls/host/k93msid/v5.25.8-73-g22f0498f72/f11c/lib/site_perl/5.25.9/Net/OpenSSH.pm line 732.
Use of uninitialized value in numeric eq (==) at /home/sand/src/perl/repoperls/installed-perls/host/k93msid/v5.25.8-73-g22f0498f72/f11c/lib/site_perl/5.25.9/Net/OpenSSH.pm line 734.
Use of uninitialized value in numeric ne (!=) at /home/sand/src/perl/repoperls/installed-perls/host/k93msid/v5.25.8-73-g22f0498f72/f11c/lib/site_perl/5.25.9/Net/OpenSSH.pm line 983.
	(in cleanup) Can't use an undefined value as an ARRAY reference at /home/sand/src/perl/repoperls/installed-perls/host/k93msid/v5.25.8-73-g22f0498f72/f11c/lib/site_perl/5.25.9/Net/OpenSSH.pm line 121.
Use of uninitialized value in numeric eq (==) at /home/sand/src/perl/repoperls/installed-perls/host/k93msid/v5.25.8-73-g22f0498f72/f11c/lib/site_perl/5.25.9/Net/OpenSSH.pm line 732.
Use of uninitialized value in numeric eq (==) at /home/sand/src/perl/repoperls/installed-perls/host/k93msid/v5.25.8-73-g22f0498f72/f11c/lib/site_perl/5.25.9/Net/OpenSSH.pm line 734.
Use of uninitialized value in numeric ne (!=) at /home/sand/src/perl/repoperls/installed-perls/host/k93msid/v5.25.8-73-g22f0498f72/f11c/lib/site_perl/5.25.9/Net/OpenSSH.pm line 983.
	(in cleanup) Can't use an undefined value as an ARRAY reference at /home/sand/src/perl/repoperls/installed-perls/host/k93msid/v5.25.8-73-g22f0498f72/f11c/lib/site_perl/5.25.9/Net/OpenSSH.pm line 121.
t/engine/openssh.t .................... ok
t/engine/subclassing.t ................ ok
t/info/base.t ......................... ok
t/info/reserved_keys.t ................ ok
t/release-pod-syntax.t ................ skipped: these tests are for release candidate testing
t/serializers/json.t .................. ok
All tests successful.
Files=12, Tests=72,  6 wallclock secs ( 0.04 usr  0.10 sys +  5.07 cusr  0.78 csys =  5.99 CPU)
Result: PASS

------------------------------
PREREQUISITES
------------------------------

Prerequisite modules loaded:

requires:

    Module                     Need   Have    
    -------------------------- ------ --------
    Carp                       0      1.42    
    Class::Load                0      0.23    
    Data::Dumper               0      2.166   
    File::HomeDir              0      1.00    
    File::Spec                 0      3.66    
    indirect                   0      0.37    
    IPC::System::Simple        0      1.25    
    JSON                       0      2.90    
    List::MoreUtils            0      0.416   
    List::Util                 0      1.47    
    Module::Pluggable::Object  0      5.2     
    Moose                      0      2.1807  
    Moose::Role                0      2.1807  
    MooseX::Getopt::Dashes     0      0.71    
    MooseX::SimpleConfig       0      0.11    
    MooseX::Types::Path::Class 0      0.09    
    MooseX::Types::Set::Object 0      0.05    
    namespace::autoclean       0      0.28    
    Net::OpenSSH               0      0.73    
    Set::Object                0      1.35    
    strictures                 1      2.000003
    YAML                       0      1.21    

build_requires:

    Module                     Need   Have    
    -------------------------- ------ --------
    File::Find                 0      1.34    
    File::Temp                 0      0.2304  
    Module::Build              0.3601 0.4220  
    strict                     0      1.11    
    Sub::Override              0      0.09    
    Test::Fatal                0      0.014   
    Test::More                 0      1.302073
    warnings                   0      1.37    

configure_requires:

    Module                     Need   Have    
    -------------------------- ------ --------
    ExtUtils::MakeMaker        6.30   7.24    
    Module::Build              0.3601 0.4220  


------------------------------
ENVIRONMENT AND OTHER CONTEXT
------------------------------

Environment variables:

    AUTOMATED_TESTING = 1
    LANG = C
    PATH = /home/sand/bin:/usr/local/bin:/usr/bin:/bin:/usr/games:/usr/local/perl/bin:/usr/X11/bin:/sbin:/usr/sbin
    PERL5LIB = /tmp/loop_over_bdir-23043-ijgpVq/FusionInventory-Agent-2.3.18-0/blib/arch:/tmp/loop_over_bdir-23043-ijgpVq/FusionInventory-Agent-2.3.18-0/blib/lib
    PERL5OPT = 
    PERL5_CPANPLUS_IS_RUNNING = 20757
    PERL5_CPAN_IS_RUNNING = 20757
    PERL_CANARY_STABILITY_NOPROMPT = 1
    PERL_MM_USE_DEFAULT = 1
    SHELL = /usr/bin/zsh
    TERM = screen

Perl special variables (and OS-specific diagnostics, for MSWin32):

    $^X = /tmp/basesmoker-reloperl-aOpX/bin/perl
    $UID/$EUID = 1005 / 1005
    $GID = 1005 1005
    $EGID = 1005 1005

Perl module toolchain versions installed:

    Module              Have      
    ------------------- ----------
    CPAN                2.15      
    CPAN::Meta          2.150010  
    Cwd                 3.66      
    ExtUtils::CBuilder  0.280225  
    ExtUtils::Command   7.24      
    ExtUtils::Install   2.04      
    ExtUtils::MakeMaker 7.24      
    ExtUtils::Manifest  1.70      
    ExtUtils::ParseXS   3.33      
    File::Spec          3.66      
    JSON                2.90      
    JSON::PP            2.27400_02
    Module::Build       0.4220    
    Module::Signature   0.81      
    Parse::CPAN::Meta   2.150010  
    Test::Harness       3.36_01   
    Test::More          1.302073  
    YAML                1.21      
    YAML::Syck          1.29      
    version             0.9917    


--

Summary of my perl5 (revision 5 version 25 subversion 9) configuration:
  Commit id: 22f0498f72a6bf8a084f17bd4b25c95510366658
  Platform:
    osname=linux
    osvers=4.8.0-2-amd64
    archname=x86_64-linux-thread-multi
    uname='linux k93msid 4.8.0-2-amd64 #1 smp debian 4.8.11-1 (2016-12-02) x86_64 gnulinux '
    config_args='-Dprefix=/home/sand/src/perl/repoperls/installed-perls/host/k93msid/v5.25.8-73-g22f0498f72/f11c -Dmyhostname=k93msid -Dinstallusrbinperl=n -Uversiononly -Dusedevel -des -Ui_db -Dlibswanted=cl pthread socket inet nsl gdbm dbm malloc dl ld sun m crypt sec util c cposix posix ucb BSD gdbm_compat -Duseithreads -Uuselongdouble -DDEBUGGING=-g'
    hint=recommended
    useposix=true
    d_sigaction=define
    useithreads=define
    usemultiplicity=define
    use64bitint=define
    use64bitall=define
    uselongdouble=undef
    usemymalloc=n
    bincompat5005=undef
  Compiler:
    cc='cc'
    ccflags ='-D_REENTRANT -D_GNU_SOURCE -fwrapv -fno-strict-aliasing -pipe -fstack-protector-strong -I/usr/local/include -D_LARGEFILE_SOURCE -D_FILE_OFFSET_BITS=64'
    optimize='-O2 -g'
    cppflags='-D_REENTRANT -D_GNU_SOURCE -fwrapv -fno-strict-aliasing -pipe -fstack-protector-strong -I/usr/local/include'
    ccversion=''
    gccversion='6.2.1 20161124'
    gccosandvers=''
    intsize=4
    longsize=8
    ptrsize=8
    doublesize=8
    byteorder=12345678
    doublekind=3
    d_longlong=define
    longlongsize=8
    d_longdbl=define
    longdblsize=16
    longdblkind=3
    ivtype='long'
    ivsize=8
    nvtype='double'
    nvsize=8
    Off_t='off_t'
    lseeksize=8
    alignbytes=8
    prototype=define
  Linker and Libraries:
    ld='cc'
    ldflags =' -fstack-protector-strong -L/usr/local/lib'
    libpth=/usr/local/lib /usr/lib/gcc/x86_64-linux-gnu/6/include-fixed /usr/include/x86_64-linux-gnu /usr/lib /lib/x86_64-linux-gnu /lib/../lib /usr/lib/x86_64-linux-gnu /usr/lib/../lib /lib
    libs=-lpthread -lnsl -ldl -lm -lcrypt -lutil -lc
    perllibs=-lpthread -lnsl -ldl -lm -lcrypt -lutil -lc
    libc=libc-2.24.so
    so=so
    useshrplib=false
    libperl=libperl.a
    gnulibc_version='2.24'
  Dynamic Linking:
    dlsrc=dl_dlopen.xs
    dlext=so
    d_dlsymun=undef
    ccdlflags='-Wl,-E'
    cccdlflags='-fPIC'
    lddlflags='-shared -O2 -g -L/usr/local/lib -fstack-protector-strong'


Characteristics of this binary (from libperl): 
  Compile-time options:
    HAS_TIMES
    MULTIPLICITY
    PERLIO_LAYERS
    PERL_COPY_ON_WRITE
    PERL_DONT_CREATE_GVSV
    PERL_IMPLICIT_CONTEXT
    PERL_MALLOC_WRAP
    PERL_OP_PARENT
    PERL_PRESERVE_IVUV
    PERL_USE_DEVEL
    USE_64_BIT_ALL
    USE_64_BIT_INT
    USE_ITHREADS
    USE_LARGE_FILES
    USE_LOCALE
    USE_LOCALE_COLLATE
    USE_LOCALE_CTYPE
    USE_LOCALE_NUMERIC
    USE_LOCALE_TIME
    USE_PERLIO
    USE_PERL_ATOF
    USE_REENTRANT_API
  Built under linux
  Compiled at Dec 25 2016 00:33:24
  %ENV:
    PERL5LIB="/tmp/loop_over_bdir-23043-ijgpVq/FusionInventory-Agent-2.3.18-0/blib/arch:/tmp/loop_over_bdir-23043-ijgpVq/FusionInventory-Agent-2.3.18-0/blib/lib"
    PERL5OPT=""
    PERL5_CPANPLUS_IS_RUNNING="20757"
    PERL5_CPAN_IS_RUNNING="20757"
    PERL_CANARY_STABILITY_NOPROMPT="1"
    PERL_MM_USE_DEFAULT="1"
  @INC:
    /tmp/loop_over_bdir-23043-ijgpVq/FusionInventory-Agent-2.3.18-0/blib/arch
    /tmp/loop_over_bdir-23043-ijgpVq/FusionInventory-Agent-2.3.18-0/blib/lib
    /home/sand/src/perl/repoperls/installed-perls/host/k93msid/v5.25.8-73-g22f0498f72/f11c/lib/site_perl/5.25.9/x86_64-linux-thread-multi
    /home/sand/src/perl/repoperls/installed-perls/host/k93msid/v5.25.8-73-g22f0498f72/f11c/lib/site_perl/5.25.9
    /home/sand/src/perl/repoperls/installed-perls/host/k93msid/v5.25.8-73-g22f0498f72/f11c/lib/5.25.9/x86_64-linux-thread-multi
    /home/sand/src/perl/repoperls/installed-perls/host/k93msid/v5.25.8-73-g22f0498f72/f11c/lib/5.25.9
    .