String-Errf v0.009 Perl 5 v5.40.2 MSWin32-x64-multi-thread

Status
Pass
From
twata
Dist
String-Errf v0.009
Platform
Perl 5 v5.40.2 MSWin32-x64-multi-thread
Date
2025-08-31 01:27:21
ID
047da450-6f6c-1014-8029-cf5dacb63ec2
This distribution has been tested as part of the CPAN Testers
project, supporting the Perl programming language.  See
http://wiki.cpantesters.org/ for more information or email
questions to cpan-testers-discuss@perl.org


--
Dear Ricardo SIGNES :-),

This is a computer-generated report for String-Errf-0.009
on perl 5.40.2, created by CPAN-Reporter-1.2020.

Thank you for uploading your work to CPAN.  Congratulations!
All tests were successful.

Sections of this report:

    * Tester comments
    * Program output
    * Prerequisites
    * Environment and other context

------------------------------
TESTER COMMENTS
------------------------------

Additional comments from tester:

none provided

------------------------------
PROGRAM OUTPUT
------------------------------

Output from 'C:\strawberry-perl-5.40.2.2-64bit-portable\c\bin\gmake.exe test':

"C:\strawberry-perl-5.40.2.2-64bit-portable\perl\bin\perl.exe" "-MExtUtils::Command::MM" "-MTest::Harness" "-e" "undef *Test::Harness::Switches; test_harness(0, 'blib\lib', 'blib\arch')" t/*.t
# 
# Versions for all modules listed in MYMETA.json (including optional ones):
# 
# === Configure Requires ===
# 
#     Module              Want    Have
#     ------------------- ---- -------
#     ExtUtils::MakeMaker 6.78 7.77_02
# 
# === Build Requires ===
# 
#     Module              Want    Have
#     ------------------- ---- -------
#     ExtUtils::MakeMaker  any 7.77_02
# 
# === Test Requires ===
# 
#     Module              Want     Have
#     ------------------- ---- --------
#     Date::Format         any     2.24
#     ExtUtils::MakeMaker  any  7.77_02
#     File::Spec           any     3.91
#     JSON::MaybeXS        any 1.004008
#     Test::More          0.96 1.302214
#     autodie              any     2.37
# 
# === Test Recommends ===
# 
#     Module         Want     Have
#     ---------- -------- --------
#     CPAN::Meta 2.120900 2.150010
# 
# === Runtime Requires ===
# 
#     Module                Want   Have
#     ----------------- -------- ------
#     Carp                   any   1.54
#     Params::Util           any  1.102
#     Scalar::Util           any   1.70
#     String::Formatter 0.102081  1.235
#     Sub::Exporter          any  0.991
#     Time::Piece            any 1.3701
#     parent                 any  0.244
#     strict                 any   1.13
#     warnings               any   1.70
# 
t/00-report-prereqs.t .. ok
t/bad.t ................ ok
t/basic.t .............. ok
All tests successful.
Files=3, Tests=6,  2 wallclock secs ( 0.16 usr +  0.02 sys =  0.17 CPU)
Result: PASS

------------------------------
PREREQUISITES
------------------------------

Prerequisite modules loaded:

requires:

    Module              Need     Have    
    ------------------- -------- --------
    Carp                0        1.54    
    Params::Util        0        1.102   
    parent              0        0.244   
    perl                5.012    5.040002
    Scalar::Util        0        1.70    
    strict              0        1.13    
    String::Formatter   0.102081 1.235   
    Sub::Exporter       0        0.991   
    Time::Piece         0        1.3701  
    warnings            0        1.70    

build_requires:

    Module              Need     Have    
    ------------------- -------- --------
    autodie             0        2.37    
    Date::Format        0        2.24    
    ExtUtils::MakeMaker 0        7.77_02 
    File::Spec          0        3.91    
    JSON::MaybeXS       0        1.004008
    Test::More          0.96     1.302214

configure_requires:

    Module              Need     Have    
    ------------------- -------- --------
    ExtUtils::MakeMaker 6.78     7.77_02 

opt_build_requires:

    Module              Need     Have    
    ------------------- -------- --------
    CPAN::Meta          2.120900 2.150010


------------------------------
ENVIRONMENT AND OTHER CONTEXT
------------------------------

Environment variables:

    COMSPEC = C:\WINDOWS\system32\cmd.exe
    LC_ALL = C
    NONINTERACTIVE_TESTING = 1
    NUMBER_OF_PROCESSORS = 4
    PATH = C:\strawberry-perl-5.40.2.2-64bit-portable\perl\site\bin;C:\strawberry-perl-5.40.2.2-64bit-portable\perl\bin;C:\strawberry-perl-5.40.2.2-64bit-portable\c\bin;C:\WINDOWS\system32;C:\WINDOWS;C:\WINDOWS\System32\Wbem;C:\WINDOWS\System32\WindowsPowerShell\v1.0
    PERL5LIB = 
    PERL5OPT = 
    PERL5_CPANPLUS_IS_RUNNING = 21472
    PERL5_CPAN_IS_RUNNING = 21472
    PERL_MM_USE_DEFAULT = 1
    PERL_USE_UNSAFE_INC = 1
    PROCESSOR_IDENTIFIER = Intel64 Family 6 Model 58 Stepping 9, GenuineIntel
    TEMP = C:\Users\USER\AppData\Local\Temp
    TERM = dumb

Perl special variables (and OS-specific diagnostics, for MSWin32):

    $^X = C:\strawberry-perl-5.40.2.2-64bit-portable\perl\bin\perl.exe
    $UID/$EUID = 0 / 0
    $GID = 0
    $EGID = 0
    Win32::GetOSName = Win8.1
    Win32::GetOSVersion = , 6, 3, 9600, 2, 0, 0, 256, 1
    Win32::FsType = NTFS
    Win32::IsAdminUser = 0

Perl module toolchain versions installed:

    Module              Have    
    ------------------- --------
    CPAN                2.38    
    CPAN::Meta          2.150010
    Cwd                 3.91    
    ExtUtils::CBuilder  0.280240
    ExtUtils::Command   7.77_02 
    ExtUtils::Install   2.22    
    ExtUtils::MakeMaker 7.77_02 
    ExtUtils::Manifest  1.75    
    ExtUtils::ParseXS   3.58    
    File::Spec          3.91    
    JSON                4.10    
    JSON::PP            4.16    
    Module::Build       0.4234  
    Module::Signature   n/a     
    Parse::CPAN::Meta   2.150010
    Test2               1.302214
    Test::Harness       3.52    
    Test::More          1.302214
    YAML                1.31    
    YAML::Syck          1.34    
    version             0.9933  


--

Summary of my perl5 (revision 5 version 40 subversion 2) configuration:
   
  Platform:
    osname=MSWin32
    osvers=10.0.22631.5335
    archname=MSWin32-x64-multi-thread
    uname='Win32 strawberry-perl 5.40.2.2 # 23:01:28 Fri May 30 2025 x64'
    config_args='undef'
    hint=recommended
    useposix=true
    d_sigaction=undef
    useithreads=define
    usemultiplicity=define
    use64bitint=define
    use64bitall=undef
    uselongdouble=undef
    usemymalloc=n
    default_inc_excludes_dot=define
  Compiler:
    cc='gcc'
    ccflags ='-std=c99 -DWIN32 -DWIN64 -DPERL_TEXTMODE_SCRIPTS -DMULTIPLICITY -DPERL_IMPLICIT_SYS -DUSE_PERLIO -D__USE_MINGW_ANSI_STDIO -fwrapv -fno-strict-aliasing -mms-bitfields'
    optimize='-O2'
    cppflags='-DWIN32'
    ccversion=''
    gccversion='13.2.0'
    gccosandvers=''
    intsize=4
    longsize=4
    ptrsize=8
    doublesize=8
    byteorder=12345678
    doublekind=3
    d_longlong=define
    longlongsize=8
    d_longdbl=define
    longdblsize=16
    longdblkind=3
    ivtype='long long'
    ivsize=8
    nvtype='double'
    nvsize=8
    Off_t='long long'
    lseeksize=8
    alignbytes=8
    prototype=define
  Linker and Libraries:
    ld='g++.exe'
    ldflags ='-s -L"C:\strawberry-perl-5.40.2.2-64bit-portable\perl\lib\CORE" -L"C:\strawberry-perl-5.40.2.2-64bit-portable\c\lib"'
    libpth=C:\strawberry-perl-5.40.2.2-64bit-portable\c\lib C:\strawberry-perl-5.40.2.2-64bit-portable\c\x86_64-w64-mingw32\lib C:\strawberry-perl-5.40.2.2-64bit-portable\c\lib\gcc\x86_64-w64-mingw32\13.1.0
    libs= -lmoldname -lkernel32 -luser32 -lgdi32 -lwinspool -lcomdlg32 -ladvapi32 -lshell32 -lole32 -loleaut32 -lnetapi32 -luuid -lws2_32 -lmpr -lwinmm -lversion -lodbc32 -lodbccp32 -lcomctl32
    perllibs= -lmoldname -lkernel32 -luser32 -lgdi32 -lwinspool -lcomdlg32 -ladvapi32 -lshell32 -lole32 -loleaut32 -lnetapi32 -luuid -lws2_32 -lmpr -lwinmm -lversion -lodbc32 -lodbccp32 -lcomctl32
    libc=-lucrt
    so=dll
    useshrplib=true
    libperl=libperl540.a
    gnulibc_version=''
  Dynamic Linking:
    dlsrc=dl_win32.xs
    dlext=xs.dll
    d_dlsymun=undef
    ccdlflags=' '
    cccdlflags=' '
    lddlflags='-mdll -s -L"C:\strawberry-perl-5.40.2.2-64bit-portable\perl\lib\CORE" -L"C:\strawberry-perl-5.40.2.2-64bit-portable\c\lib"'


Characteristics of this binary (from libperl): 
  Compile-time options:
    HAS_LONG_DOUBLE
    HAS_TIMES
    HAVE_INTERP_INTERN
    MULTIPLICITY
    PERLIO_LAYERS
    PERL_COPY_ON_WRITE
    PERL_DONT_CREATE_GVSV
    PERL_HASH_FUNC_SIPHASH13
    PERL_HASH_USE_SBOX32
    PERL_IMPLICIT_SYS
    PERL_MALLOC_WRAP
    PERL_OP_PARENT
    PERL_PRESERVE_IVUV
    PERL_USE_SAFE_PUTENV
    USE_64_BIT_INT
    USE_ITHREADS
    USE_LARGE_FILES
    USE_LOCALE
    USE_LOCALE_COLLATE
    USE_LOCALE_CTYPE
    USE_LOCALE_NUMERIC
    USE_LOCALE_TIME
    USE_PERLIO
    USE_PERL_ATOF
    USE_THREAD_SAFE_LOCALE
  Built under MSWin32
  Compiled at May 31 2025 09:07:08
  %ENV:
    PERL5_CPANPLUS_IS_RUNNING="21472"
    PERL5_CPAN_IS_RUNNING="21472"
    PERL_MM_USE_DEFAULT="1"
    PERL_USE_UNSAFE_INC="1"
  @INC:
    C:/strawberry-perl-5.40.2.2-64bit-portable/perl/site/lib/MSWin32-x64-multi-thread
    C:/strawberry-perl-5.40.2.2-64bit-portable/perl/site/lib
    C:/strawberry-perl-5.40.2.2-64bit-portable/perl/vendor/lib
    C:/strawberry-perl-5.40.2.2-64bit-portable/perl/lib
    .