Report for Test-MockDBI-0.70

Back
From: metabase:user:8286d1fc-3d52-11e2-9ec4-cb9cdd236785
Subject: PASS Test-MockDBI-0.70 v5.19.6 GNU/Linux
Date: 2013-10-22T03:14:09Z

This distribution has been tested as part of the CPAN Testers
project, supporting the Perl programming language.  See
http://wiki.cpantesters.org/ for more information or email
questions to cpan-testers-discuss@perl.org


--
Dear Andreas Faafeng,

This is a computer-generated report for Test-MockDBI-0.70
on perl 5.19.6, created by CPAN-Reporter-1.2010.

Thank you for uploading your work to CPAN.  Congratulations!
All tests were successful.

Sections of this report:

    * Tester comments
    * Program output
    * Prerequisites
    * Environment and other context

------------------------------
TESTER COMMENTS
------------------------------

Additional comments from tester:

this report is from an automated smoke testing program
and was not reviewed by a human for accuracy

------------------------------
PROGRAM OUTPUT
------------------------------

Output from '/usr/local/bin/make test':

PERL_DL_NONLAZY=1 /opt/perl444-27-32-5.19.6/bin/perl "-MExtUtils::Command::MM" "-MTest::Harness" "-e" "undef *Test::Harness::Switches; test_harness(0, 'blib/lib', 'blib/arch')" t/*.t
# Testing Test::MockDBI 0.70, Perl 5.019006, /opt/perl444-27-32-5.19.6/bin/perl, archname=i686-linux-thread-multi, byteorder=1234
t/00-env.t ........................... ok
t/000-use.t .......................... ok
t/001-connect.t ...................... ok
t/002-prepare.t ...................... ok
t/003-ping.t ......................... ok
t/004-execute.t ...................... ok
t/005-fetchrow_hashref.t ............. ok
t/006-bind_param.t ................... ok
t/007-bind_param_inout.t ............. ok
t/008-rows.t ......................... ok
t/009-auto_commit.t .................. ok
t/010-fetchrow_arrayref.t ............ ok
t/011-prepare_cached.t ............... ok
t/012-do.t ........................... ok
t/100-set-fake-retval.t .............. ok
t/101-set-fake-retval-coderef.t ...... ok
t/102-set-inout-value.t .............. ok
t/103-bad_method.t ................... ok
t/104-bad-params.t ................... ok
t/800-die-on-unsupported-method.t .... ok
t/bad_param-1.t ...................... ok
t/bad_param-2.t ...................... ok
t/bad_param-ok-2of3.t ................ ok
t/bad_param-ok-none.t ................ ok
t/coderef-array-1.t .................. ok
t/coderef-array-many.t ............... ok
t/coderef-scalar-0.t ................. ok
t/coderef-scalar-1.t ................. ok
t/coderef-scalar-many.t .............. ok
t/connect.t .......................... ok
t/fetch-0.t .......................... ok
t/fetch-empty.t ...................... ok
t/fetchall_arrayref-0.t .............. ok
t/fetchall_arrayref-1.t .............. ok
t/fetchall_arrayref-many.t ........... ok
t/fetchrow_array-0.t ................. ok
t/fetchrow_array-1.t ................. ok
t/fetchrow_array-different-sql.t ..... ok
t/fetchrow_array-many.t .............. ok
t/fetchrow_arrayref-0.t .............. ok
t/fetchrow_arrayref-1.t .............. ok
t/fetchrow_arrayref-different-sql.t .. ok
t/fetchrow_arrayref-many.t ........... ok
t/fetchrow_hashref-1.t ............... ok
t/fetchrow_hashref-2.t ............... ok
t/fetchrow_hashref-many.t ............ ok
t/set_rows-different-numeric.t ....... ok
t/set_rows-no-arg.t .................. ok
t/set_rows-numeric.t ................. ok
t/set_rows-undef.t ................... ok
All tests successful.
Files=50, Tests=431, 22 wallclock secs ( 0.60 usr  0.16 sys + 12.24 cusr  1.61 csys = 14.61 CPU)
Result: PASS

------------------------------
PREREQUISITES
------------------------------

Prerequisite modules loaded:

requires:

    Module                Need Have      
    --------------------- ---- ----------
    Carp                  0    1.32      
    Clone                 0    0.35      
    DBI                   0    1.628     
    File::Spec::Functions 0    3.40      
    Scalar::Util          0    1.35      
    Test::Differences     0    0.61      
    Test::MockObject      0.14 1.20120301
    Test::More            0    0.99      
    Test::Warn            0    0.24      

build_requires:

    Module                Need Have      
    --------------------- ---- ----------
    CPAN::Meta            0    2.132830  

configure_requires:

    Module                Need Have      
    --------------------- ---- ----------
    ExtUtils::MakeMaker   0    6.80      


------------------------------
ENVIRONMENT AND OTHER CONTEXT
------------------------------

Environment variables:

    AUTHOR_TESTING = 1
    AUTOMATED_TESTING = 1
    LANG = en_US.UTF-8
    LD_LIBRARY_PATH = /usr/local/lib
    PATH = /usr/lib/qt-3.3/bin:/usr/kerberos/sbin:/usr/kerberos/bin:/usr/lib/ccache:/usr/local/sbin:/usr/local/bin:/sbin:/bin:/usr/sbin:/usr/bin:/usr/X11R6/bin:/usr/lib/alliance/bin:/opt/real/RealPlayer:/root/bin:/usr/lib/alliance/bin:/opt/real/RealPlayer
    PERL5LIB = 
    PERL5OPT = 
    PERL5_CPANPLUS_IS_RUNNING = 13230
    PERL5_CPAN_IS_RUNNING = 13230
    PERL_ANYEVENT_MODEL = POE
    PERL_MM_NONINTERACTIVE = 1
    PERL_MM_USE_DEFAULT = 1
    SHELL = /bin/bash
    TERM = xterm

Perl special variables (and OS-specific diagnostics, for MSWin32):

    $^X = /opt/perl444-27-32-5.19.6/bin/perl
    $UID/$EUID = 0 / 0
    $GID = 0 0 1 2 3 4 6 10
    $EGID = 0 0 1 2 3 4 6 10

Perl module toolchain versions installed:

    Module              Have    
    ------------------- --------
    CPAN                2.03    
    CPAN::Meta          2.132830
    Cwd                 3.40    
    ExtUtils::CBuilder  0.280212
    ExtUtils::Command   1.18    
    ExtUtils::Install   1.61    
    ExtUtils::MakeMaker 6.80    
    ExtUtils::Manifest  1.63    
    ExtUtils::ParseXS   3.22    
    File::Spec          3.40    
    JSON                2.61    
    JSON::PP            2.27203 
    Module::Build       0.4007  
    Module::Signature   0.73    
    Parse::CPAN::Meta   1.4409  
    Test::Harness       3.29    
    Test::More          0.99    
    YAML                0.84    
    YAML::Syck          1.27    
    version             0.9904  


--

Summary of my perl5 (revision 5 version 19 subversion 6) configuration:
  Snapshot of: 494bd89769f5d930129f71ef5d07c5abcdae3195
  Platform:
    osname=linux, osvers=2.6.27-repin.1, archname=i686-linux-thread-multi
    uname='linux localhost.localdomain 2.6.27-repin.1 #1 smp tue jan 25 20:07:21 msk 2011 i686 i686 i386 gnulinux '
    config_args='-Dcc=/opt/444/bin/gcc -Doptimize=-O3 -DDMALLOC=/usr/local/bin/dmalloc -Dprefix=/opt/perl444-27-32-5.19.6 -DDEBUGGING'
    hint=recommended, useposix=true, d_sigaction=define
    useithreads=define, usemultiplicity=define
    useperlio=define, d_sfio=undef, uselargefiles=define, usesocks=undef
    use64bitint=undef, use64bitall=undef, uselongdouble=undef
    usemymalloc=n, bincompat5005=undef
  Compiler:
    cc='/opt/444/bin/gcc', ccflags ='-DDMALLOC -D_LARGEFILE_SOURCE -D_FILE_OFFSET_BITS=64',
    optimize='-O3 -g',
    cppflags='-DDMALLOC'
    ccversion='', gccversion='4.4.4', gccosandvers=''
    intsize=4, longsize=4, ptrsize=4, doublesize=8, byteorder=1234
    d_longlong=define, longlongsize=8, d_longdbl=define, longdblsize=12
    ivtype='long', ivsize=4, nvtype='double', nvsize=8, Off_t='off_t', lseeksize=8
    alignbytes=4, prototype=define
  Linker and Libraries:
    ld='/opt/444/bin/gcc', ldflags =' -L/usr/local/lib'
    libpth=/usr/local/lib /lib /usr/lib
    libs=-lnsl -lgdbm -ldb -ldl -lm -lcrypt -lutil -lpthread -lc
    perllibs=-lnsl -ldl -lm -lcrypt -lutil -lpthread -lc
    libc=/lib/libc-2.5.so, so=so, useshrplib=true, libperl=libperl.so
    gnulibc_version='2.5'
  Dynamic Linking:
    dlsrc=dl_dlopen.xs, dlext=so, d_dlsymun=undef, ccdlflags='-Wl,-E -Wl,-rpath,/opt/perl444-27-32-5.19.6/lib/5.19.6/i686-linux-thread-multi/CORE'
    cccdlflags='-fPIC', lddlflags='-shared -O3 -g -L/usr/local/lib'


Characteristics of this binary (from libperl): 
  Compile-time options: HAS_TIMES MULTIPLICITY PERLIO_LAYERS
                        PERL_DONT_CREATE_GVSV
                        PERL_HASH_FUNC_ONE_AT_A_TIME_HARD
                        PERL_IMPLICIT_CONTEXT PERL_MAD PERL_MALLOC_WRAP
                        PERL_NEW_COPY_ON_WRITE PERL_PRESERVE_IVUV
                        USE_FAST_STDIO USE_ITHREADS USE_LARGE_FILES
                        USE_LOCALE USE_LOCALE_COLLATE USE_LOCALE_CTYPE
                        USE_LOCALE_NUMERIC USE_PERLIO USE_PERL_ATOF
                        USE_REENTRANT_API
  Built under linux
  Compiled at Oct 20 2013 17:41:32
  %ENV:
    PERL5LIB=""
    PERL5OPT=""
    PERL5_CPANPLUS_IS_RUNNING="13230"
    PERL5_CPAN_IS_RUNNING="13230"
    PERL_ANYEVENT_MODEL="POE"
    PERL_MM_NONINTERACTIVE="1"
    PERL_MM_USE_DEFAULT="1"
  @INC:
    /opt/perl444-27-32-5.19.6/lib/site_perl/5.19.6/i686-linux-thread-multi
    /opt/perl444-27-32-5.19.6/lib/site_perl/5.19.6
    /opt/perl444-27-32-5.19.6/lib/5.19.6/i686-linux-thread-multi
    /opt/perl444-27-32-5.19.6/lib/5.19.6
    .