Report for Log-UDP-Client-0.20.0

Back
From: metabase:user:320bfe00-2aae-11df-837a-5e0a49663a4f
Subject: PASS Log-UDP-Client-0.20.0 v5.13.8 GNU/Linux
Date: 2010-12-23T16:16:37Z

This distribution has been tested as part of the CPAN Testers
project, supporting the Perl programming language.  See
http://wiki.cpantesters.org/ for more information or email
questions to cpan-testers-discuss@perl.org


--
Dear Robin Smidsrod,

This is a computer-generated report for Log-UDP-Client-0.20.0
on perl 5.13.8, created by CPAN-Reporter-1.1803.

Thank you for uploading your work to CPAN.  Congratulations!
All tests were successful.

Sections of this report:

    * Tester comments
    * Program output
    * Prerequisites
    * Environment and other context

------------------------------
TESTER COMMENTS
------------------------------

Additional comments from tester:

none provided

------------------------------
PROGRAM OUTPUT
------------------------------

Output from '/usr/bin/make test':

make[1]: Entering directory `/home/sand/.cpan/build/Log-UDP-Client-0.20.0-aJEcoH'
PERL_DL_NONLAZY=1 /home/src/perl/repoperls/installed-perls/perl/v5.13.8-30-g98df743/bin/perl "-MExtUtils::Command::MM" "-e" "test_harness(0, 'blib/lib', 'blib/arch')" t/*.t
# Testing Log::UDP::Client 0.20.0, Perl 5.013008, /home/src/perl/repoperls/installed-perls/perl/v5.13.8-30-g98df743/bin/perl
t/00-load.t ............... ok
t/10_example_1.t .......... ok
# 10000 tests took 0.301625967025757 seconds, 33153.6442256845 messages per second (using Storable::nfreeze).
t/10_example_2.t .......... ok
t/10_example_3.t .......... ok
t/10_example_4.t .......... ok
t/author-critic.t ......... skipped: these tests are for testing by the author
t/release-eol.t ........... skipped: these tests are for release candidate testing
t/release-kwalitee.t ...... skipped: these tests are for release candidate testing
t/release-no-tabs.t ....... skipped: these tests are for release candidate testing
t/release-pod-coverage.t .. skipped: these tests are for release candidate testing
t/release-pod-syntax.t .... skipped: these tests are for release candidate testing
All tests successful.
Files=11, Tests=1008,  2 wallclock secs ( 0.16 usr  0.02 sys +  1.57 cusr  0.28 csys =  2.03 CPU)
Result: PASS
make[1]: Leaving directory `/home/sand/.cpan/build/Log-UDP-Client-0.20.0-aJEcoH'

------------------------------
PREREQUISITES
------------------------------

Prerequisite modules loaded:

requires:

    Module              Need   Have     
    ------------------- ------ ---------
    Carp                0      1.19     
    Data::Serializable  0.40.0 0.40.1   
    IO::Socket::INET    0      1.31     
    Moose               0      1.21     

build_requires:

    Module              Need   Have     
    ------------------- ------ ---------
    English             0      1.04     
    JSON                0      2.27     
    Test::More          0      0.97_01  
    Time::HiRes         0      1.9721_01

configure_requires:

    Module              Need   Have     
    ------------------- ------ ---------
    ExtUtils::MakeMaker 6.31   6.57_05  


------------------------------
ENVIRONMENT AND OTHER CONTEXT
------------------------------

Environment variables:

    LANG = en_US.UTF-8
    PATH = /home/sand/bin:/usr/local/bin:/usr/bin:/bin:/usr/bin/X11:/usr/games:/usr/local/perl/bin:/usr/X11/bin:/sbin:/usr/sbin
    PERL5LIB = /home/sand/.cpan/build/Math-CDF-0.1-vq6VYG/blib/arch:/home/sand/.cpan/build/Math-CDF-0.1-vq6VYG/blib/lib:/home/sand/.cpan/build/Test-Mock-LWP-Dispatch-0.02-kzFsmR/blib/arch:/home/sand/.cpan/build/Test-Mock-LWP-Dispatch-0.02-kzFsmR/blib/lib:/home/sand/.cpan/build/ProjectBuilder-0.9.10-rZn7fS/blib/arch:/home/sand/.cpan/build/ProjectBuilder-0.9.10-rZn7fS/blib/lib
    PERL5OPT = 
    PERL5_CPANPLUS_IS_RUNNING = 23463
    PERL5_CPAN_IS_RUNNING = 23463
    SHELL = /usr/bin/zsh
    TERM = screen

Perl special variables (and OS-specific diagnostics, for MSWin32):

    $^X = /home/src/perl/repoperls/installed-perls/perl/v5.13.8-30-g98df743/bin/perl
    $UID/$EUID = 1001 / 1001
    $GID = 1001 1001
    $EGID = 1001 1001

Perl module toolchain versions installed:

    Module              Have    
    ------------------- --------
    CPAN                1.94_62 
    Cwd                 3.35    
    ExtUtils::CBuilder  0.280201
    ExtUtils::Command   1.16    
    ExtUtils::Install   1.55    
    ExtUtils::MakeMaker 6.57_05 
    ExtUtils::Manifest  1.58    
    ExtUtils::ParseXS   2.2208  
    File::Spec          3.33    
    Module::Build       0.3607  
    Module::Signature   0.66    
    Test::Harness       3.22    
    Test::More          0.97_01 
    YAML                0.72    
    YAML::Syck          1.17    
    version             0.88    


--

Summary of my perl5 (revision 5 version 13 subversion 8) configuration:
  Commit id: 98df743aa286b8ac6160b72feb1c2fadf7320d98
  Platform:
    osname=linux, osvers=2.6.32-5-xen-amd64, archname=x86_64-linux
    uname='linux k81 2.6.32-5-xen-amd64 #1 smp thu nov 25 20:08:32 utc 2010 x86_64 gnulinux '
    config_args='-Dprefix=/home/src/perl/repoperls/installed-perls/perl/v5.13.8-30-g98df743 -Dinstallusrbinperl=n -Uversiononly -Dusedevel -des -Ui_db -Uuseithreads -Uuselongdouble'
    hint=recommended, useposix=true, d_sigaction=define
    useithreads=undef, usemultiplicity=undef
    useperlio=define, d_sfio=undef, uselargefiles=define, usesocks=undef
    use64bitint=define, use64bitall=define, uselongdouble=undef
    usemymalloc=n, bincompat5005=undef
  Compiler:
    cc='cc', ccflags ='-fno-strict-aliasing -pipe -fstack-protector -I/usr/local/include -D_LARGEFILE_SOURCE -D_FILE_OFFSET_BITS=64',
    optimize='-O2',
    cppflags='-fno-strict-aliasing -pipe -fstack-protector -I/usr/local/include'
    ccversion='', gccversion='4.4.5', gccosandvers=''
    intsize=4, longsize=8, ptrsize=8, doublesize=8, byteorder=12345678
    d_longlong=define, longlongsize=8, d_longdbl=define, longdblsize=16
    ivtype='long', ivsize=8, nvtype='double', nvsize=8, Off_t='off_t', lseeksize=8
    alignbytes=8, prototype=define
  Linker and Libraries:
    ld='cc', ldflags =' -fstack-protector -L/usr/local/lib'
    libpth=/usr/local/lib /lib /usr/lib /lib64 /usr/lib64
    libs=-lnsl -lgdbm -ldb -ldl -lm -lcrypt -lutil -lc -lgdbm_compat
    perllibs=-lnsl -ldl -lm -lcrypt -lutil -lc
    libc=/lib/libc-2.11.2.so, so=so, useshrplib=false, libperl=libperl.a
    gnulibc_version='2.11.2'
  Dynamic Linking:
    dlsrc=dl_dlopen.xs, dlext=so, d_dlsymun=undef, ccdlflags='-Wl,-E'
    cccdlflags='-fPIC', lddlflags='-shared -O2 -L/usr/local/lib -fstack-protector'


Characteristics of this binary (from libperl): 
  Compile-time options: PERL_DONT_CREATE_GVSV PERL_MALLOC_WRAP PERL_USE_DEVEL
                        USE_64_BIT_ALL USE_64_BIT_INT USE_LARGE_FILES
                        USE_PERLIO USE_PERL_ATOF
  Built under linux
  Compiled at Dec 23 2010 04:29:11
  %ENV:
    PERL5LIB="/home/sand/.cpan/build/Math-CDF-0.1-vq6VYG/blib/arch:/home/sand/.cpan/build/Math-CDF-0.1-vq6VYG/blib/lib:/home/sand/.cpan/build/Test-Mock-LWP-Dispatch-0.02-kzFsmR/blib/arch:/home/sand/.cpan/build/Test-Mock-LWP-Dispatch-0.02-kzFsmR/blib/lib:/home/sand/.cpan/build/ProjectBuilder-0.9.10-rZn7fS/blib/arch:/home/sand/.cpan/build/ProjectBuilder-0.9.10-rZn7fS/blib/lib"
    PERL5OPT=""
    PERL5_CPANPLUS_IS_RUNNING="23463"
    PERL5_CPAN_IS_RUNNING="23463"
  @INC:
    /home/sand/.cpan/build/Math-CDF-0.1-vq6VYG/blib/arch
    /home/sand/.cpan/build/Math-CDF-0.1-vq6VYG/blib/lib
    /home/sand/.cpan/build/Test-Mock-LWP-Dispatch-0.02-kzFsmR/blib/arch
    /home/sand/.cpan/build/Test-Mock-LWP-Dispatch-0.02-kzFsmR/blib/lib
    /home/sand/.cpan/build/ProjectBuilder-0.9.10-rZn7fS/blib/arch
    /home/sand/.cpan/build/ProjectBuilder-0.9.10-rZn7fS/blib/lib
    /home/src/perl/repoperls/installed-perls/perl/v5.13.8-30-g98df743/lib/site_perl/5.13.8/x86_64-linux
    /home/src/perl/repoperls/installed-perls/perl/v5.13.8-30-g98df743/lib/site_perl/5.13.8
    /home/src/perl/repoperls/installed-perls/perl/v5.13.8-30-g98df743/lib/5.13.8/x86_64-linux
    /home/src/perl/repoperls/installed-perls/perl/v5.13.8-30-g98df743/lib/5.13.8
    .