Report for Dist-Zilla-Plugin-CheckChangesHasContent-0.008

Back
From: metabase:user:a24acd10-e64f-11e4-9b94-62d31942f6e4
Subject: PASS Dist-Zilla-Plugin-CheckChangesHasContent-0.008 v5.21.10 GNU/Linux
Date: 2015-04-20T04:02:10Z

This distribution has been tested as part of the CPAN Testers
project, supporting the Perl programming language.  See
http://wiki.cpantesters.org/ for more information or email
questions to cpan-testers-discuss@perl.org


--
Dear David Golden,

This is a computer-generated report for Dist-Zilla-Plugin-CheckChangesHasContent-0.008
on perl 5.21.10, created by CPAN-Reporter-1.2014.

Thank you for uploading your work to CPAN.  Congratulations!
All tests were successful.

Sections of this report:

    * Tester comments
    * Program output
    * Prerequisites
    * Environment and other context

------------------------------
TESTER COMMENTS
------------------------------

Additional comments from tester:

none provided

------------------------------
PROGRAM OUTPUT
------------------------------

Output from '/usr/bin/make test':

PERL_DL_NONLAZY=1 "/home/vagrant/perl5/perlbrew/perls/5.21.10/bin/perl5.21.10" "-MExtUtils::Command::MM" "-MTest::Harness" "-e" "undef *Test::Harness::Switches; test_harness(0, 'blib/lib', 'blib/arch')" t/*.t

# Versions for all modules listed in MYMETA.json (including optional ones):
# 
# === Configure Requires ===
# 
#     Module              Want Have
#     ------------------- ---- ----
#     ExtUtils::MakeMaker 6.17 7.04
# 
# === Build Requires ===
# 
#     Module              Want Have
#     ------------------- ---- ----
#     ExtUtils::MakeMaker  any 7.04
# 
# === Test Requires ===
# 
#     Module              Want         Have
#     ------------------- ---- ------------
#     Capture::Tiny        any         0.28
#     Cwd                  any         3.55
#     Dist::Zilla::Tester  any        5.035
#     ExtUtils::MakeMaker  any         7.04
#     File::Spec           any         3.55
#     Path::Tiny           any        0.068
#     Test::Harness        any         3.35
#     Test::More          0.88 1.301001_105
#     Try::Tiny            any         0.22
# 
# === Test Recommends ===
# 
#     Module         Want     Have
#     ---------- -------- --------
#     CPAN::Meta 2.120900 2.150001
# 
# === Runtime Requires ===
# 
#     Module                               Want     Have
#     -------------------------------- -------- --------
#     Data::Section                    0.200002 0.200006
#     Dist::Zilla                      2.100950    5.035
#     Dist::Zilla::File::InMemory           any    5.035
#     Dist::Zilla::Role::BeforeRelease      any    5.035
#     Dist::Zilla::Role::FileGatherer       any    5.035
#     Dist::Zilla::Role::FileMunger         any    5.035
#     Dist::Zilla::Role::TextTemplate       any    5.035
#     File::pushd                           any    1.009
#     Moose                                0.99   2.1404
#     Moose::Util::TypeConstraints          any   2.1404
#     Sub::Exporter::ForMethods             any 0.100051
#     autodie                              2.00     2.26
#     namespace::autoclean                 0.09     0.24
#     strict                                any     1.09
#     warnings                              any     1.31
# 
t/00-report-prereqs.t ....... ok
t/checkhascontent.t ......... ok
t/test_changeshascontent.t .. ok
All tests successful.
Files=3, Tests=40,  4 wallclock secs ( 0.04 usr  0.02 sys +  3.28 cusr  0.58 csys =  3.92 CPU)
Result: PASS

------------------------------
PREREQUISITES
------------------------------

Prerequisite modules loaded:

requires:

    Module                           Need     Have        
    -------------------------------- -------- ------------
    autodie                          2.00     2.26        
    Data::Section                    0.200002 0.200006    
    Dist::Zilla                      2.100950 5.035       
    Dist::Zilla::File::InMemory      0        5.035       
    Dist::Zilla::Role::BeforeRelease 0        5.035       
    Dist::Zilla::Role::FileGatherer  0        5.035       
    Dist::Zilla::Role::FileMunger    0        5.035       
    Dist::Zilla::Role::TextTemplate  0        5.035       
    File::pushd                      0        1.009       
    Moose                            0.99     2.1404      
    Moose::Util::TypeConstraints     0        2.1404      
    namespace::autoclean             0.09     0.24        
    perl                             5.006    5.021010    
    strict                           0        1.09        
    Sub::Exporter::ForMethods        0        0.100051    
    warnings                         0        1.31        

build_requires:

    Module                           Need     Have        
    -------------------------------- -------- ------------
    Capture::Tiny                    0        0.28        
    Cwd                              0        3.55        
    Dist::Zilla::Tester              0        5.035       
    ExtUtils::MakeMaker              0        7.04        
    File::Spec                       0        3.55        
    Path::Tiny                       0        0.068       
    Test::Harness                    0        3.35        
    Test::More                       0.88     1.301001_105
    Try::Tiny                        0        0.22        

configure_requires:

    Module                           Need     Have        
    -------------------------------- -------- ------------
    ExtUtils::MakeMaker              6.17     7.04        
    perl                             5.006    5.021010    


------------------------------
ENVIRONMENT AND OTHER CONTEXT
------------------------------

Environment variables:

    LC_CTYPE = en_NZ.UTF8
    PATH = /home/vagrant/perl5/perlbrew/bin:/home/vagrant/perl5/perlbrew/perls/5.21.10/bin:/usr/local/bin:/usr/bin:/bin:/opt/bin:/usr/x86_64-pc-linux-gnu/gcc-bin/4.8.4
    PERL5LIB = 
    PERL5OPT = 
    PERL5_CPANPLUS_IS_RUNNING = 27576
    PERL5_CPAN_IS_RUNNING = 27576
    PERLBREW_BASHRC_VERSION = 0.73
    PERLBREW_HOME = /home/vagrant/.perlbrew
    PERLBREW_MANPATH = /home/vagrant/perl5/perlbrew/perls/5.21.10/man
    PERLBREW_PATH = /home/vagrant/perl5/perlbrew/bin:/home/vagrant/perl5/perlbrew/perls/5.21.10/bin
    PERLBREW_PERL = 5.21.10
    PERLBREW_ROOT = /home/vagrant/perl5/perlbrew
    PERLBREW_VERSION = 0.73
    SHELL = /bin/bash
    TERM = screen

Perl special variables (and OS-specific diagnostics, for MSWin32):

    $^X = /home/vagrant/perl5/perlbrew/perls/5.21.10/bin/perl5.21.10
    $UID/$EUID = 1000 / 1000
    $GID = 1000 1000
    $EGID = 1000 1000

Perl module toolchain versions installed:

    Module              Have        
    ------------------- ------------
    CPAN                2.10        
    CPAN::Meta          2.150001    
    Cwd                 3.55        
    ExtUtils::CBuilder  0.280221    
    ExtUtils::Command   1.20        
    ExtUtils::Install   2.04        
    ExtUtils::MakeMaker 7.04        
    ExtUtils::Manifest  1.70        
    ExtUtils::ParseXS   3.27        
    File::Spec          3.55        
    JSON                2.90        
    JSON::PP            2.27300     
    Module::Build       0.4211      
    Module::Signature   0.78        
    Parse::CPAN::Meta   1.4414      
    Test::Harness       3.35        
    Test::More          1.301001_105
    YAML                1.15        
    YAML::Syck          n/a         
    version             0.9909      


--

Summary of my perl5 (revision 5 version 21 subversion 10) configuration:
   
  Platform:
    osname=linux, osvers=3.18.11-gentoo, archname=x86_64-linux
    uname='linux localhost 3.18.11-gentoo #1 smp sat apr 18 20:24:48 utc 2015 x86_64 intel(r) core(tm) i5-2410m cpu @ 2.30ghz genuineintel gnulinux '
    config_args='-de -Dprefix=/home/vagrant/perl5/perlbrew/perls/5.21.10 -Doptimize= -O3 -march=native -mtune=native -Dman1dir=none -Dman3dir=none -Dusedevel -Accflags=-DPERL_HASH_FUNC_SDBM -Aeval:scriptdir=/home/vagrant/perl5/perlbrew/perls/5.21.10/bin'
    hint=recommended, useposix=true, d_sigaction=define
    useithreads=undef, usemultiplicity=undef
    use64bitint=define, use64bitall=define, uselongdouble=undef
    usemymalloc=n, bincompat5005=undef
  Compiler:
    cc='cc', ccflags ='-DPERL_HASH_FUNC_SDBM -fwrapv -fno-strict-aliasing -pipe -fstack-protector -D_LARGEFILE_SOURCE -D_FILE_OFFSET_BITS=64',
    optimize=' -O3 -march=native -mtune=native',
    cppflags='-DPERL_HASH_FUNC_SDBM -fwrapv -fno-strict-aliasing -pipe -fstack-protector'
    ccversion='', gccversion='4.8.4', gccosandvers=''
    intsize=4, longsize=8, ptrsize=8, doublesize=8, byteorder=12345678, doublekind=3
    d_longlong=define, longlongsize=8, d_longdbl=define, longdblsize=16, longdblkind=3
    ivtype='long', ivsize=8, nvtype='double', nvsize=8, Off_t='off_t', lseeksize=8
    alignbytes=8, prototype=define
  Linker and Libraries:
    ld='cc', ldflags =' -fstack-protector -L/usr/local/lib'
    libpth=/usr/lib/gcc/x86_64-pc-linux-gnu/4.8.4/include-fixed /usr/lib /usr/local/lib /lib/../lib64 /usr/lib/../lib64 /lib /lib64 /usr/lib64 /usr/local/lib64
    libs=-lpthread -lnsl -lgdbm -ldb -ldl -lm -lcrypt -lutil -lc -lgdbm_compat
    perllibs=-lpthread -lnsl -ldl -lm -lcrypt -lutil -lc
    libc=libc-2.20.so, so=so, useshrplib=false, libperl=libperl.a
    gnulibc_version='2.20'
  Dynamic Linking:
    dlsrc=dl_dlopen.xs, dlext=so, d_dlsymun=undef, ccdlflags='-Wl,-E'
    cccdlflags='-fPIC', lddlflags='-shared  -O3 -march=native -mtune=native -L/usr/local/lib -fstack-protector'


Characteristics of this binary (from libperl): 
  Compile-time options: HAS_TIMES PERLIO_LAYERS PERL_DONT_CREATE_GVSV
                        PERL_HASH_FUNC_SDBM PERL_MALLOC_WRAP
                        PERL_NEW_COPY_ON_WRITE PERL_PRESERVE_IVUV
                        PERL_USE_DEVEL USE_64_BIT_ALL USE_64_BIT_INT
                        USE_LARGE_FILES USE_LOCALE USE_LOCALE_COLLATE
                        USE_LOCALE_CTYPE USE_LOCALE_NUMERIC USE_LOCALE_TIME
                        USE_PERLIO USE_PERL_ATOF
  Built under linux
  Compiled at Apr 19 2015 03:51:39
  %ENV:
    PERL5LIB=""
    PERL5OPT=""
    PERL5_CPANPLUS_IS_RUNNING="27576"
    PERL5_CPAN_IS_RUNNING="27576"
    PERLBREW_BASHRC_VERSION="0.73"
    PERLBREW_HOME="/home/vagrant/.perlbrew"
    PERLBREW_MANPATH="/home/vagrant/perl5/perlbrew/perls/5.21.10/man"
    PERLBREW_PATH="/home/vagrant/perl5/perlbrew/bin:/home/vagrant/perl5/perlbrew/perls/5.21.10/bin"
    PERLBREW_PERL="5.21.10"
    PERLBREW_ROOT="/home/vagrant/perl5/perlbrew"
    PERLBREW_VERSION="0.73"
  @INC:
    /home/vagrant/perl5/perlbrew/perls/5.21.10/lib/site_perl/5.21.10/x86_64-linux
    /home/vagrant/perl5/perlbrew/perls/5.21.10/lib/site_perl/5.21.10
    /home/vagrant/perl5/perlbrew/perls/5.21.10/lib/5.21.10/x86_64-linux
    /home/vagrant/perl5/perlbrew/perls/5.21.10/lib/5.21.10
    .