Back
From: metabase:user:320bfe00-2aae-11df-837a-5e0a49663a4f
Subject: PASS Math-Random-Secure-0.06 v5.18.1 GNU/Linux
Date: 2014-08-02T06:05:35Z
This distribution has been tested as part of the CPAN Testers
project, supporting the Perl programming language. See
http://wiki.cpantesters.org/ for more information or email
questions to cpan-testers-discuss@perl.org
--
Dear Max Kanat-Alexander,
This is a computer-generated report for Math-Random-Secure-0.06
on perl 5.18.1, created by CPAN-Reporter-1.2011.
Thank you for uploading your work to CPAN. Congratulations!
All tests were successful.
Sections of this report:
* Tester comments
* Program output
* Prerequisites
* Environment and other context
------------------------------
TESTER COMMENTS
------------------------------
Additional comments from tester:
this report is from an automated smoke testing program
and was not reviewed by a human for accuracy
------------------------------
PROGRAM OUTPUT
------------------------------
Output from '/usr/bin/make test':
PERL_DL_NONLAZY=1 /home/sand/src/perl/repoperls/installed-perls/perl/v5.18.1/165a/bin/perl "-MExtUtils::Command::MM" "-MTest::Harness" "-e" "undef *Test::Harness::Switches; test_harness(0, 'blib/lib', 'blib/arch')" t/*.t
t/author-uniform.t ........ skipped: these tests are for testing by the author
t/compile.t ............... ok
t/memory.t ................ skipped: Test::LeakTrace required to test memory leaks
Class::MOP::load_class is deprecated at /home/sand/src/perl/repoperls/installed-perls/perl/v5.18.1/165a/lib/site_perl/5.18.1/x86_64-linux/Class/MOP.pm line 71.
Class::MOP::load_class('Crypt::Random::Source::Weak::devurandom') called at /home/sand/src/perl/repoperls/installed-perls/perl/v5.18.1/165a/lib/site_perl/5.18.1/Crypt/Random/Source/Factory.pm line 137
eval {...} called at /home/sand/src/perl/repoperls/installed-perls/perl/v5.18.1/165a/lib/site_perl/5.18.1/Crypt/Random/Source/Factory.pm line 137
Crypt::Random::Source::Factory::best_available('Crypt::Random::Source::Factory=HASH(0x24aa580)', 'Crypt::Random::Source::Weak::devurandom', 'Crypt::Random::Source::Weak::rand') called at /home/sand/src/perl/repoperls/installed-perls/perl/v5.18.1/165a/lib/site_perl/5.18.1/Crypt/Random/Source/Factory.pm line 50
Crypt::Random::Source::Factory::_build_weak_source('Crypt::Random::Source::Factory=HASH(0x24aa580)') called at accessor Crypt::Random::Source::Factory::weak_source (defined at /home/sand/src/perl/repoperls/installed-perls/perl/v5.18.1/165a/lib/site_perl/5.18.1/Crypt/Random/Source/Factory.pm line 40) line 10
Crypt::Random::Source::Factory::weak_source('Crypt::Random::Source::Factory=HASH(0x24aa580)') called at /home/sand/src/perl/repoperls/installed-perls/perl/v5.18.1/165a/lib/site_perl/5.18.1/Crypt/Random/Source/Factory.pm line 76
Crypt::Random::Source::Factory::_build_any_source('Crypt::Random::Source::Factory=HASH(0x24aa580)') called at accessor Crypt::Random::Source::Factory::any_source (defined at /home/sand/src/perl/repoperls/installed-perls/perl/v5.18.1/165a/lib/site_perl/5.18.1/Crypt/Random/Source/Factory.pm line 66) line 10
Crypt::Random::Source::Factory::any_source('Crypt::Random::Source::Factory=HASH(0x24aa580)') called at /home/sand/src/perl/repoperls/installed-perls/perl/v5.18.1/165a/lib/site_perl/5.18.1/x86_64-linux/Moose/Meta/Method/Delegation.pm line 95
Crypt::Random::Source::Factory::new_any('Crypt::Random::Source::Factory=HASH(0x24aa580)') called at /home/sand/src/perl/repoperls/installed-perls/perl/v5.18.1/165a/lib/site_perl/5.18.1/Crypt/Random/Source/Factory.pm line 27
Crypt::Random::Source::Factory::get('Crypt::Random::Source::Factory=HASH(0x24aa580)') called at /tmp/loop_over_bdir-13786-TdrdlT/Math-Random-Secure-0.06-dYze1H/blib/lib/Math/Random/Secure/RNG.pm line 60
Math::Random::Secure::RNG::_build_seeder('Math::Random::Secure::RNG=HASH(0x24aa460)') called at reader Math::Random::Secure::RNG::seeder (defined at /tmp/loop_over_bdir-13786-TdrdlT/Math-Random-Secure-0.06-dYze1H/blib/lib/Math/Random/Secure/RNG.pm line 15) line 7
Math::Random::Secure::RNG::seeder('Math::Random::Secure::RNG=HASH(0x24aa460)') called at /tmp/loop_over_bdir-13786-TdrdlT/Math-Random-Secure-0.06-dYze1H/blib/lib/Math/Random/Secure/RNG.pm line 71
Math::Random::Secure::RNG::_build_seed('Math::Random::Secure::RNG=HASH(0x24aa460)') called at accessor Math::Random::Secure::RNG::seed (defined at /tmp/loop_over_bdir-13786-TdrdlT/Math-Random-Secure-0.06-dYze1H/blib/lib/Math/Random/Secure/RNG.pm line 21) line 10
Math::Random::Secure::RNG::seed('Math::Random::Secure::RNG=HASH(0x24aa460)') called at /tmp/loop_over_bdir-13786-TdrdlT/Math-Random-Secure-0.06-dYze1H/blib/lib/Math/Random/Secure.pm line 60
Math::Random::Secure::srand() called at /tmp/loop_over_bdir-13786-TdrdlT/Math-Random-Secure-0.06-dYze1H/blib/lib/Math/Random/Secure.pm line 28
Math::Random::Secure::irand() called at /tmp/loop_over_bdir-13786-TdrdlT/Math-Random-Secure-0.06-dYze1H/blib/lib/Math/Random/Secure.pm line 22
Math::Random::Secure::rand(10) called at t/range.t line 22
t/range.t ................. ok
t/release-pod-coverage.t .. skipped: these tests are for release candidate testing
t/release-pod-syntax.t .... skipped: these tests are for release candidate testing
Class::MOP::load_class is deprecated at /home/sand/src/perl/repoperls/installed-perls/perl/v5.18.1/165a/lib/site_perl/5.18.1/x86_64-linux/Class/MOP.pm line 71.
Class::MOP::load_class('Crypt::Random::Source::Weak::devurandom') called at /home/sand/src/perl/repoperls/installed-perls/perl/v5.18.1/165a/lib/site_perl/5.18.1/Crypt/Random/Source/Factory.pm line 137
eval {...} called at /home/sand/src/perl/repoperls/installed-perls/perl/v5.18.1/165a/lib/site_perl/5.18.1/Crypt/Random/Source/Factory.pm line 137
Crypt::Random::Source::Factory::best_available('Crypt::Random::Source::Factory=HASH(0x261aa30)', 'Crypt::Random::Source::Weak::devurandom', 'Crypt::Random::Source::Weak::rand') called at /home/sand/src/perl/repoperls/installed-perls/perl/v5.18.1/165a/lib/site_perl/5.18.1/Crypt/Random/Source/Factory.pm line 50
Crypt::Random::Source::Factory::_build_weak_source('Crypt::Random::Source::Factory=HASH(0x261aa30)') called at accessor Crypt::Random::Source::Factory::weak_source (defined at /home/sand/src/perl/repoperls/installed-perls/perl/v5.18.1/165a/lib/site_perl/5.18.1/Crypt/Random/Source/Factory.pm line 40) line 10
Crypt::Random::Source::Factory::weak_source('Crypt::Random::Source::Factory=HASH(0x261aa30)') called at /home/sand/src/perl/repoperls/installed-perls/perl/v5.18.1/165a/lib/site_perl/5.18.1/Crypt/Random/Source/Factory.pm line 76
Crypt::Random::Source::Factory::_build_any_source('Crypt::Random::Source::Factory=HASH(0x261aa30)') called at accessor Crypt::Random::Source::Factory::any_source (defined at /home/sand/src/perl/repoperls/installed-perls/perl/v5.18.1/165a/lib/site_perl/5.18.1/Crypt/Random/Source/Factory.pm line 66) line 10
Crypt::Random::Source::Factory::any_source('Crypt::Random::Source::Factory=HASH(0x261aa30)') called at /home/sand/src/perl/repoperls/installed-perls/perl/v5.18.1/165a/lib/site_perl/5.18.1/x86_64-linux/Moose/Meta/Method/Delegation.pm line 95
Crypt::Random::Source::Factory::new_any('Crypt::Random::Source::Factory=HASH(0x261aa30)') called at /home/sand/src/perl/repoperls/installed-perls/perl/v5.18.1/165a/lib/site_perl/5.18.1/Crypt/Random/Source/Factory.pm line 27
Crypt::Random::Source::Factory::get('Crypt::Random::Source::Factory=HASH(0x261aa30)') called at /tmp/loop_over_bdir-13786-TdrdlT/Math-Random-Secure-0.06-dYze1H/blib/lib/Math/Random/Secure/RNG.pm line 60
Math::Random::Secure::RNG::_build_seeder('Math::Random::Secure::RNG=HASH(0x26071a8)') called at reader Math::Random::Secure::RNG::seeder (defined at /tmp/loop_over_bdir-13786-TdrdlT/Math-Random-Secure-0.06-dYze1H/blib/lib/Math/Random/Secure/RNG.pm line 15) line 7
Math::Random::Secure::RNG::seeder('Math::Random::Secure::RNG=HASH(0x26071a8)') called at /tmp/loop_over_bdir-13786-TdrdlT/Math-Random-Secure-0.06-dYze1H/blib/lib/Math/Random/Secure/RNG.pm line 71
Math::Random::Secure::RNG::_build_seed('Math::Random::Secure::RNG=HASH(0x26071a8)') called at accessor Math::Random::Secure::RNG::seed (defined at /tmp/loop_over_bdir-13786-TdrdlT/Math-Random-Secure-0.06-dYze1H/blib/lib/Math/Random/Secure/RNG.pm line 21) line 10
Math::Random::Secure::RNG::seed('Math::Random::Secure::RNG=HASH(0x26071a8)') called at /tmp/loop_over_bdir-13786-TdrdlT/Math-Random-Secure-0.06-dYze1H/blib/lib/Math/Random/Secure.pm line 60
Math::Random::Secure::srand() called at t/seed.t line 9
t/seed.t .................. ok
All tests successful.
Files=7, Tests=26, 3 wallclock secs ( 0.02 usr 0.00 sys + 1.89 cusr 0.10 csys = 2.01 CPU)
Result: PASS
------------------------------
PREREQUISITES
------------------------------
Prerequisite modules loaded:
requires:
Module Need Have
--------------------- ------ ------------
Any::Moose 0 0.24
Crypt::Random::Source 0.07 0.07
Math::Random::ISAAC v1.0.1 1.004
build_requires:
Module Need Have
--------------------- ------ ------------
List::MoreUtils 0 0.33
Test::More 0 1.301001_018
Test::Warn 0 0.30
------------------------------
ENVIRONMENT AND OTHER CONTEXT
------------------------------
Environment variables:
AUTOMATED_TESTING = 1
LANG = en_US.UTF-8
LANGUAGE = en_US:en
PATH = /usr/lib/ccache:/home/sand/bin:/usr/local/bin:/usr/bin:/bin:/usr/games:/usr/local/perl/bin:/usr/X11/bin:/sbin:/usr/sbin
PERL5LIB =
PERL5OPT =
PERL5_CPANPLUS_IS_RUNNING = 13787
PERL5_CPAN_IS_RUNNING = 13787
PERL_MM_USE_DEFAULT = 1
SHELL = /usr/bin/zsh
TERM = screen
Perl special variables (and OS-specific diagnostics, for MSWin32):
$^X = /home/sand/src/perl/repoperls/installed-perls/perl/v5.18.1/165a/bin/perl
$UID/$EUID = 1005 / 1005
$GID = 1005 1005
$EGID = 1005 1005
Perl module toolchain versions installed:
Module Have
------------------- ------------
CPAN 2.05
CPAN::Meta 2.142060
Cwd 3.47
ExtUtils::CBuilder 0.280216
ExtUtils::Command 1.17
ExtUtils::Install 1.59
ExtUtils::MakeMaker 6.98
ExtUtils::Manifest 1.63
ExtUtils::ParseXS 3.18
File::Spec 3.47
JSON 2.90
JSON::PP 2.27203
Module::Build 0.4206
Module::Signature 0.73
Parse::CPAN::Meta 1.4414
Test::Harness 3.32
Test::More 1.301001_018
YAML 0.98
YAML::Syck 1.27
version 0.9908
--
Summary of my perl5 (revision 5 version 18 subversion 1) configuration:
Commit id: 75c3005ee5b6ece3ad3c827cb300945f672c2bd1
Platform:
osname=linux, osvers=3.14-2-amd64, archname=x86_64-linux
uname='linux k83 3.14-2-amd64 #1 smp debian 3.14.13-2 (2014-07-24) x86_64 gnulinux '
config_args='-Dprefix=/home/sand/src/perl/repoperls/installed-perls/perl/v5.18.1/165a -Dmyhostname=k83 -Dinstallusrbinperl=n -Uversiononly -Dusedevel -des -Ui_db -Uuseithreads -Uuselongdouble -DDEBUGGING=-g'
hint=recommended, useposix=true, d_sigaction=define
useithreads=undef, usemultiplicity=undef
useperlio=define, d_sfio=undef, uselargefiles=define, usesocks=undef
use64bitint=define, use64bitall=define, uselongdouble=undef
usemymalloc=n, bincompat5005=undef
Compiler:
cc='cc', ccflags ='-fno-strict-aliasing -pipe -fstack-protector -I/usr/local/include -D_LARGEFILE_SOURCE -D_FILE_OFFSET_BITS=64',
optimize='-O2 -g',
cppflags='-fno-strict-aliasing -pipe -fstack-protector -I/usr/local/include'
ccversion='', gccversion='4.9.1', gccosandvers=''
intsize=4, longsize=8, ptrsize=8, doublesize=8, byteorder=12345678
d_longlong=define, longlongsize=8, d_longdbl=define, longdblsize=16
ivtype='long', ivsize=8, nvtype='double', nvsize=8, Off_t='off_t', lseeksize=8
alignbytes=8, prototype=define
Linker and Libraries:
ld='cc', ldflags =' -fstack-protector -L/usr/local/lib'
libpth=/usr/local/lib /lib/x86_64-linux-gnu /lib/../lib /usr/lib/x86_64-linux-gnu /usr/lib/../lib /lib /usr/lib
libs=-lnsl -lgdbm -ldb -ldl -lm -lcrypt -lutil -lc -lgdbm_compat
perllibs=-lnsl -ldl -lm -lcrypt -lutil -lc
libc=, so=so, useshrplib=false, libperl=libperl.a
gnulibc_version='2.19'
Dynamic Linking:
dlsrc=dl_dlopen.xs, dlext=so, d_dlsymun=undef, ccdlflags='-Wl,-E'
cccdlflags='-fPIC', lddlflags='-shared -O2 -g -L/usr/local/lib -fstack-protector'
Characteristics of this binary (from libperl):
Compile-time options: HAS_TIMES PERLIO_LAYERS PERL_DONT_CREATE_GVSV
PERL_HASH_FUNC_ONE_AT_A_TIME_HARD PERL_MALLOC_WRAP
PERL_PRESERVE_IVUV PERL_SAWAMPERSAND PERL_USE_DEVEL
USE_64_BIT_ALL USE_64_BIT_INT USE_LARGE_FILES
USE_LOCALE USE_LOCALE_COLLATE USE_LOCALE_CTYPE
USE_LOCALE_NUMERIC USE_PERLIO USE_PERL_ATOF
Built under linux
Compiled at Aug 1 2014 09:32:56
%ENV:
PERL5LIB=""
PERL5OPT=""
PERL5_CPANPLUS_IS_RUNNING="13787"
PERL5_CPAN_IS_RUNNING="13787"
PERL_MM_USE_DEFAULT="1"
@INC:
/home/sand/src/perl/repoperls/installed-perls/perl/v5.18.1/165a/lib/site_perl/5.18.1/x86_64-linux
/home/sand/src/perl/repoperls/installed-perls/perl/v5.18.1/165a/lib/site_perl/5.18.1
/home/sand/src/perl/repoperls/installed-perls/perl/v5.18.1/165a/lib/5.18.1/x86_64-linux
/home/sand/src/perl/repoperls/installed-perls/perl/v5.18.1/165a/lib/5.18.1
.